BEGIN:VCALENDAR
VERSION:2.0
PRODID:-//UM//UM*Events//EN
CALSCALE:GREGORIAN
BEGIN:VTIMEZONE
TZID:America/Detroit
TZURL:http://tzurl.org/zoneinfo/America/Detroit
X-LIC-LOCATION:America/Detroit
BEGIN:DAYLIGHT
TZOFFSETFROM:-0500
TZOFFSETTO:-0400
TZNAME:EDT
DTSTART:20070311T020000
RRULE:FREQ=YEARLY;BYMONTH=3;BYDAY=2SU
END:DAYLIGHT
BEGIN:STANDARD
TZOFFSETFROM:-0400
TZOFFSETTO:-0500
TZNAME:EST
DTSTART:20071104T020000
RRULE:FREQ=YEARLY;BYMONTH=11;BYDAY=1SU
END:STANDARD
END:VTIMEZONE
BEGIN:VEVENT
DTSTAMP:20230412T120004
DTSTART;TZID=America/Detroit:20230212T000000
DTEND;TZID=America/Detroit:20230212T235959
SUMMARY:Workshop / Seminar:Academy of Adventist Scholars Bible Study
DESCRIPTION:Academy of Adventist ScholarsFollowing the legacy of university scholars throughout Christian history\, we as Seventh-day Adventist university students join in the pursuit of an intelligent faith and depth of understanding of the Word of God to bring the same purpose and excellence to our faith as we bring to our academic careers. This 1-hour weekly “lunch and learn” will focus in-depth on scripture questions and doctrines. Led by church leaders and knowledgeable Bible students\, this midday study is perfect for the lunch hour\, beginning promptly at 12p and ending at 12:50p. Bring your own lunch\, journal\, and Bible. 
UID:99696-21805405@events.umich.edu
URL:https://events.umich.edu/event/99696
CLASS:PUBLIC
STATUS:CONFIRMED
CATEGORIES:
LOCATION:Palmer Commons
CONTACT:
END:VEVENT
BEGIN:VEVENT
DTSTAMP:20230412T120005
DTSTART;TZID=America/Detroit:20230212T000000
DTEND;TZID=America/Detroit:20230212T235959
SUMMARY:Workshop / Seminar:Academy of Adventist Scholars Bible Study
DESCRIPTION:Academy of Adventist ScholarsFollowing the legacy of university scholars throughout Christian history\, we as Seventh-day Adventist university students join in the pursuit of an intelligent faith and depth of understanding of the Word of God to bring the same purpose and excellence to our faith as we bring to our academic careers. This 1-hour weekly “lunch and learn” will focus in-depth on scripture questions and doctrines. Led by church leaders and knowledgeable Bible students\, this midday study is perfect for the lunch hour\, beginning promptly at 12p and ending at 12:50p. Bring your own lunch\, journal\, and Bible. 
UID:102927-21805498@events.umich.edu
URL:https://events.umich.edu/event/102927
CLASS:PUBLIC
STATUS:CONFIRMED
CATEGORIES:
LOCATION:Palmer Commons
CONTACT:
END:VEVENT
BEGIN:VEVENT
DTSTAMP:20230211T180116
DTSTART;TZID=America/Detroit:20230212T000000
DTEND;TZID=America/Detroit:20230212T200000
SUMMARY:Other:Butler University Tournament
DESCRIPTION:Butler University Tournament
UID:104236-21808701@events.umich.edu
URL:https://events.umich.edu/event/104236
CLASS:PUBLIC
STATUS:CONFIRMED
CATEGORIES:
LOCATION:Butler University
CONTACT:
END:VEVENT
BEGIN:VEVENT
DTSTAMP:20230324T120005
DTSTART;TZID=America/Detroit:20230212T000000
DTEND;TZID=America/Detroit:20230212T235959
SUMMARY:Community Service:Homework Help at The Children's Center
DESCRIPTION:The Homework Help program offers children assistance with their homework assignments. Children are encouraged to bring homework and are paired with a volunteer to assist them. This program is a critical service in helping children thrive. Volunteers give children the tools they need to be successful in school.Virtual and in-person volunteer opportunities are available. If you would like to volunteer\, please start the enrollment process by creating an account on the Children Center's Volunteer Site found HERE. After your account is created\, the Children's Center will reach out to you within 2 business days to answer any questions and discuss the next steps.In accordance with the CMS Vaccine Mandate\, those volunteering in-person at the Children’s Center are required to be fully vaccinated and must provide proof of full vaccination upon request.
UID:93885-21788093@events.umich.edu
URL:https://events.umich.edu/event/93885
CLASS:PUBLIC
STATUS:CONFIRMED
CATEGORIES:
LOCATION:The Children&#039;s Center 
CONTACT:
END:VEVENT
BEGIN:VEVENT
DTSTAMP:20230222T120027
DTSTART;TZID=America/Detroit:20230212T000000
DTEND;TZID=America/Detroit:20230212T235959
SUMMARY:Exercise / Fitness:Judo Training Session
DESCRIPTION:Wednesdays: Beginners 7-8 pm\, intermediate and advanced 8-9 pmSaturdays: Beginners 2-3 pm\, intermediate and advanced 3-4 pm Follow us on Instagramhttps://www.youtube.com/watch?v=IBva1YWaVK8&ab_channel=JudoHighlights
UID:103821-21807942@events.umich.edu
URL:https://events.umich.edu/event/103821
CLASS:PUBLIC
STATUS:CONFIRMED
CATEGORIES:
LOCATION:Ann Arbor/ Ypsilanti
CONTACT:
END:VEVENT
BEGIN:VEVENT
DTSTAMP:20230222T120027
DTSTART;TZID=America/Detroit:20230212T000000
DTEND;TZID=America/Detroit:20230212T235959
SUMMARY:Exercise / Fitness:Judo Training Session
DESCRIPTION:Wednesdays: Beginners 7-8 pm\, intermediate and advanced 8-9 pmSaturdays: Beginners 2-3 pm\, intermediate and advanced 3-4 pm Follow us on Instagramhttps://www.youtube.com/watch?v=IBva1YWaVK8&ab_channel=JudoHighlights
UID:103822-21807955@events.umich.edu
URL:https://events.umich.edu/event/103822
CLASS:PUBLIC
STATUS:CONFIRMED
CATEGORIES:
LOCATION:Ann Arbor/ Ypsilanti
CONTACT:
END:VEVENT
BEGIN:VEVENT
DTSTAMP:20230211T180106
DTSTART;TZID=America/Detroit:20230212T000000
DTEND;TZID=America/Detroit:20230212T234500
SUMMARY:Sporting Event:MSU Spartan Invitational
DESCRIPTION:Michigan State Spartan Invitational 
UID:103158-21806196@events.umich.edu
URL:https://events.umich.edu/event/103158
CLASS:PUBLIC
STATUS:CONFIRMED
CATEGORIES:
LOCATION:IM West Pool
CONTACT:
END:VEVENT
BEGIN:VEVENT
DTSTAMP:20230213T060011
DTSTART;TZID=America/Detroit:20230212T000000
DTEND;TZID=America/Detroit:20230212T235959
SUMMARY:Other:Queen City Tune Up
DESCRIPTION:yay frisbee!!
UID:101831-21802531@events.umich.edu
URL:https://events.umich.edu/event/101831
CLASS:PUBLIC
STATUS:CONFIRMED
CATEGORIES:
LOCATION:Manchester Meadows Soccer Complex
CONTACT:
END:VEVENT
BEGIN:VEVENT
DTSTAMP:20230213T120017
DTSTART;TZID=America/Detroit:20230212T000000
DTEND;TZID=America/Detroit:20230212T235959
SUMMARY:Other:Southern Collegiate Offshore Regatta (SCOR)
DESCRIPTION:Southern Collegiate Offshore Regatta (SCOR) - Keelboat Regatta
UID:103520-21807425@events.umich.edu
URL:https://events.umich.edu/event/103520
CLASS:PUBLIC
STATUS:CONFIRMED
CATEGORIES:
LOCATION:College of Charleston
CONTACT:
END:VEVENT
BEGIN:VEVENT
DTSTAMP:20230212T180027
DTSTART;TZID=America/Detroit:20230212T000000
DTEND;TZID=America/Detroit:20230212T235959
SUMMARY:Other:TSCHL Playoffs
DESCRIPTION:TSCHL Playoffs in Columbus\, OH
UID:104392-21808998@events.umich.edu
URL:https://events.umich.edu/event/104392
CLASS:PUBLIC
STATUS:CONFIRMED
CATEGORIES:
LOCATION:Chiller North
CONTACT:
END:VEVENT
BEGIN:VEVENT
DTSTAMP:20230212T180022
DTSTART;TZID=America/Detroit:20230212T090000
DTEND;TZID=America/Detroit:20230212T200000
SUMMARY:Sporting Event:Iowa 7's Tournament
DESCRIPTION:Hawkeye Classic - 7s Tournament @ U of Iowa
UID:103950-21808145@events.umich.edu
URL:https://events.umich.edu/event/103950
CLASS:PUBLIC
STATUS:CONFIRMED
CATEGORIES:
LOCATION:Hawkeye Tennis &amp; Recreation Complex
CONTACT:
END:VEVENT
BEGIN:VEVENT
DTSTAMP:20230212T181034
DTSTART;TZID=America/Detroit:20230212T093000
SUMMARY:Performance:Great Lakes Crossing Outlets
DESCRIPTION:Presented by The International Center. \nPlease visit https://mutotix.umich.edu/3851/3852 for more detail.
UID:104073-21808366@events.umich.edu
URL:https://events.umich.edu/event/104073
CLASS:PUBLIC
STATUS:CONFIRMED
CATEGORIES:Mutotix
LOCATION:GA - 100 Capacity
CONTACT:
END:VEVENT
BEGIN:VEVENT
DTSTAMP:20230127T121554
DTSTART;TZID=America/Detroit:20230212T100000
SUMMARY:Sporting Event:Men's Swimming & Diving vs First Chance Meet 
DESCRIPTION:Men's Swimming & Diving vs First Chance Meet 
UID:103451-21807204@events.umich.edu
URL:https://events.umich.edu/event/103451
CLASS:PUBLIC
STATUS:CONFIRMED
CATEGORIES:Athletics
LOCATION:Off Campus Location
CONTACT:
END:VEVENT
BEGIN:VEVENT
DTSTAMP:20230212T181557
DTSTART;TZID=America/Detroit:20230212T100000
SUMMARY:Sporting Event:Men's Swimming & Diving vs First Chance Meet 
DESCRIPTION:Men's Swimming & Diving vs First Chance Meet 
UID:104561-21809609@events.umich.edu
URL:https://events.umich.edu/event/104561
CLASS:PUBLIC
STATUS:CONFIRMED
CATEGORIES:Athletics
LOCATION:Off Campus Location
CONTACT:
END:VEVENT
BEGIN:VEVENT
DTSTAMP:20230213T123623
DTSTART;TZID=America/Detroit:20230212T100000
DTEND;TZID=America/Detroit:20230212T110000
SUMMARY:Exhibition:Select Works By James Charles  Morris
DESCRIPTION:An exhibition by James Charles Morris will be at Palmer Commons\, 4th Floor Atrium\, February 13 - March 10. \n\nAbout the Artist:\nJames Charles Morris (b. 1984)\, is a self-taught multidisciplinary artist\, who has engaged in the creative visual media  practices of photography\, collage\, painting\, and printmaking for 20 years. Morris has used his work to engage in various  social conversations addressing themes of race\, spirituality\, history\, mental wellness and community. As a native  Detroiter\, Morris has always had a fondness for his hometown\, which is evident in his work. \n\nMorris’ artistic influence began to manifest at a very early age\, as he took found objects from around his home and  created new works. However\, his familial connections also informed his development. Grandmother\, Dell Pryor\, a  gallerist in the city of Detroit across four decades\, exposed James to many emerging and master artists. Some of those  names that ultimately influenced and inspired Morris include Adger Cowans\, Hugh Grannum\, Lester Sloan\, Al Loving\,  Gilda Snowden\, Shirley Woodson\, Anthony Barboza\, and Eric Pryor among others. \n\nIn 2008\, Morris founded Definitive Style Exclusive (DSE Detroit)\, a brand that uses an array of visual statements and  designs created with a simple yet blunt approach to touch on difficult and controversial topics within our society. \n\nIn 2019\, Morris began developing an artistic style that combines collage\, photo montage\, and abstract expressionism.  This collage-montage style has led Morris to create a series of figurative works\, that have engaged many within the  artistic community.
UID:104713-21809990@events.umich.edu
URL:https://events.umich.edu/event/104713
CLASS:PUBLIC
STATUS:CONFIRMED
CATEGORIES:Art,Black History Month,Culture,Diversity Equity and Inclusion,Exhibition,Lloyd Scholars For Writing And The Arts,Palmercommons
LOCATION:Palmer Commons - 4th Floor Atrium
CONTACT:
END:VEVENT
BEGIN:VEVENT
DTSTAMP:20220818T100608
DTSTART;TZID=America/Detroit:20230212T100000
DTEND;TZID=America/Detroit:20230212T120000
SUMMARY:Ceremony / Service:Sunday Celebration
DESCRIPTION:The school year is about to begin! No matter your background\, join us in kicking off this season with new expectations and hope.\n\nJoin us at 10AM every Sunday to experience church in a fresh way as we worship and seek God together. We meet at the Transformation Center (1001 E. Huron St.) which is located across the street from the Rackham Auditorium and the Power Center.\n\nCurious? Check out our website at https://annarbor.hmcc.net/ to learn more about who we are and what we value.
UID:96832-21793834@events.umich.edu
URL:https://events.umich.edu/event/96832
CLASS:PUBLIC
STATUS:CONFIRMED
CATEGORIES:christian,christianity,church,faith,religious,spiritual,welcome week
LOCATION:Off Campus Location
CONTACT:
END:VEVENT
BEGIN:VEVENT
DTSTAMP:20230212T061557
DTSTART;TZID=America/Detroit:20230212T100000
SUMMARY:Sporting Event:Women's Swimming & Diving vs First Chance Meet 
DESCRIPTION:Women's Swimming & Diving vs First Chance Meet 
UID:104562-21809610@events.umich.edu
URL:https://events.umich.edu/event/104562
CLASS:PUBLIC
STATUS:CONFIRMED
CATEGORIES:Athletics
LOCATION:Off Campus Location
CONTACT:
END:VEVENT
BEGIN:VEVENT
DTSTAMP:20230111T091657
DTSTART;TZID=America/Detroit:20230212T110000
DTEND;TZID=America/Detroit:20230212T150000
SUMMARY:Other:A Splash of Microbe Science
DESCRIPTION:Tuesdays–Sundays\n11:00 a.m.–3:00 p.m.\nAges: 5 and up\n\nMicroorganisms\, or microscopic organisms\, live where no other life can live- like at the bottom of the ocean\, in geysers\, and in the Dead Sea.  But did you know your local ponds are also teeming with microbial life?  Roll up your sleeves and prepare to look at these pond water microbes using a microscope.  What types of microbes live in ponds\, and what purpose do they serve?  Get ready to draw\, color\, and identify microbes in this hands-on activity.
UID:103225-21806422@events.umich.edu
URL:https://events.umich.edu/event/103225
CLASS:PUBLIC
STATUS:CONFIRMED
CATEGORIES:Children,Family,Free,Museum,Natural Sciences
LOCATION:Museum of Natural History - Micro Worlds Lab
CONTACT:
END:VEVENT
BEGIN:VEVENT
DTSTAMP:20230501T090128
DTSTART;TZID=America/Detroit:20230212T110000
DTEND;TZID=America/Detroit:20230212T112000
SUMMARY:Presentation:Science Forum Discovery Demos
DESCRIPTION:Join us in the Science Forum for a 15-20 minute engaging science demonstration that will help you see the world in a whole new way. Demonstrations are free and appropriate for visitors ages 5 and above. Schedule subject to change.\n\nLife: How Do We Find It?\nDiscover how scientists search for life on other planets. Through experimentation\, you will learn about the field of astrobiology and re-evaluate the definition of 'life'. Help to recreate an experiment from the Mars Viking Landers expedition! Join us for this interactive demonstration!
UID:103226-21806443@events.umich.edu
URL:https://events.umich.edu/event/103226
CLASS:PUBLIC
STATUS:CONFIRMED
CATEGORIES:Children,Family,Free,Museum,Natural Sciences,Science
LOCATION:Museum of Natural History - Science Forum
CONTACT:
END:VEVENT
BEGIN:VEVENT
DTSTAMP:20240111T092357
DTSTART;TZID=America/Detroit:20230212T113000
DTEND;TZID=America/Detroit:20230212T121500
SUMMARY:Presentation:Sea Monsters
DESCRIPTION:The film follows a curious and adventurous Dolichorhynchops – familiarly known as a ‘dolly’ – as she travels through the most dangerous oceans in history. Along the way\, she encounters long-necked plesiosaurs\, giant turtles\, enormous fish\, fierce sharks\, and the most dangerous sea monster of all\, the mosasaur.\n\nThe state-of-the-art Planetarium & Dome Theater at the U-M Museum of Natural History transports visitors beyond distant stars and back in time from the comfort of reclining seats. Tickets $8. Tickets are available on the day of the show at the Museum Store.\n\nThe planetarium is operating at half capacity to maximize distancing between viewers.
UID:93123-21806462@events.umich.edu
URL:https://events.umich.edu/event/93123
CLASS:PUBLIC
STATUS:CONFIRMED
CATEGORIES:natural history museum,Natural Sciences,Science
LOCATION:Museum of Natural History
CONTACT:
END:VEVENT
BEGIN:VEVENT
DTSTAMP:20230127T125136
DTSTART;TZID=America/Detroit:20230212T120000
DTEND;TZID=America/Detroit:20230212T210000
SUMMARY:Social / Informal Gathering:Sunday Study Tables
DESCRIPTION:Join us in The Connector every Sunday during this semester to study and do homework!
UID:104147-21808514@events.umich.edu
URL:https://events.umich.edu/event/104147
CLASS:PUBLIC
STATUS:CONFIRMED
CATEGORIES:Study Night
LOCATION:The Connector
CONTACT:
END:VEVENT
BEGIN:VEVENT
DTSTAMP:20230212T181557
DTSTART;TZID=America/Detroit:20230212T120000
SUMMARY:Sporting Event:Wrestling vs Indiana
DESCRIPTION:Wrestling vs Indiana
UID:103446-21807195@events.umich.edu
URL:https://events.umich.edu/event/103446
CLASS:PUBLIC
STATUS:CONFIRMED
CATEGORIES:Athletics,Athletics - Wrestling
LOCATION:Cliff Keen Arena
CONTACT:
END:VEVENT
BEGIN:VEVENT
DTSTAMP:20230212T181558
DTSTART;TZID=America/Detroit:20230212T130000
SUMMARY:Sporting Event:Women's Basketball vs Nebraska
DESCRIPTION:Women's Basketball vs Nebraska
UID:103729-21807691@events.umich.edu
URL:https://events.umich.edu/event/103729
CLASS:PUBLIC
STATUS:CONFIRMED
CATEGORIES:Athletics,Athletics - Women's Basketball
LOCATION:Crisler Arena
CONTACT:
END:VEVENT
BEGIN:VEVENT
DTSTAMP:20230131T165614
DTSTART;TZID=America/Detroit:20230212T130000
DTEND;TZID=America/Detroit:20230212T140000
SUMMARY:Well-being:WSN Self-Love Sunday
DESCRIPTION:Join Wolverine Support Network for our Self-Love Sunday event on Sunday\, February 12th\, from 1-2 PM in Mason Hall Room 2455! Make a flower bouquet\, write self-love letters\, and have snacks with us. Open to all U-M students (in WSN or not)! \n\nHave questions? Reach out to WSNDirectors@umich.edu\n\nAdd the WSN Events Calendar at bit.ly/WSNEventsW23
UID:104318-21808819@events.umich.edu
URL:https://events.umich.edu/event/104318
CLASS:PUBLIC
STATUS:CONFIRMED
CATEGORIES:first-generation,Food,Free,Graduate,Graduate and Professional Students,Graduate Professional Student Life,Graduate School,Graduate Students,In Person,Inclusion,Mindfulness,Social,Social Impact,Student Affairs,Student Org,Transfer Students,Undergraduate,Undergraduate Students,Welcome to Michigan,Well-being,Wellbeing
LOCATION:Mason Hall - 2455
CONTACT:
END:VEVENT
BEGIN:VEVENT
DTSTAMP:20230309T110228
DTSTART;TZID=America/Detroit:20230212T133000
DTEND;TZID=America/Detroit:20230212T141500
SUMMARY:Presentation:Mars: One Thousand One
DESCRIPTION:Mars: One Thousand One tells a story of what humans might face with the first manned journey to Mars. Reporter Miles O'Brien is reporting live from his Space Headquarters TV Studio in New York while events unfold for the crew on their 1001-day long mission. You will witness firsthand their brave attempts to put human footprints on Mars and return safely to Earth. This journey is made possible by the biggest engineering feat ever and loaded with scientific experiments.\n\nThe state-of-the-art Planetarium & Dome Theater at the U-M Museum of Natural History transports visitors beyond distant stars and back in time from the comfort of reclining seats. Tickets $8. Tickets are available on the day of the show at the Museum Store.\n\nThe planetarium is operating at half capacity to maximize distancing between viewers.
UID:100073-21806501@events.umich.edu
URL:https://events.umich.edu/event/100073
CLASS:PUBLIC
STATUS:CONFIRMED
CATEGORIES:Astronomy,Family,natural history museum,Natural Sciences
LOCATION:Museum of Natural History
CONTACT:
END:VEVENT
BEGIN:VEVENT
DTSTAMP:20230124T181615
DTSTART;TZID=America/Detroit:20230212T140000
DTEND;TZID=America/Detroit:20230212T160000
SUMMARY:Other:Chamber Music Forum: Pacifica Quartet
DESCRIPTION:The Department of Chamber Music presents this masterclass with Pacifica Quartet.\nWith a career spanning nearly three decades\, the multiple Grammy Award-winning Pacifica Quartet has achieved international recognition as one of the finest chamber ensembles performing today. The Quartet is known for its virtuosity\, exuberant performance style\, and often-daring repertory choices. Named faculty string quartet-in-residence at the Indiana University Jacobs School of Music in 2012\, the Quartet was previously quartet-in-residence at the Metropolitan Museum of Art and most recently received its second Grammy Award for Best Chamber Music Performance for Contemporary Voices (2020)\, featuring the works of three Pulitzer Prize-winning women. The Quartet also leads the Center for Advanced Quartet Studies at the Aspen Music Festival and School.
UID:103765-21807783@events.umich.edu
URL:https://events.umich.edu/event/103765
CLASS:PUBLIC
STATUS:CONFIRMED
CATEGORIES:
LOCATION:Off Campus Location
CONTACT:
END:VEVENT
BEGIN:VEVENT
DTSTAMP:20230202T215105
DTSTART;TZID=America/Detroit:20230212T140000
DTEND;TZID=America/Detroit:20230212T160000
SUMMARY:Well-being:Midterms Destress Session
DESCRIPTION:Bursley Multicultural Center invites you to destress with us during this midterm exam season. We will have an array of fun\, calming activities to choose from\, tea\, and some sweets! Join us to chat and get to know other residents. All supplies are provided!
UID:104463-21809104@events.umich.edu
URL:https://events.umich.edu/event/104463
CLASS:PUBLIC
STATUS:CONFIRMED
CATEGORIES:Discussion,Diversity Equity and Inclusion,multicultural,Well-being
LOCATION:Bursley Hall - Bursley Creative Suite
CONTACT:
END:VEVENT
BEGIN:VEVENT
DTSTAMP:20230131T164541
DTSTART;TZID=America/Detroit:20230212T140000
DTEND;TZID=America/Detroit:20230212T150000
SUMMARY:Well-being:WSN Drop-In Support Group (In-Person)
DESCRIPTION:Join WSN for this drop-in peer-led support group! Come chat\, take care of your mental health\, and support others! Free\, no sign-up required\, and open to all U-M students.\n\nHave questions? Send a message to WSNDirectors@umich.edu.\n\nAdd the WSN Events Calendar at bit.ly/WSNEventsW23
UID:103979-21808180@events.umich.edu
URL:https://events.umich.edu/event/103979
CLASS:PUBLIC
STATUS:CONFIRMED
CATEGORIES:Discussion,first-generation,Free,Graduate,Graduate and Professional Students,Graduate Professional Student Life,Graduate School,Graduate Students,Health & Wellness,In Person,Inclusion,Mindfulness,Social,Social Impact,Social Justice,Student Affairs,Student Org,Undergraduate,Undergraduate Students,Welcome to Michigan,Well-being,Wellbeing
LOCATION:Michigan Union - IdeaHub McCarty-Bishop (2nd Floor)
CONTACT:
END:VEVENT
BEGIN:VEVENT
DTSTAMP:20230212T122034
DTSTART;TZID=America/Detroit:20230212T143000
DTEND;TZID=America/Detroit:20230212T170000
SUMMARY:Workshop / Seminar:Arts Ambassadors Crafternoon (Valentine's)
DESCRIPTION:Join the Arts Ambassadors for an afternoon of fun Valentine's themed crafts! Sun. Feb 12th  2:30-5 PM In the Michigan League (Kalamazoo Room 2nd Floor)
UID:104637-21809757@events.umich.edu
URL:https://events.umich.edu/event/104637
CLASS:PUBLIC
STATUS:CONFIRMED
CATEGORIES:Sessions
LOCATION:Michigan League Kalamazoo Room
CONTACT:
END:VEVENT
BEGIN:VEVENT
DTSTAMP:20230130T115259
DTSTART;TZID=America/Detroit:20230212T150000
SUMMARY:Performance:Mohammed El Kurd: Resisting Dispossession In Sheik Jarrah and Beyond
DESCRIPTION:This Palestine Awareness week\, join SAFE Umich for a momentous lecture on resisting dispossession with Mohammed El Kurd. Originally from Jerusalem in occupied Palestine\, Mohammed El Kurd is a writer\, poet\, and activist. He is the co-founder of the #SaveSheikhJarrah movement and\, in 2021\, he was named one of TIME Magazine’s “100 most influential people in the world.” His lecture will cover dispossession practices across Palestine\, focusing on Sheikh Jarrah\, Masafer Yatta\, the Naqab\, Jaffa\, and Silwan\, as well as the various resistance to them. His lecture will be followed by an audience question and answer session.\n\nPlease visit https://mutotix.umich.edu/3853/3854 for more detail.
UID:104177-21808561@events.umich.edu
URL:https://events.umich.edu/event/104177
CLASS:PUBLIC
STATUS:CONFIRMED
CATEGORIES:Mutotix
LOCATION:GA - Rackham
CONTACT:
END:VEVENT
BEGIN:VEVENT
DTSTAMP:20230301T090303
DTSTART;TZID=America/Detroit:20230212T150000
DTEND;TZID=America/Detroit:20230212T152000
SUMMARY:Presentation:Science Forum Demos
DESCRIPTION:Join us in the Science Forum for a 15-20 minute engaging science demonstration that will help you see the world in a whole new way. Demonstrations are free and appropriate for visitors ages 5 and above. Schedule subject to change.\n\nCow Eye Dissection\nHave you ever wondered how we see? To take a closer look at the organ that helps us see the world\, join UMMNH staff in dissecting a cow’s eye. How is it similar to and different from our eyes\, and those of other animals? Learn the parts of the eye and how they work together. While exploring the lens\, we’ll also talk about why some of us need glasses and how we can keep our eyes and our vision healthy.
UID:102009-21806450@events.umich.edu
URL:https://events.umich.edu/event/102009
CLASS:PUBLIC
STATUS:CONFIRMED
CATEGORIES:Children,Family,Free,Museum,Natural Sciences,Science
LOCATION:Museum of Natural History - Science Forum
CONTACT:
END:VEVENT
BEGIN:VEVENT
DTSTAMP:20230212T120008
DTSTART;TZID=America/Detroit:20230212T153000
DTEND;TZID=America/Detroit:20230212T173000
SUMMARY:Other:University of Michigan Women’s Ice Hockey vs Concordia - UM
DESCRIPTION:Home
UID:101017-21800674@events.umich.edu
URL:https://events.umich.edu/event/101017
CLASS:PUBLIC
STATUS:CONFIRMED
CATEGORIES:
LOCATION:Yost Ice Arena
CONTACT:
END:VEVENT
BEGIN:VEVENT
DTSTAMP:20230209T110040
DTSTART;TZID=America/Detroit:20230212T160000
DTEND;TZID=America/Detroit:20230212T200000
SUMMARY:Other:The Big Game
DESCRIPTION:Calling all football fans! Stop by a dining hall on February 12th for the big game Celebration\, complete with all your favorite tailgate foods!\n\nThis event is included with your residential meal plan. Those with block plans can use a meal swipe to enter. All other guests will pay the door rate to dine in the dining halls.
UID:104724-21810017@events.umich.edu
URL:https://events.umich.edu/event/104724
CLASS:PUBLIC
STATUS:CONFIRMED
CATEGORIES:Dinner,Food
LOCATION:
CONTACT:
END:VEVENT
BEGIN:VEVENT
DTSTAMP:20221018T121520
DTSTART;TZID=America/Detroit:20230212T160000
SUMMARY:Performance:University of Michigan Percussion Ensemble
DESCRIPTION:The University of Michigan Percussion Ensemble will perform.
UID:100390-21799695@events.umich.edu
URL:https://events.umich.edu/event/100390
CLASS:PUBLIC
STATUS:CONFIRMED
CATEGORIES:Free,Music,North Campus
LOCATION:Earl V. Moore Building - Britton Recital Hall
CONTACT:
END:VEVENT
BEGIN:VEVENT
DTSTAMP:20230127T120042
DTSTART;TZID=America/Detroit:20230212T190000
DTEND;TZID=America/Detroit:20230212T210000
SUMMARY:Social / Informal Gathering:Black History Month Dinner
DESCRIPTION:Join the Alice Lloyd DPE and Multicultural Council for a soul dinner in celebration of Black History Month. Stop by to grab a plate\, listen to some music\, or play a card game.
UID:104143-21808480@events.umich.edu
URL:https://events.umich.edu/event/104143
CLASS:PUBLIC
STATUS:CONFIRMED
CATEGORIES:Black History Month,Diversity Equity and Inclusion
LOCATION:Alice Lloyd Hall - Vicky Barner Lounge
CONTACT:
END:VEVENT
BEGIN:VEVENT
DTSTAMP:20230123T181624
DTSTART;TZID=America/Detroit:20230212T190000
DTEND;TZID=America/Detroit:20230212T200000
SUMMARY:Other:Megan Chow\, saxophone
DESCRIPTION:Saxophone student Megan Chow performs. 
UID:103064-21805829@events.umich.edu
URL:https://events.umich.edu/event/103064
CLASS:PUBLIC
STATUS:CONFIRMED
CATEGORIES:
LOCATION:Off Campus Location
CONTACT:
END:VEVENT
END:VCALENDAR