BEGIN:VCALENDAR
VERSION:2.0
PRODID:-//UM//UM*Events//EN
CALSCALE:GREGORIAN
BEGIN:VTIMEZONE
TZID:America/Detroit
TZURL:http://tzurl.org/zoneinfo/America/Detroit
X-LIC-LOCATION:America/Detroit
BEGIN:DAYLIGHT
TZOFFSETFROM:-0500
TZOFFSETTO:-0400
TZNAME:EDT
DTSTART:20070311T020000
RRULE:FREQ=YEARLY;BYMONTH=3;BYDAY=2SU
END:DAYLIGHT
BEGIN:STANDARD
TZOFFSETFROM:-0400
TZOFFSETTO:-0500
TZNAME:EST
DTSTART:20071104T020000
RRULE:FREQ=YEARLY;BYMONTH=11;BYDAY=1SU
END:STANDARD
END:VTIMEZONE
BEGIN:VEVENT
DTSTAMP:20230412T120004
DTSTART;TZID=America/Detroit:20230409T000000
DTEND;TZID=America/Detroit:20230409T235959
SUMMARY:Workshop / Seminar:Academy of Adventist Scholars Bible Study
DESCRIPTION:Academy of Adventist ScholarsFollowing the legacy of university scholars throughout Christian history\, we as Seventh-day Adventist university students join in the pursuit of an intelligent faith and depth of understanding of the Word of God to bring the same purpose and excellence to our faith as we bring to our academic careers. This 1-hour weekly “lunch and learn” will focus in-depth on scripture questions and doctrines. Led by church leaders and knowledgeable Bible students\, this midday study is perfect for the lunch hour\, beginning promptly at 12p and ending at 12:50p. Bring your own lunch\, journal\, and Bible. 
UID:99696-21805461@events.umich.edu
URL:https://events.umich.edu/event/99696
CLASS:PUBLIC
STATUS:CONFIRMED
CATEGORIES:
LOCATION:Palmer Commons
CONTACT:
END:VEVENT
BEGIN:VEVENT
DTSTAMP:20230412T120005
DTSTART;TZID=America/Detroit:20230409T000000
DTEND;TZID=America/Detroit:20230409T235959
SUMMARY:Workshop / Seminar:Academy of Adventist Scholars Bible Study
DESCRIPTION:Academy of Adventist ScholarsFollowing the legacy of university scholars throughout Christian history\, we as Seventh-day Adventist university students join in the pursuit of an intelligent faith and depth of understanding of the Word of God to bring the same purpose and excellence to our faith as we bring to our academic careers. This 1-hour weekly “lunch and learn” will focus in-depth on scripture questions and doctrines. Led by church leaders and knowledgeable Bible students\, this midday study is perfect for the lunch hour\, beginning promptly at 12p and ending at 12:50p. Bring your own lunch\, journal\, and Bible. 
UID:102927-21805554@events.umich.edu
URL:https://events.umich.edu/event/102927
CLASS:PUBLIC
STATUS:CONFIRMED
CATEGORIES:
LOCATION:Palmer Commons
CONTACT:
END:VEVENT
BEGIN:VEVENT
DTSTAMP:20230408T180016
DTSTART;TZID=America/Detroit:20230409T000000
DTEND;TZID=America/Detroit:20230409T210000
SUMMARY:Other:Away Series Vs Northwestern
DESCRIPTION:Nonconference Double-Header at Northwestern.
UID:107000-21815099@events.umich.edu
URL:https://events.umich.edu/event/107000
CLASS:PUBLIC
STATUS:CONFIRMED
CATEGORIES:
LOCATION:Caleb Field
CONTACT:
END:VEVENT
BEGIN:VEVENT
DTSTAMP:20230409T180008
DTSTART;TZID=America/Detroit:20230409T000000
DTEND;TZID=America/Detroit:20230409T235959
SUMMARY:Other:Club Tennis Nationals
DESCRIPTION:Tennis on Campus National Championships
UID:105754-21812891@events.umich.edu
URL:https://events.umich.edu/event/105754
CLASS:PUBLIC
STATUS:CONFIRMED
CATEGORIES:
LOCATION:Surprise Tennis and Racquet Complex
CONTACT:
END:VEVENT
BEGIN:VEVENT
DTSTAMP:20230410T120016
DTSTART;TZID=America/Detroit:20230409T000000
DTEND;TZID=America/Detroit:20230409T235959
SUMMARY:Other:Emily Wick Trophy
DESCRIPTION:Emily Wick Trophy
UID:107149-21815438@events.umich.edu
URL:https://events.umich.edu/event/107149
CLASS:PUBLIC
STATUS:CONFIRMED
CATEGORIES:
LOCATION:New London, CT
CONTACT:
END:VEVENT
BEGIN:VEVENT
DTSTAMP:20230408T180016
DTSTART;TZID=America/Detroit:20230409T000000
DTEND;TZID=America/Detroit:20230409T233000
SUMMARY:Other:George Washington Invitational
DESCRIPTION:The Team steals the Declaration of Independence.
UID:107109-21815319@events.umich.edu
URL:https://events.umich.edu/event/107109
CLASS:PUBLIC
STATUS:CONFIRMED
CATEGORIES:
LOCATION:Washington, D.C.
CONTACT:
END:VEVENT
BEGIN:VEVENT
DTSTAMP:20230408T120017
DTSTART;TZID=America/Detroit:20230409T000000
DTEND;TZID=America/Detroit:20230409T130000
SUMMARY:Other:Race at Marian University
DESCRIPTION:Race at Marian University. This event will be taking place on Saturday ONLY
UID:107053-21815209@events.umich.edu
URL:https://events.umich.edu/event/107053
CLASS:PUBLIC
STATUS:CONFIRMED
CATEGORIES:
LOCATION:Marian University
CONTACT:
END:VEVENT
BEGIN:VEVENT
DTSTAMP:20230530T133246
DTSTART;TZID=America/Detroit:20230409T010000
DTEND;TZID=America/Detroit:20230409T230000
SUMMARY:Class / Instruction:Summer Session in Epidemiology
DESCRIPTION:Summer Session in Epidemiology Courses Offered July 10 - July 28\, 2023\nhttps://sph.umich.edu/umsse/\n$50 late registration fee applies after May 31\, 2023\n\n2023 Courses can be taken Online or In-Person depending on the course. \nIn-Person courses will have a remote option as well (i.e. live attendance via Zoom). \nRegistration for 3 or more courses within a cluster receive 25% discount
UID:105658-21812602@events.umich.edu
URL:https://events.umich.edu/event/105658
CLASS:PUBLIC
STATUS:CONFIRMED
CATEGORIES:Education,Epidemiology,Professional Development,Virtual
LOCATION:Off Campus Location
CONTACT:
END:VEVENT
BEGIN:VEVENT
DTSTAMP:20230228T135023
DTSTART;TZID=America/Detroit:20230409T080000
DTEND;TZID=America/Detroit:20230409T230000
SUMMARY:Conference / Symposium:Become a UROP Symposium Judge
DESCRIPTION:Become a judge at our Research Symposium this upcoming spring on April 19th 2023. The Spring Symposium will host around 980 presenters across the U-M campus. Support this event by helping award blue ribbons to students who give outstanding research presentations.\n\nThanks for your interest in judging a session https://myumi.ch/ovPb9.
UID:105542-21812089@events.umich.edu
URL:https://events.umich.edu/event/105542
CLASS:PUBLIC
STATUS:CONFIRMED
CATEGORIES:AEM Featured,Engineering,Environment,Faculty,Free,Graduate and Professional Students,Humanities,Interdisciplinary,Leadership,Mentorship,Networking,Professional Development,Prospective Undergraduate Students,Public Health,Research,research data,Social Impact,Social Justice,Social Sciences,symposium,The College Of Literature\, Science\, And The Arts,Urop,Women's Studies
LOCATION:Off Campus Location
CONTACT:
END:VEVENT
BEGIN:VEVENT
DTSTAMP:20230224T145838
DTSTART;TZID=America/Detroit:20230409T090000
DTEND;TZID=America/Detroit:20230409T200000
SUMMARY:Exhibition:Early Astronomy in the University of Michigan Collections
DESCRIPTION:Trace how astronomy was developed\, studied\, and disseminated through the centuries\, from 1500 BCE to the Renaissance. On display is material drawn from the University of Michigan collections dealing with the history of early astronomy: manuscripts\, early printed books\, and artifacts illustrating Mesopotamian\, Greek\, Islamic\, and Western European astronomy.\n\nThis exhibit and its permanent online counterpart (https://umlib.us/earlyastronomy) are part of the Aratus Project\, which was sponsored by the National Science Foundation and led by Prof. Francesca Schironi. The core of the project has been to study Aratus’ \"Phaenomena\,\" the most important poem on stars and constellations of the Graeco-Roman ancient world\, and its exegetical tradition. Read an annotated edition and English translation of \"Phaenomena\" and its commentaries (https://aratus.classics.lsa.umich.edu/). The physical and online exhibits place this research work within its later intellectual and historical context.\n\nCurated by: John Steele\, Professor of the History of the Exact Sciences in Antiquity\, Department of Egyptology and Assyriology\, Brown University\; Francesca Schironi\, U-M Professor of Classical Studies\; Evyn Kropf\, U-M Librarian for Middle Eastern & North African Studies\; Pablo Alvarez\, U-M Curator (Special Collections Research Center).\n\nCheck Hatcher Gallery Exhibit Room hours: https://myumi.ch/2mx44
UID:101826-21811802@events.umich.edu
URL:https://events.umich.edu/event/101826
CLASS:PUBLIC
STATUS:CONFIRMED
CATEGORIES:Astronomy,Free,Library
LOCATION:Hatcher Graduate Library - Hatcher Gallery Exhibit Room
CONTACT:
END:VEVENT
BEGIN:VEVENT
DTSTAMP:20230301T200953
DTSTART;TZID=America/Detroit:20230409T100000
DTEND;TZID=America/Detroit:20230409T170000
SUMMARY:Exhibition:Humanize the Numbers
DESCRIPTION:Prison Creative Arts Project presents an exhibition of collaborative photography at the Detroit Historical Museum (5401 Woodward Ave. in Detroit)\, open now through May 21st.\n\nA public reception will be held on March 9th\, 6:00–9:00 PM\, with a panel of previous workshop participants at 7:00 PM.\n\nWe hope you will be able to see the exhibit\, and please be in touch if you have any questions.\n\nHumanize the Numbers shows the perspectives of men in Michigan prisons. The prison system regulates every part of an inmate's identity. Instead of using their name\, they are given an ID number. Visiting room photos and mug shots are tightly regulated. Personal info is recorded: height\, weight\, etc. In the process\, their humanity is denied.\n\nThis exhibit at the Detroit Historical Museum reveals the faces and stories of those in prison. It lifts up the voices of those who have been silenced by the criminal legal system. The Humanize the Numbers project gives them a freedom not normally allowed in prison. They share their stories with the world outside. By doing so\, those in prison reclaim their humanity.\n\nMuseum hours\nThursdays–Saturdays: 10:00 AM–5:00PM \nSundays: 1:00–5:00 PM
UID:105623-21812483@events.umich.edu
URL:https://events.umich.edu/event/105623
CLASS:PUBLIC
STATUS:CONFIRMED
CATEGORIES:27th Annual Exhibition
LOCATION:Off Campus Location - Detroit Historical Museum
CONTACT:
END:VEVENT
BEGIN:VEVENT
DTSTAMP:20220818T100608
DTSTART;TZID=America/Detroit:20230409T100000
DTEND;TZID=America/Detroit:20230409T120000
SUMMARY:Ceremony / Service:Sunday Celebration
DESCRIPTION:The school year is about to begin! No matter your background\, join us in kicking off this season with new expectations and hope.\n\nJoin us at 10AM every Sunday to experience church in a fresh way as we worship and seek God together. We meet at the Transformation Center (1001 E. Huron St.) which is located across the street from the Rackham Auditorium and the Power Center.\n\nCurious? Check out our website at https://annarbor.hmcc.net/ to learn more about who we are and what we value.
UID:96832-21793842@events.umich.edu
URL:https://events.umich.edu/event/96832
CLASS:PUBLIC
STATUS:CONFIRMED
CATEGORIES:christian,christianity,church,faith,religious,spiritual,welcome week
LOCATION:Off Campus Location
CONTACT:
END:VEVENT
BEGIN:VEVENT
DTSTAMP:20230601T141842
DTSTART;TZID=America/Detroit:20230409T100000
DTEND;TZID=America/Detroit:20230409T160000
SUMMARY:Exhibition:UN/EARTH
DESCRIPTION:Featuring work by Gina Gibson\, UN/EARTH explores science and art from a mile underground. Located in the former Homestake gold mine in Lead\, South Dakota\, the Sanford Underground Research Facility (SURF) houses experiments that give us a better understanding of the universe. The location—deep underground—provides a near-perfect environment for experiments that need to escape the constant bombardment of cosmic radiation\, which can interfere with the detection of rare physics events. Built in collaboration with the University of Michigan\, the LUX-Zeplin is the world’s most sensitive dark matter experiment. SURF also hosts experiments in biology\, geology and engineering.\n\nGina Gibson is an internationally exhibiting artist and professor of Graphic Design at Black Hills State University. In 2019\, Gibson became the first artist in residence at the Sanford Underground Research Facility. Gibson's work celebrates the search deep below the surface for beauty in the old and new\, the light and dark\, and the known and unknown.\n\nUN/EARTH was developed in collaboration with the U-M Department of Physics\, the Sanford Underground Research Facility and Black Hills State University.
UID:105121-21810844@events.umich.edu
URL:https://events.umich.edu/event/105121
CLASS:PUBLIC
STATUS:CONFIRMED
CATEGORIES:Art,Culture,Exhibition,Free,Museum,Natural Sciences,Science,Visual Arts
LOCATION:Museum of Natural History
CONTACT:
END:VEVENT
BEGIN:VEVENT
DTSTAMP:20230111T091657
DTSTART;TZID=America/Detroit:20230409T110000
DTEND;TZID=America/Detroit:20230409T150000
SUMMARY:Other:A Splash of Microbe Science
DESCRIPTION:Tuesdays–Sundays\n11:00 a.m.–3:00 p.m.\nAges: 5 and up\n\nMicroorganisms\, or microscopic organisms\, live where no other life can live- like at the bottom of the ocean\, in geysers\, and in the Dead Sea.  But did you know your local ponds are also teeming with microbial life?  Roll up your sleeves and prepare to look at these pond water microbes using a microscope.  What types of microbes live in ponds\, and what purpose do they serve?  Get ready to draw\, color\, and identify microbes in this hands-on activity.
UID:103225-21813424@events.umich.edu
URL:https://events.umich.edu/event/103225
CLASS:PUBLIC
STATUS:CONFIRMED
CATEGORIES:Children,Family,Free,Museum,Natural Sciences
LOCATION:Museum of Natural History
CONTACT:
END:VEVENT
BEGIN:VEVENT
DTSTAMP:20230501T085931
DTSTART;TZID=America/Detroit:20230409T110000
DTEND;TZID=America/Detroit:20230409T112000
SUMMARY:Presentation:Science Forum Discovery Demos
DESCRIPTION:Join us in the Science Forum for a 15-20 minute engaging science demonstration that will help you see the world in a whole new way. Demonstrations are free and appropriate for visitors ages 5 and above. Schedule subject to change.\n\nShedding Light on Magnets:\nWhat makes a magnet magnetic? Why do they stick together? Join us as we explore magnetism\, magnetic fields\, and even what that has to do with your cell phone. We will highlight how researchers use light to study the magnetism of new materials. \n\nMade possible by a grant from the National Science Foundation.
UID:105118-21813462@events.umich.edu
URL:https://events.umich.edu/event/105118
CLASS:PUBLIC
STATUS:CONFIRMED
CATEGORIES:Children,Family,Free,Museum,Natural Sciences,Science
LOCATION:Museum of Natural History
CONTACT:
END:VEVENT
BEGIN:VEVENT
DTSTAMP:20231215T075100
DTSTART;TZID=America/Detroit:20230409T113000
DTEND;TZID=America/Detroit:20230409T121500
SUMMARY:Presentation:Did An Asteroid Really Kill The Dinosaurs?
DESCRIPTION:Did a space rock six miles wide slam into the Earth 66 million years ago and wipe out 75 percent of all living species at that time\, including the dinosaurs? Cosmic collisions are abundant in our solar system. See the numerous craters on worlds like the moon\, Mars\, and even distant Pluto.\n\nThe state-of-the-art Planetarium & Dome Theater at the U-M Museum of Natural History transports visitors beyond distant stars and back in time from the comfort of reclining seats. Tickets $8. Tickets are available on the day of the show at the Museum Store.
UID:105124-21813486@events.umich.edu
URL:https://events.umich.edu/event/105124
CLASS:PUBLIC
STATUS:CONFIRMED
CATEGORIES:Astronomy,Museum,Natural Sciences
LOCATION:Museum of Natural History
CONTACT:
END:VEVENT
BEGIN:VEVENT
DTSTAMP:20230403T121541
DTSTART;TZID=America/Detroit:20230409T120000
SUMMARY:Sporting Event:Baseball vs Nebraska
DESCRIPTION:Baseball vs Nebraska
UID:106412-21814198@events.umich.edu
URL:https://events.umich.edu/event/106412
CLASS:PUBLIC
STATUS:CONFIRMED
CATEGORIES:Athletics,Athletics - Baseball
LOCATION:Ray Fisher Baseball Stadium
CONTACT:
END:VEVENT
BEGIN:VEVENT
DTSTAMP:20230409T121542
DTSTART;TZID=America/Detroit:20230409T120000
SUMMARY:Sporting Event:Baseball vs Nebraska
DESCRIPTION:Baseball vs Nebraska
UID:107166-21815569@events.umich.edu
URL:https://events.umich.edu/event/107166
CLASS:PUBLIC
STATUS:CONFIRMED
CATEGORIES:Athletics,Athletics - Baseball
LOCATION:Ray Fisher Baseball Stadium
CONTACT:
END:VEVENT
BEGIN:VEVENT
DTSTAMP:20230409T121542
DTSTART;TZID=America/Detroit:20230409T120000
SUMMARY:Sporting Event:Men's Tennis vs Ohio State
DESCRIPTION:Men's Tennis vs Ohio State
UID:106411-21814197@events.umich.edu
URL:https://events.umich.edu/event/106411
CLASS:PUBLIC
STATUS:CONFIRMED
CATEGORIES:Athletics,Athletics - Men's Tennis
LOCATION:Varsity Tennis Bldg
CONTACT:
END:VEVENT
BEGIN:VEVENT
DTSTAMP:20230403T100002
DTSTART;TZID=America/Detroit:20230409T120000
DTEND;TZID=America/Detroit:20230409T220000
SUMMARY:Social / Informal Gathering:Study Tables
DESCRIPTION:Study in the Connector with the Community Center Assistants! Study Tables will end on Wednesday\, April 26 at 3 PM.
UID:107128-21815389@events.umich.edu
URL:https://events.umich.edu/event/107128
CLASS:PUBLIC
STATUS:CONFIRMED
CATEGORIES:Diversity Equity and Inclusion,free,Study Night
LOCATION:The Connector
CONTACT:
END:VEVENT
BEGIN:VEVENT
DTSTAMP:20230127T125136
DTSTART;TZID=America/Detroit:20230409T120000
DTEND;TZID=America/Detroit:20230409T210000
SUMMARY:Social / Informal Gathering:Sunday Study Tables
DESCRIPTION:Join us in The Connector every Sunday during this semester to study and do homework!
UID:104147-21808522@events.umich.edu
URL:https://events.umich.edu/event/104147
CLASS:PUBLIC
STATUS:CONFIRMED
CATEGORIES:Study Night
LOCATION:The Connector
CONTACT:
END:VEVENT
BEGIN:VEVENT
DTSTAMP:20230328T181634
DTSTART;TZID=America/Detroit:20230409T120000
DTEND;TZID=America/Detroit:20230409T130000
SUMMARY:Other:William Lee\, voice
DESCRIPTION:Undergraduate student William Lee performs.
UID:106911-21814991@events.umich.edu
URL:https://events.umich.edu/event/106911
CLASS:PUBLIC
STATUS:CONFIRMED
CATEGORIES:
LOCATION:Off Campus Location
CONTACT:
END:VEVENT
BEGIN:VEVENT
DTSTAMP:20230328T181634
DTSTART;TZID=America/Detroit:20230409T123000
DTEND;TZID=America/Detroit:20230409T133000
SUMMARY:Other:Marin Osawa\, violin
DESCRIPTION:Graduate student Marin Osawa performs.
UID:106912-21814992@events.umich.edu
URL:https://events.umich.edu/event/106912
CLASS:PUBLIC
STATUS:CONFIRMED
CATEGORIES:
LOCATION:Off Campus Location
CONTACT:
END:VEVENT
BEGIN:VEVENT
DTSTAMP:20230409T120018
DTSTART;TZID=America/Detroit:20230409T130000
DTEND;TZID=America/Detroit:20230409T140000
SUMMARY:Other:Star Wars Lore Talks: Celebration
DESCRIPTION:Come join some fellow Star Wars fanS and talk about the future of star wars and the announcements from Star Wars Celebration!\n
UID:107116-21815357@events.umich.edu
URL:https://events.umich.edu/event/107116
CLASS:PUBLIC
STATUS:CONFIRMED
CATEGORIES:
LOCATION:Mason Hall
CONTACT:
END:VEVENT
BEGIN:VEVENT
DTSTAMP:20230309T095527
DTSTART;TZID=America/Detroit:20230409T133000
DTEND;TZID=America/Detroit:20230409T141500
SUMMARY:Presentation:Living in Balance
DESCRIPTION:Narrated by Native Skywatchers\, Living In Balance shares Anishinaabe stories of constellations and moons in relation to contemporary insights. Includes a short live star talk.\n\nThe state-of-the-art Planetarium & Dome Theater at the U-M Museum of Natural History transports visitors beyond distant stars and back in time from the comfort of reclining seats. Tickets $8. Tickets are available on the day of the show at the Museum Store.
UID:105125-21813528@events.umich.edu
URL:https://events.umich.edu/event/105125
CLASS:PUBLIC
STATUS:CONFIRMED
CATEGORIES:Astronomy,Museum,Natural Sciences
LOCATION:Museum of Natural History
CONTACT:
END:VEVENT
BEGIN:VEVENT
DTSTAMP:20220918T181513
DTSTART;TZID=America/Detroit:20230409T140000
SUMMARY:Performance:Everybody
DESCRIPTION:A modern interpretation of \"Everyman\,\" one of the first plays on record. \nWritten by Obie Award winner Brendan Jacobs-Jenkins (Octoroon). Directed by Andrew White.
UID:95745-21790858@events.umich.edu
URL:https://events.umich.edu/event/95745
CLASS:PUBLIC
STATUS:CONFIRMED
CATEGORIES:North Campus,Theater
LOCATION:Walgreen Drama Center - Arthur Miller Theatre
CONTACT:
END:VEVENT
BEGIN:VEVENT
DTSTAMP:20230324T181649
DTSTART;TZID=America/Detroit:20230409T140000
DTEND;TZID=America/Detroit:20230409T170000
SUMMARY:Performance:Everybody
DESCRIPTION:A modern spin on “Everyman\,” the classic inquiry of life\, love\, and death (and one of the first plays on record).\nFeaturing a different cast (chosen by lottery) at every performance!\nWritten by Obie Award winner Brendan Jacobs-Jenkins (“Octoroon”). Directed by Andrew White (from the Lookingglass Theatre in Chicago). \n*This play contains adult language and content. Audience discretion is advised.* 
UID:105906-21813249@events.umich.edu
URL:https://events.umich.edu/event/105906
CLASS:PUBLIC
STATUS:CONFIRMED
CATEGORIES:
LOCATION:Off Campus Location
CONTACT:
END:VEVENT
BEGIN:VEVENT
DTSTAMP:20230328T181634
DTSTART;TZID=America/Detroit:20230409T140000
DTEND;TZID=America/Detroit:20230409T150000
SUMMARY:Other:Jingjing Wan\, piano
DESCRIPTION:Graduate student Jingjing Wan performs.
UID:106913-21814993@events.umich.edu
URL:https://events.umich.edu/event/106913
CLASS:PUBLIC
STATUS:CONFIRMED
CATEGORIES:
LOCATION:Off Campus Location
CONTACT:
END:VEVENT
BEGIN:VEVENT
DTSTAMP:20230309T095246
DTSTART;TZID=America/Detroit:20230409T140000
DTEND;TZID=America/Detroit:20230409T142000
SUMMARY:Presentation:Science Forum Presentations
DESCRIPTION:Meet a scientist this weekend! Chat with a scientist about their cutting-edge research\, in the museum’s Science Forum presentation space. Drop in to hear short 15-minute interactive presentations from researchers across many disciplines\, from immunology to anthropology\, from biology to engineering. Stay for the Q & A and get your dose of science today! Appropriate for ages 8 and above. Schedule subject to change.
UID:105992-21813472@events.umich.edu
URL:https://events.umich.edu/event/105992
CLASS:PUBLIC
STATUS:CONFIRMED
CATEGORIES:Anthropology,Biology,Engineering,Free,Museum,Natural Sciences
LOCATION:Museum of Natural History
CONTACT:
END:VEVENT
BEGIN:VEVENT
DTSTAMP:20230409T121543
DTSTART;TZID=America/Detroit:20230409T140000
SUMMARY:Sporting Event:Softball vs Illinois
DESCRIPTION:Softball vs Illinois
UID:106413-21814199@events.umich.edu
URL:https://events.umich.edu/event/106413
CLASS:PUBLIC
STATUS:CONFIRMED
CATEGORIES:Athletics,Athletics - Softball
LOCATION:Alumni Field
CONTACT:
END:VEVENT
BEGIN:VEVENT
DTSTAMP:20230409T122015
DTSTART;TZID=America/Detroit:20230409T140000
DTEND;TZID=America/Detroit:20230409T150000
SUMMARY:Workshop / Seminar:The YBMen Cabin Series - Winter 2023
DESCRIPTION:A pop-up coffee and tea event starting Winter term 2023 aimed at attracting black men to think about\, discuss and expand their views on wellness while enjoying a cup of coffee or tea. Hosted at a local coffee/tea shop\, a YBMen facilitator will sit for an hour and engage in conversations with other black men (undergraduate and graduate) around current events to intentionally hold space. Additionally\, each participant will be given rewards and YBMen gear for attending future events and/or attending partner wellness events.  \n
UID:103068-21805837@events.umich.edu
URL:https://events.umich.edu/event/103068
CLASS:PUBLIC
STATUS:CONFIRMED
CATEGORIES:Sessions
LOCATION:
CONTACT:
END:VEVENT
BEGIN:VEVENT
DTSTAMP:20230319T004401
DTSTART;TZID=America/Detroit:20230409T140000
DTEND;TZID=America/Detroit:20230409T150000
SUMMARY:Well-being:WSN Drop-In Support Group
DESCRIPTION:Join WSN for this drop-in peer-led support group! Come chat\, take care of your mental health\, and support others! Free\, no sign-up required\, and open to all U-M students - just join the Zoom at the scheduled time.\n\nhttps://umich.zoom.us/j/94425387819\n\nHave questions? Send a message to WSNDirectors@umich.edu.\n\nAdd the WSN Events Calendar at bit.ly/WSNEventsW23
UID:105006-21810576@events.umich.edu
URL:https://events.umich.edu/event/105006
CLASS:PUBLIC
STATUS:CONFIRMED
CATEGORIES:Community,Free,Graduate,Graduate and Professional Students,Graduate Professional Student Life,Graduate School,Graduate Students,Health & Wellness,Mental Health,Mindfulness,Social,Social Impact,Student Affairs,Student Org,Transfer Students,Undergraduate,Undergraduate Students,Virtual,Welcome to Michigan,Well-being,Wellbeing
LOCATION:Off Campus Location
CONTACT:
END:VEVENT
BEGIN:VEVENT
DTSTAMP:20230328T181635
DTSTART;TZID=America/Detroit:20230409T150000
DTEND;TZID=America/Detroit:20230409T160000
SUMMARY:Other:Madeleine Buckley\, voice
DESCRIPTION:Graduate student Madeleine Buckley performs.
UID:106914-21814994@events.umich.edu
URL:https://events.umich.edu/event/106914
CLASS:PUBLIC
STATUS:CONFIRMED
CATEGORIES:
LOCATION:Off Campus Location
CONTACT:
END:VEVENT
BEGIN:VEVENT
DTSTAMP:20230501T090128
DTSTART;TZID=America/Detroit:20230409T150000
DTEND;TZID=America/Detroit:20230409T152000
SUMMARY:Presentation:Science Forum Discovery Demos
DESCRIPTION:Join us in the Science Forum for a 15-20 minute engaging science demonstration that will help you see the world in a whole new way. Demonstrations are free and appropriate for visitors ages 5 and above. Schedule subject to change.\n\nLife: How Do We Find It?\nDiscover how scientists search for life on other planets. Through experimentation\, you will learn about the field of astrobiology and re-evaluate the definition of 'life'. Help to recreate an experiment from the Mars Viking Landers expedition! Join us for this interactive demonstration!
UID:103226-21813452@events.umich.edu
URL:https://events.umich.edu/event/103226
CLASS:PUBLIC
STATUS:CONFIRMED
CATEGORIES:Children,Family,Free,Museum,Natural Sciences,Science
LOCATION:Museum of Natural History
CONTACT:
END:VEVENT
BEGIN:VEVENT
DTSTAMP:20230328T181635
DTSTART;TZID=America/Detroit:20230409T163000
DTEND;TZID=America/Detroit:20230409T173000
SUMMARY:Other:Minseo Kim\, flute
DESCRIPTION:Graduate student Minseo Kim performs.
UID:106915-21814995@events.umich.edu
URL:https://events.umich.edu/event/106915
CLASS:PUBLIC
STATUS:CONFIRMED
CATEGORIES:
LOCATION:Off Campus Location
CONTACT:
END:VEVENT
BEGIN:VEVENT
DTSTAMP:20230328T181636
DTSTART;TZID=America/Detroit:20230409T173000
DTEND;TZID=America/Detroit:20230409T183000
SUMMARY:Other:Zih-Syuan Hsiang\, clarinet
DESCRIPTION:Graduate student Zih-Syuan Hsiang performs.
UID:106916-21814996@events.umich.edu
URL:https://events.umich.edu/event/106916
CLASS:PUBLIC
STATUS:CONFIRMED
CATEGORIES:
LOCATION:Off Campus Location
CONTACT:
END:VEVENT
BEGIN:VEVENT
DTSTAMP:20230331T001509
DTSTART;TZID=America/Detroit:20230409T180000
DTEND;TZID=America/Detroit:20230409T210000
SUMMARY:Exhibition:Caroline Sinders: Intertwined Intimacy
DESCRIPTION:Intertwined Intimacy is a series of architectural sculptures ruminating on privacy and intimacy\, and how the infrastructure of visible and invisible spaces influences communities\, communications\, and safety. \nThis work stems from artist Caroline Sinders&#039\; previous work combining research driven art and human rights analysis that responds to current technology systems by focusing on how the design of &#039\;infrastructural&#039\; and &#039\;architectural&#039\; spaces\, both online and offline\, impacts safety. By focusing on prototypian futures\, Intertwined Intimacy observes impacts through public infrastructure\, and open\, digital commons inspired by mutual aid and open source technology. To generate this research\, Sinders analyzed how structures\, metaphors and engagements of privacy and security within technology impact mental models The sculptures create a labyrinth\, allowing for a space of reflection and consideration for the audience\, as the sculptures slowly become more and more opaque\, offering areas of hidden solitude and refuge.\nCaroline Sinders is the 2023 Roman J. Witt Artist in Residence. This annual international competition awards one residency per academic year to a visiting artist/designer who proposes to develop a new work in collaboration with members of the Penny W. Stamps School of Art &amp\; Design and the University of Michigan community. Learn more about Sinders&#039\; residency and practice in this Q&amp\;A.\nSinders is an award winning critical designer\, researcher\, and artist. She is the founder of human rights and design lab\, Convocation Research + Design. For the past few years\, she has been examining the intersections of artificial intelligence\, intersectional justice\, systems design\, harm\, and politics in digital conversational spaces and technology platforms. She has worked with the Tate Exchange at the Tate Modern\, the United Nations\,the European Commission\, Ars Electronica\, the Harvard Kennedy School and others. Sinders is currently based between London\, UK and New Orleans\, USA.
UID:107057-21815221@events.umich.edu
URL:https://events.umich.edu/event/107057
CLASS:PUBLIC
STATUS:CONFIRMED
CATEGORIES:Art
LOCATION:Off Campus Location
CONTACT:
END:VEVENT
BEGIN:VEVENT
DTSTAMP:20230407T121705
DTSTART;TZID=America/Detroit:20230409T180000
DTEND;TZID=America/Detroit:20230409T193000
SUMMARY:Other:Timothy Zajdela\, voice
DESCRIPTION:Undergraduate student Timothy Zajdela performs.
UID:107359-21815908@events.umich.edu
URL:https://events.umich.edu/event/107359
CLASS:PUBLIC
STATUS:CONFIRMED
CATEGORIES:
LOCATION:Off Campus Location
CONTACT:
END:VEVENT
BEGIN:VEVENT
DTSTAMP:20230328T181636
DTSTART;TZID=America/Detroit:20230409T190000
DTEND;TZID=America/Detroit:20230409T200000
SUMMARY:Other:Christopher Chan\, cello
DESCRIPTION:Graduate student Christopher Chan performs.
UID:106917-21814997@events.umich.edu
URL:https://events.umich.edu/event/106917
CLASS:PUBLIC
STATUS:CONFIRMED
CATEGORIES:
LOCATION:Off Campus Location
CONTACT:
END:VEVENT
BEGIN:VEVENT
DTSTAMP:20230328T181636
DTSTART;TZID=America/Detroit:20230409T200000
DTEND;TZID=America/Detroit:20230409T213000
SUMMARY:Other:Amber Merritt\, voice
DESCRIPTION:Graduate student Amber Merritt performs.
UID:106918-21814998@events.umich.edu
URL:https://events.umich.edu/event/106918
CLASS:PUBLIC
STATUS:CONFIRMED
CATEGORIES:
LOCATION:Off Campus Location
CONTACT:
END:VEVENT
END:VCALENDAR