BEGIN:VCALENDAR
VERSION:2.0
PRODID:-//UM//UM*Events//EN
CALSCALE:GREGORIAN
BEGIN:VTIMEZONE
TZID:America/Detroit
TZURL:http://tzurl.org/zoneinfo/America/Detroit
X-LIC-LOCATION:America/Detroit
BEGIN:DAYLIGHT
TZOFFSETFROM:-0500
TZOFFSETTO:-0400
TZNAME:EDT
DTSTART:20070311T020000
RRULE:FREQ=YEARLY;BYMONTH=3;BYDAY=2SU
END:DAYLIGHT
BEGIN:STANDARD
TZOFFSETFROM:-0400
TZOFFSETTO:-0500
TZNAME:EST
DTSTART:20071104T020000
RRULE:FREQ=YEARLY;BYMONTH=11;BYDAY=1SU
END:STANDARD
END:VTIMEZONE
BEGIN:VEVENT
DTSTAMP:20260419T132044
DTSTART;TZID=America/Detroit:20260609T100000
DTEND;TZID=America/Detroit:20260609T110000
SUMMARY:Workshop / Seminar:Summer 2026 Workshop Series
DESCRIPTION:Join CAEN for a series of workshops designed to transform how you research\, teach\, and work using the University of Michigan’s secure GenAI services. Whether you are a beginner or looking to master \"Context Engineering\,\" these sessions provide the frameworks and hands-on experience needed to lead in the age of AI. These workshops are open to the campus community.  Secure & Private: All workshops utilize U-M’s GenAI services\, ensuring your prompts and data are never used to train external models.
UID:147694-21901619@events.umich.edu
URL:https://events.umich.edu/event/147694
CLASS:PUBLIC
STATUS:CONFIRMED
CATEGORIES:Sessions
LOCATION:
CONTACT:
END:VEVENT
BEGIN:VEVENT
DTSTAMP:20260327T154239
DTSTART;TZID=America/Detroit:20260609T110000
DTEND;TZID=America/Detroit:20260609T120000
SUMMARY:Workshop / Seminar:Understanding and Managing ADHD – For Parents and Guardians
DESCRIPTION:Are you a parent or guardian of a child with ADHD? Join the Mary A. Rackham Institute for our free\, virtual workshop\, Understanding and Managing ADHD. This online event is designed to equip caregivers with practical tools and insights to better understand ADHD and support their children at home\, in school\, and beyond.\n\nWhat You’ll Learn\n\nThis supportive\, research-informed workshop covers:\n- What ADHD is and how it affects children across different settings\n- Tools and strategies for managing behavior and improving emotional regulation\n- How to create structure and routines that reduce stress for the whole family\n- Effective communication with teachers\, care teams\, and your child\n- How to connect with your child with more empathy and less frustration\n\nOur expert presenters combine real-world experience with evidence-based practices—so you’ll leave with tips you can put into action right away.\n\nWho Should Attend?\n\nThis workshop is ideal for:\n- Parents and guardians of children diagnosed with ADHD\n- Caregivers noticing signs of ADHD and seeking more information\n- Anyone wanting to build stronger\, more effective support systems for a child with attention or behavior challenges\n\nUpcoming Workshop Dates 🗓️\nThis free\, virtual workshop is offered multiple times throughout the year. Each session runs from 11 am – 12 pm\, EST.\n\nRemaining 2026 Workshop Dates:\n- April 14\n- May 12\n- June 9\n- July 14\n\nNote: Space is limited for each session. Be sure to reserve your spot early!
UID:147154-21900447@events.umich.edu
URL:https://events.umich.edu/event/147154
CLASS:PUBLIC
STATUS:CONFIRMED
CATEGORIES:Virtual,Staff,parenting,Faculty,adhd
LOCATION:Off Campus Location
CONTACT:
END:VEVENT
BEGIN:VEVENT
DTSTAMP:20260419T123205
DTSTART;TZID=America/Detroit:20260609T123000
DTEND;TZID=America/Detroit:20260609T133000
SUMMARY:Careers / Jobs:Career Exploration Resources & Strategies (for Graduate Students)
DESCRIPTION:This workshop will focus on resources you can leverage to explore career options\, as well as strategies to best position yourself for a variety of career trajectories. We will cover approaches to networking\, transferable skills\, and key resources designed to support your exploration. This workshop is open to students at all points in their graduate careers\, and there will be plenty of time for your questions. This event is intended to be interactive and therefore a recording will not be available.This workshop is designed for master's students\, doctoral students\, and postdoctoral fellows. For faculty and staff\, please contact rackhamdeworkshops@umich.edu to see if we can accommodate your attendance.Brought to you by the University Career Center\, in partnership with Rackham Graduate School.This event's information is shown in Handshake as well as on the Happening @ Michigan calendar so that itwill be seen by a larger number of U-M Students. You can only register toattend this event within Handshake. If you'd like to indicate that you'llbe attending this event and see more details\, please go to this webpage: https://umich.joinhandshake.com/events/1945069/share_preview  We want to ensure full and equitable participation in our events. If an accessibility accommodation would promote yourfull participation in this event\, please indicate your accommodation requirements via the link below\, preferably at least 14 days prior to the program to ensure sufficient time for arranging your requested accommodation(s) or exploring suitable alternatives. If you have any questions regarding access to our programs\, please don't hesitate to reach out to Cierra Sutherland at cierrasu@umich.edu. Accessibility accommodation form: https://forms.gle/FmFn35ZLxJ8kvPfSA  #UCC
UID:147802-21901983@events.umich.edu
URL:https://events.umich.edu/event/147802
CLASS:PUBLIC
STATUS:CONFIRMED
CATEGORIES:
LOCATION:
CONTACT:
END:VEVENT
BEGIN:VEVENT
DTSTAMP:20260409T152444
DTSTART;TZID=America/Detroit:20260609T123000
DTEND;TZID=America/Detroit:20260609T133000
SUMMARY:Workshop / Seminar:Career Exploration Resources & Strategies (for Graduate Students)
DESCRIPTION:This workshop will focus on resources you can leverage to explore career options\, as well as strategies to best position yourself for a variety of career trajectories. We will cover approaches to networking\, transferable skills\, and key resources designed to support your exploration. This workshop is open to students at all points in their graduate careers\, and there will be plenty of time for your questions. This event is intended to be interactive and therefore a recording will not be available.\n\nThis workshop is designed for master's students\, doctoral students\, and postdoctoral fellows. For faculty and staff\, please contact rackhamdeworkshops@umich.edu to see if we can accommodate your attendance.\n\nBrought to you by the University Career Center\, in partnership with Rackham Graduate School.
UID:147598-21901324@events.umich.edu
URL:https://events.umich.edu/event/147598
CLASS:PUBLIC
STATUS:CONFIRMED
CATEGORIES:Sessions,Rgs-events,Rgs Events
LOCATION:Virtual via Zoom
CONTACT:
END:VEVENT
BEGIN:VEVENT
DTSTAMP:20250910T144920
DTSTART;TZID=America/Detroit:20260609T130000
DTEND;TZID=America/Detroit:20260609T150000
SUMMARY:Workshop / Seminar:Courageous Conversations
DESCRIPTION:Course details and registration are available on the Organizational Learning website.
UID:139191-21892127@events.umich.edu
URL:https://events.umich.edu/event/139191
CLASS:PUBLIC
STATUS:CONFIRMED
CATEGORIES:Communication,Professional Development,Self Development
LOCATION:Off Campus Location
CONTACT:
END:VEVENT
BEGIN:VEVENT
DTSTAMP:20260419T132044
DTSTART;TZID=America/Detroit:20260609T140000
DTEND;TZID=America/Detroit:20260609T150000
SUMMARY:Workshop / Seminar:Summer 2026 Workshop Series
DESCRIPTION:Join CAEN for a series of workshops designed to transform how you research\, teach\, and work using the University of Michigan’s secure GenAI services. Whether you are a beginner or looking to master \"Context Engineering\,\" these sessions provide the frameworks and hands-on experience needed to lead in the age of AI. These workshops are open to the campus community.  Secure & Private: All workshops utilize U-M’s GenAI services\, ensuring your prompts and data are never used to train external models.
UID:147694-21901620@events.umich.edu
URL:https://events.umich.edu/event/147694
CLASS:PUBLIC
STATUS:CONFIRMED
CATEGORIES:Sessions
LOCATION:
CONTACT:
END:VEVENT
BEGIN:VEVENT
DTSTAMP:20260419T123153
DTSTART;TZID=America/Detroit:20260609T150000
DTEND;TZID=America/Detroit:20260609T160000
SUMMARY:Careers / Jobs:Resume Lab
DESCRIPTION:*RSVP required to attend. Click \"Join Event\" here: https://umich.joinhandshake.com/edu/events/1943782Just getting started building a resume? Have a draft but not sure how to make it better? Want to learn about resources available to revise your resume? Wherever you’re at Resume Lab is a great next step for you. Get real-time\, personalized support in a small group setting by checking out the Resume Lab.We will discuss and educate you on…- Design andformat- Writing a great bullet point- Targeting your resumefor specific internships/jobs If you're a Graduate Studentor Recent Grad\, please make a 1:1 appointment instead of attending the Lab because this event is designed for undergraduates. Note:This event's information is shown in Handshake as well as on the Happening @ Michigan calendar so that it will be seen by a larger number of U-M Students.#UCC
UID:147713-21901643@events.umich.edu
URL:https://events.umich.edu/event/147713
CLASS:PUBLIC
STATUS:CONFIRMED
CATEGORIES:
LOCATION:
CONTACT:
END:VEVENT
BEGIN:VEVENT
DTSTAMP:20260302T163026
DTSTART;TZID=America/Detroit:20260609T180000
DTEND;TZID=America/Detroit:20260609T193000
SUMMARY:Well-being:Social Anxiety & Skills Group for Adults
DESCRIPTION:Do you find yourself worrying about what others think\, avoiding social situations\, or wishing you could feel more confident and comfortable in groups? You’re not alone. Our 8-week social anxiety group therapy offers a supportive space to build social skills\, overcome anxiety\, and connect with others facing similar challenges.\n\nWhat to Expect in Our Group Therapy:\n+ Learn to identify and shift unhelpful thinking patterns\n+ Build practical coping skills for social situations\n+ Practice new strategies in a safe\, supportive\, and confidential environment\n\nDetails:\n- Who: Adults age 18+ experiencing social anxiety\, performance anxiety\, or seeking to gain confidence in social settings\n- When: Tuesdays\, 6:00 – 7:30 p.m.\, (8 weeks)\n- Dates: April 21 – June 16\, 2026\n- Where: In-person at our conveniently located mental health clinic\, 210 S. 5th Ave.\, downtown Ann Arbor\n\nWhy Choose Group Therapy?\nGroup therapy for social anxiety provides unique benefits over individual counseling. In a group setting\, you’ll not only learn new skills but also practice them in real-time with support from peers. Many participants report faster growth and greater confidence from sharing experiences and encouragement in a group.\n\nRegistration & More Information:\n\nSpaces are limited to ensure a personalized and engaging group environment.
UID:146099-21898387@events.umich.edu
URL:https://events.umich.edu/event/146099
CLASS:PUBLIC
STATUS:CONFIRMED
CATEGORIES:Graduate and Professional Students,anxiety,Faculty,Graduate,Graduate Students,Health & Wellness,managing anxiety,mental health,psychology,Social Anxiety,Undergraduate,Undergraduate Students,Well-being
LOCATION:Off Campus Location
CONTACT:
END:VEVENT
BEGIN:VEVENT
DTSTAMP:20260303T152543
DTSTART;TZID=America/Detroit:20260609T200000
DTEND;TZID=America/Detroit:20260609T230000
SUMMARY:Exhibition:Echoes of the Past: Greektown as Seen by Sam Karres
DESCRIPTION:Explore the personal sketchbooks of Sam Karres\, Greek-American painter and artist\, as he illustrates the daily life of residents in Greektown\, Detroit. This exhibit highlights Detroit’s Greek-American community and urban scenery during the late 20th century. Experience art and life through Sam’s eyes with scenes of music\, dance\, restaurants\, and the faces of the community. Let the vivid watercolor paintings and expressive sketches transport you to a Greektown of the past\, and learn more about Sam Karres’ life as an artist.\n\nFeaturing works from the Sam Karres Archive\, 1955-2012\, held by the University of Michigan Library's Special Collection Research Center. Curated by Annelie Zissis and Arthur Pfeifer-Rubey\, Library Engagement Fellows.
UID:146151-21898521@events.umich.edu
URL:https://events.umich.edu/event/146151
CLASS:PUBLIC
STATUS:CONFIRMED
CATEGORIES:Free,Library
LOCATION:Hatcher Graduate Library - Clark Library (2nd floor)
CONTACT:
END:VEVENT
BEGIN:VEVENT
DTSTAMP:20260414T144814
DTSTART;TZID=America/Detroit:20260609T200000
DTEND;TZID=America/Detroit:20260609T233000
SUMMARY:Exhibition:Muted Volumes: Book-Objects\, Patterned Papers\, and the Closed Stacks of Buhr
DESCRIPTION:This exhibit in the Clark Library rotunda focuses on handmade decorative patterned papers when exploring books stored at the library's Buhr Offsite Shelving Facility. Decorative paper\, noticed when walking through the stack's aisles or surprising you when you casually flip through a book\, can really catch your eye. But because the Buhr stacks are closed from browsing\, the density and dimensionality of its nearly 3 million books are reduced to title searches on a screen.\n\nAs a response to these reflections\, artist and library staff member Stephanie Osorio shares her handbound unopenable book-objects as symbolic stand-ins for forgotten books at Buhr — the books that don’t get a chance to be noticed. Along with the book-objects are the carved woodblocks that made prints to decorate them. Some books from Buhr that inspired this project with their original decorated patterned papers will also be on display.\n\nView the exhibit anytime the Hatcher Library is open\, and join us for an opening reception on Thursday\, May 14th\, 5pm - 6:30pm\, for an opportunity to hear from the artist and engage with the book-objects.
UID:147739-21901695@events.umich.edu
URL:https://events.umich.edu/event/147739
CLASS:PUBLIC
STATUS:CONFIRMED
CATEGORIES:Free,Library
LOCATION:Hatcher Graduate Library - Clark Library (2nd floor)
CONTACT:
END:VEVENT
END:VCALENDAR