BEGIN:VCALENDAR
VERSION:2.0
PRODID:-//UM//UM*Events//EN
CALSCALE:GREGORIAN
BEGIN:VTIMEZONE
TZID:America/Detroit
TZURL:http://tzurl.org/zoneinfo/America/Detroit
X-LIC-LOCATION:America/Detroit
BEGIN:DAYLIGHT
TZOFFSETFROM:-0500
TZOFFSETTO:-0400
TZNAME:EDT
DTSTART:20070311T020000
RRULE:FREQ=YEARLY;BYMONTH=3;BYDAY=2SU
END:DAYLIGHT
BEGIN:STANDARD
TZOFFSETFROM:-0400
TZOFFSETTO:-0500
TZNAME:EST
DTSTART:20071104T020000
RRULE:FREQ=YEARLY;BYMONTH=11;BYDAY=1SU
END:STANDARD
END:VTIMEZONE
BEGIN:VEVENT
DTSTAMP:20260419T132037
DTSTART;TZID=America/Detroit:20260610T090000
DTEND;TZID=America/Detroit:20260610T100000
SUMMARY:Workshop / Seminar:ME Declaration Orientation - Summer 2026
DESCRIPTION:Be sure to watch the video that was linked to you and be prepared to ask questions.\nIf none of the available times work for you\, please email me-aso@umich.edu to find an alternative time to declare. 
UID:147832-21902020@events.umich.edu
URL:https://events.umich.edu/event/147832
CLASS:PUBLIC
STATUS:CONFIRMED
CATEGORIES:Sessions
LOCATION:
CONTACT:
END:VEVENT
BEGIN:VEVENT
DTSTAMP:20260419T132044
DTSTART;TZID=America/Detroit:20260610T100000
DTEND;TZID=America/Detroit:20260610T110000
SUMMARY:Workshop / Seminar:Summer 2026 Workshop Series
DESCRIPTION:Join CAEN for a series of workshops designed to transform how you research\, teach\, and work using the University of Michigan’s secure GenAI services. Whether you are a beginner or looking to master \"Context Engineering\,\" these sessions provide the frameworks and hands-on experience needed to lead in the age of AI. These workshops are open to the campus community.  Secure & Private: All workshops utilize U-M’s GenAI services\, ensuring your prompts and data are never used to train external models.
UID:147694-21901621@events.umich.edu
URL:https://events.umich.edu/event/147694
CLASS:PUBLIC
STATUS:CONFIRMED
CATEGORIES:Sessions
LOCATION:
CONTACT:
END:VEVENT
BEGIN:VEVENT
DTSTAMP:20250828T001529
DTSTART;TZID=America/Detroit:20260610T110000
DTEND;TZID=America/Detroit:20260610T190000
SUMMARY:Exhibition:Fore-Site (Phase 3): The Stamps Gallery Pillar Project
DESCRIPTION:From September 2025 through August 2026\, Stamps Gallery is partnering in a curatorial collaboration with two Ypsilanti-based\, artist-run project spaces led by Stamps alumni: C.Y.N.K. Studios\, directed by Sally Clegg (Lecturer III and Student Exhibition Coordinator\, MFA ’20) and Abhishek Narula (MFA ’20)\; and Sometimes Space\, directed by Nathan Byrne (Lecturer I\, MFA ’21). Each space hosts dozens of artists annually for exhibitions\, performances\, and events\, fostering experimental work and building community. For this project\, Byrne\, Clegg\, and Narula have been commissioned to reimagine the pillars on Division Street that flank the gallery. In response\, they've curated six artists to create new work for the pillars over three cycles:\nPhase 1 (September 12 - December 12) artists: Amelia Burns (Cranbrook MFA '23) and Erin McKenna (MFA '20)Phase 2 (January 12 - April 12) artists: Sally Clegg (MFA '20) and Kim Karlsrud (MFA '20)Phase 3 (May 12 - August 12) artists: Abhishek Narula (MFA '20) and Nathan Byrne (MFA '21)\nPhase 3 \nCurated by Sometimes Space: Abhishek Narula (entry pillar)Curated by CYNK Studios: Nathan Byrne (courtyard pillar)
UID:138033-21881343@events.umich.edu
URL:https://events.umich.edu/event/138033
CLASS:PUBLIC
STATUS:CONFIRMED
CATEGORIES:Art
LOCATION:Off Campus Location
CONTACT:
END:VEVENT
BEGIN:VEVENT
DTSTAMP:20260406T112623
DTSTART;TZID=America/Detroit:20260610T120000
DTEND;TZID=America/Detroit:20260610T124500
SUMMARY:Tours:Exploring the Reef: Coral Reef Sustainability Tour
DESCRIPTION:Learn about coral reefs and how these unique ecosystems have a crucial role in supporting our planet. U-M researcher Dr. Bardwell will lead a tour of his coral reef tanks and share how sustainability and coral reefs are intertwined. Participants will have the opportunity to get a close-up look at coral reefs and discover the intricate lives of the creatures who live here.\n\nWe will be meeting at the BSB West Atrium before traveling to Dr. Bardwell’s office together. Swipe access is required to access the coral reefs\, so please arrive on time to ensure you can join us for the tour.\n\nThe event is free and open to any U-M community member\, but registration is required. Space is limited for this program\, so please only sign up for one of the tours. Please email pba-information@umich.edu with questions or if you are no longer able to join this event after registering.
UID:144148-21901017@events.umich.edu
URL:https://events.umich.edu/event/144148
CLASS:PUBLIC
STATUS:CONFIRMED
CATEGORIES:Ecology,Education,Environment,environmental,environmental education,Free,In Person,Museum,museums,Nature,planet blue,Science,Sustainability
LOCATION:Biological Sciences Building - Meet at West Atrium Lobby
CONTACT:
END:VEVENT
BEGIN:VEVENT
DTSTAMP:20260419T132038
DTSTART;TZID=America/Detroit:20260610T120000
DTEND;TZID=America/Detroit:20260610T130000
SUMMARY:Workshop / Seminar:MADS Placement Process Explained
DESCRIPTION:Are you trying to figure out which placement test might be right for you? Would you like to know more about what you can expect in your placement interview?\nInterviewer Anna Vento\, and MADS Admissions & Recruitment coordinator Kelly Barger co-lead an in-depth review of the standard and advanced standing placement test procedure\, advanced interview process\, and hold a live Q&A at the end. Please join us to get your questions answered\, and benefit from the curiosity of like-minded peers!
UID:144381-21901597@events.umich.edu
URL:https://events.umich.edu/event/144381
CLASS:PUBLIC
STATUS:CONFIRMED
CATEGORIES:Sessions
LOCATION:Zoom
CONTACT:
END:VEVENT
BEGIN:VEVENT
DTSTAMP:20260416T121510
DTSTART;TZID=America/Detroit:20260610T120000
DTEND;TZID=America/Detroit:20260610T170000
SUMMARY:Exhibition:Marianetta Porter: Breath\, Fragment\, Return
DESCRIPTION:\n\nCurated by Juana Williams\, this exhibition examines how Marianetta Porter uses everyday objects\, fragments\, and embodied memory to make absence an active\, living presence while challenging linear histories. Rooted in African American experience\, her practice treats what is discarded\, overlooked\, or missing not as loss\, but as a source of meaning that continues to act on the present. Through her process and materials\, Porter reveals how memory is carried in the body and embedded in ordinary things. Her work also resists forward-moving notions of time\, instead presenting a diasporic temporality in which past\, present\, and lived experience circulate together through repetition\, touch\, and recall. In doing so\, Porter proposes a vision of history as unfinished\, memory as active\, and absence as a force that sustains connection and shapes the present. \n\nMarianetta Porter is a visual artist and product designer whose research and creative practice are grounded in the study of African American history\, culture\, and representation. Through the language of visual art\, she draws connections between historic memory and contemporary African American life\, giving voice to the history of the African diaspora while acknowledging its central influence on the birth and flourishing of American culture.\n\nHer work has been exhibited nationally at institutions such as the Indianapolis Museum of Art\, the Chicago Museum of Science and Industry\, the Spoleto Festival\, the Harriet Tubman Museum\, and the Hampton University Museum of Art.\n\nShe earned her Bachelor of Fine Arts from Hampton University and her Master of Fine Arts from the University of Michigan. The recipient of numerous awards\, Porter is Professor Emeritus at the University of Michigan’s Stamps School of Art and Design.\n\nJuana Williams is a curator and writer whose work explores the intersections of cross-border intellectual history\, cultural memory\, and identity formation as expressed through modern and contemporary art from Africa and its diasporas.\n\nWilliams has held curatorial and academic appointments at organizations including the Detroit Institute of Arts\, Library Street Collective\, Wayne State University\, and the Urban Institute for Contemporary Art. Her curatorial projects have been presented at institutions across the United States and France\, including the Grand Rapids Art Museum\, the Muskegon Museum of Art\, Palais de Tokyo (Paris)\, and the Westmoreland Museum of American Art. In addition\, she has presented lectures at various museums and universities and contributed to numerous exhibition catalogs. Her work has been written about in publications such as Artsy\, Beaux Arts Magazine\, Condé Nast Traveller\, Michigan Chronicle\, and Observer. Williams holds a BA in Fine Art and an MA in Art History from Wayne State University.
UID:147625-21901374@events.umich.edu
URL:https://events.umich.edu/event/147625
CLASS:PUBLIC
STATUS:CONFIRMED
CATEGORIES:Art
LOCATION:Off Campus Location
CONTACT:
END:VEVENT
BEGIN:VEVENT
DTSTAMP:20251124T101915
DTSTART;TZID=America/Detroit:20260610T130000
DTEND;TZID=America/Detroit:20260610T140000
SUMMARY:Workshop / Seminar:Disability Navigator Office Hours
DESCRIPTION:Stop by and chat with the Disability Equity Office's Disability Navigators. Whether you have questions about supportive resources\, workplace accommodations\, event accessibility\, or general accessibility at the University of Michigan\, we're here to help! You're welcome to pop in for just a few minutes or stay for the whole hour. If you’d like some privacy\, breakout rooms are available for one-on-one conversations.\n\nJoin whenever you're free—no registration required. If you need any accommodations to participate\, please contact the ADA Coordinator at ADAcoordinator@umich.edu. We look forward to connecting with you!\n\nZoom Meeting Link: https://umich.zoom.us/j/98239842235?jst=2
UID:141988-21890080@events.umich.edu
URL:https://events.umich.edu/event/141988
CLASS:PUBLIC
STATUS:CONFIRMED
CATEGORIES:Accessibility,Disability,Office Hours
LOCATION:Off Campus Location
CONTACT:
END:VEVENT
BEGIN:VEVENT
DTSTAMP:20260419T132044
DTSTART;TZID=America/Detroit:20260610T140000
DTEND;TZID=America/Detroit:20260610T150000
SUMMARY:Workshop / Seminar:Summer 2026 Workshop Series
DESCRIPTION:Join CAEN for a series of workshops designed to transform how you research\, teach\, and work using the University of Michigan’s secure GenAI services. Whether you are a beginner or looking to master \"Context Engineering\,\" these sessions provide the frameworks and hands-on experience needed to lead in the age of AI. These workshops are open to the campus community.  Secure & Private: All workshops utilize U-M’s GenAI services\, ensuring your prompts and data are never used to train external models.
UID:147694-21901622@events.umich.edu
URL:https://events.umich.edu/event/147694
CLASS:PUBLIC
STATUS:CONFIRMED
CATEGORIES:Sessions
LOCATION:
CONTACT:
END:VEVENT
BEGIN:VEVENT
DTSTAMP:20260302T162354
DTSTART;TZID=America/Detroit:20260610T173000
DTEND;TZID=America/Detroit:20260610T190000
SUMMARY:Well-being:Strengthening Skills: ADHD Group for Adults
DESCRIPTION:Are you struggling with organization\, time management\, or staying on track? Looking for strategies to better handle daily challenges? Our Psychological Clinic is excited to announce the return of our comprehensive\, evidence-based Strengthening Skills: ADHD Group for Adults this spring. Participants do not need an official ADHD diagnosis to join—any adult seeking practical tools for executive functioning is welcome.\n\nAbout the 8-Week ADHD Skills Group\n\nThis interactive\, in-person group program is designed to help adults develop stronger skills in organization\, prioritization\, and time management. Over eight weekly sessions\, participants will:\n\nLearn and practice new strategies in a structured\, supportive environment\nGain confidence and growth alongside others who understand executive functioning challenges\nBuild a toolkit that will help manage daily responsibilities and stressors\nWhy Group Therapy?\n\nChoosing group therapy means you benefit from the collective experience and support of others facing similar challenges. Practicing strategies with a group helps foster real improvement as you share experiences and encourage one another.\n\nProgram Details:\n\nWho: Adults seeking practical solutions and support for executive functioning challenges (no ADHD diagnosis required)\nWhen: Wednesday evenings\, 5:30 – 7:00 pm\,\nDates: April 29 to June 24\nWhere: In-person\, at 210 S. 5th Ave.\, downtown Ann Arbor
UID:146098-21898377@events.umich.edu
URL:https://events.umich.edu/event/146098
CLASS:PUBLIC
STATUS:CONFIRMED
CATEGORIES:adhd,Graduate and Professional Students,Staff,Time Management,Undergraduate Students,Workshop
LOCATION:Off Campus Location
CONTACT:
END:VEVENT
BEGIN:VEVENT
DTSTAMP:20260419T132043
DTSTART;TZID=America/Detroit:20260610T173000
DTEND;TZID=America/Detroit:20260610T183000
SUMMARY:Workshop / Seminar:Summer 2026 Commuter Conversations
DESCRIPTION:
UID:147817-21902000@events.umich.edu
URL:https://events.umich.edu/event/147817
CLASS:PUBLIC
STATUS:CONFIRMED
CATEGORIES:Sessions
LOCATION:
CONTACT:
END:VEVENT
BEGIN:VEVENT
DTSTAMP:20260417T142751
DTSTART;TZID=America/Detroit:20260610T180000
DTEND;TZID=America/Detroit:20260610T190000
SUMMARY:Livestream / Virtual:ALUM 101: From the Campus to the World: How U-M Innovations Are Changing Lives
DESCRIPTION:Our third course\, ALUM 101: From the Campus to the World: How U-M Innovations Are Changing Lives\, continues the series with a deep dive into breakthroughs\, from life-saving cancer treatments to the future of athletic performance. You will get a front-row seat to the ideas\, people\, and partnerships behind Michigan innovation.\n\nDeveloped in partnership with Innovation Partnerships\, this four-part mini-course will explore how discoveries move from campus to real-world impact\, featuring topics such as HistoSonics ultrasound technology\, KOMZIFTI therapeutics\, OLED screen displays\, and GripFusion’s ForceBall.\n\nEach 60-minute virtual lecture includes a Q&A\, allowing you to learn alongside fellow Wolverines. Classes take place on Wednesdays at 6 p.m.\, beginning May 20 and concluding with an optional in-person field trip.
UID:147843-21902037@events.umich.edu
URL:https://events.umich.edu/event/147843
CLASS:PUBLIC
STATUS:CONFIRMED
CATEGORIES:Alumni,Education,Engineering,Free,Information and Technology,Innovation Partnerships,Life-changing Education,Virtual
LOCATION:Off Campus Location
CONTACT:
END:VEVENT
BEGIN:VEVENT
DTSTAMP:20260303T130725
DTSTART;TZID=America/Detroit:20260610T200000
SUMMARY:Performance:Darrell Scott
DESCRIPTION:A Nashville virtuoso\n\nMulti-Instrumentalist and Singer-Songwriter Darrell Scott mines and cultivates the everyday moment\, taking the rote\, menial\, mundane\, and allowing it to be surreal\, ever poignant\, and candidly honest\, lilting\, blooming\, and resonating. The words he fosters allow us to make sense of the world\, what is at stake here\, and our place in it. And ultimately\, Darrell knows the sole truth of life is that love is all that matters\, that we don’t always get it right\, but that’s the instinctive and requisite circuitous allure of things\, why we forever chase it\, and why it is held sacred.\n\nDarrell Scott comes from a musical family with a father who had him smitten with guitars by the age of 4\, alongside a brother who played Jerry Reed style as well. From there\, things only ramped up with literature and poetry endeavors while a student at Tufts University\, along with playing his way through life.  This would never change.\n\nAfter recently touring with Robert Plant and the Zac Brown Band (2 years with each)\, and producing albums for Malcolm Holcomb and Guy Clark and being named “songwriter of the year” for both ASCAP and NSAI\, these days ﬁnd him roaming his Tennessee wilderness acreage hiking along the small river\, creating delicious meals with food raised on his property and playing music. He often leads songwriting workshops to help people tell their own truths with their stories\, and is as busy as always writing\, producing\, performing\, and just plain fully immersing himself in life.
UID:146134-21898431@events.umich.edu
URL:https://events.umich.edu/event/146134
CLASS:PUBLIC
STATUS:CONFIRMED
CATEGORIES:Ark,Mutotix
LOCATION:ARK Reserved
CONTACT:
END:VEVENT
BEGIN:VEVENT
DTSTAMP:20260303T152543
DTSTART;TZID=America/Detroit:20260610T200000
DTEND;TZID=America/Detroit:20260610T230000
SUMMARY:Exhibition:Echoes of the Past: Greektown as Seen by Sam Karres
DESCRIPTION:Explore the personal sketchbooks of Sam Karres\, Greek-American painter and artist\, as he illustrates the daily life of residents in Greektown\, Detroit. This exhibit highlights Detroit’s Greek-American community and urban scenery during the late 20th century. Experience art and life through Sam’s eyes with scenes of music\, dance\, restaurants\, and the faces of the community. Let the vivid watercolor paintings and expressive sketches transport you to a Greektown of the past\, and learn more about Sam Karres’ life as an artist.\n\nFeaturing works from the Sam Karres Archive\, 1955-2012\, held by the University of Michigan Library's Special Collection Research Center. Curated by Annelie Zissis and Arthur Pfeifer-Rubey\, Library Engagement Fellows.
UID:146151-21898522@events.umich.edu
URL:https://events.umich.edu/event/146151
CLASS:PUBLIC
STATUS:CONFIRMED
CATEGORIES:Free,Library
LOCATION:Hatcher Graduate Library - Clark Library (2nd floor)
CONTACT:
END:VEVENT
BEGIN:VEVENT
DTSTAMP:20260414T144814
DTSTART;TZID=America/Detroit:20260610T200000
DTEND;TZID=America/Detroit:20260610T233000
SUMMARY:Exhibition:Muted Volumes: Book-Objects\, Patterned Papers\, and the Closed Stacks of Buhr
DESCRIPTION:This exhibit in the Clark Library rotunda focuses on handmade decorative patterned papers when exploring books stored at the library's Buhr Offsite Shelving Facility. Decorative paper\, noticed when walking through the stack's aisles or surprising you when you casually flip through a book\, can really catch your eye. But because the Buhr stacks are closed from browsing\, the density and dimensionality of its nearly 3 million books are reduced to title searches on a screen.\n\nAs a response to these reflections\, artist and library staff member Stephanie Osorio shares her handbound unopenable book-objects as symbolic stand-ins for forgotten books at Buhr — the books that don’t get a chance to be noticed. Along with the book-objects are the carved woodblocks that made prints to decorate them. Some books from Buhr that inspired this project with their original decorated patterned papers will also be on display.\n\nView the exhibit anytime the Hatcher Library is open\, and join us for an opening reception on Thursday\, May 14th\, 5pm - 6:30pm\, for an opportunity to hear from the artist and engage with the book-objects.
UID:147739-21901696@events.umich.edu
URL:https://events.umich.edu/event/147739
CLASS:PUBLIC
STATUS:CONFIRMED
CATEGORIES:Free,Library
LOCATION:Hatcher Graduate Library - Clark Library (2nd floor)
CONTACT:
END:VEVENT
END:VCALENDAR