BEGIN:VCALENDAR
VERSION:2.0
PRODID:-//UM//UM*Events//EN
CALSCALE:GREGORIAN
BEGIN:VTIMEZONE
TZID:America/Detroit
TZURL:http://tzurl.org/zoneinfo/America/Detroit
X-LIC-LOCATION:America/Detroit
BEGIN:DAYLIGHT
TZOFFSETFROM:-0500
TZOFFSETTO:-0400
TZNAME:EDT
DTSTART:20070311T020000
RRULE:FREQ=YEARLY;BYMONTH=3;BYDAY=2SU
END:DAYLIGHT
BEGIN:STANDARD
TZOFFSETFROM:-0400
TZOFFSETTO:-0500
TZNAME:EST
DTSTART:20071104T020000
RRULE:FREQ=YEARLY;BYMONTH=11;BYDAY=1SU
END:STANDARD
END:VTIMEZONE
BEGIN:VEVENT
DTSTAMP:20250421T140629
DTSTART;TZID=America/Detroit:20260616T080000
DTEND;TZID=America/Detroit:20260616T160000
SUMMARY:Other:KidSport Summer Camp
DESCRIPTION:KidSport Summer Camps offers children ages 4-11 the opportunity to learn and play a variety of team sports\, individual sports\, team building games\, and other physical education activities in a non-competitive and fun sports environment. All children will have time in the pool on Tuesday and Thursday mornings and each afternoon\, Monday through Friday\, to work on water comfort. skills and safety. KidSport Inclusive is for all kids who do not require a high degree of personalized support to participate in large group activities. For more information and to register\, visit our website listed below.
UID:135145-21895850@events.umich.edu
URL:https://events.umich.edu/event/135145
CLASS:PUBLIC
STATUS:CONFIRMED
CATEGORIES:Camp,Children
LOCATION:Off Campus Location
CONTACT:
END:VEVENT
BEGIN:VEVENT
DTSTAMP:20260419T132039
DTSTART;TZID=America/Detroit:20260616T100000
DTEND;TZID=America/Detroit:20260616T120000
SUMMARY:Workshop / Seminar:Set up Okta FastPass with Okta Transition Team
DESCRIPTION:Set up Okta FastPass with the Okta Transition Team from ITSWe are offering a series of in-person workshops which will teach you how to set up Okta FastPass on your computer – with Okta FastPass you can access your UMICH account without a password using Touch ID\, Face ID\, or PIN depending on your operating system (yes\, this means you won’t need your phone for multi-factor authentication!).U-M staff\, faculty\, instructors\, and all other interested parties are welcome to attend — bring your laptop and get ready to go passwordless!\n
UID:147428-21901010@events.umich.edu
URL:https://events.umich.edu/event/147428
CLASS:PUBLIC
STATUS:CONFIRMED
CATEGORIES:Sessions
LOCATION:Room 3336
CONTACT:
END:VEVENT
BEGIN:VEVENT
DTSTAMP:20260327T090742
DTSTART;TZID=America/Detroit:20260616T120000
DTEND;TZID=America/Detroit:20260616T130000
SUMMARY:Livestream / Virtual:Alumni Perspectives on the Future of Work in Tech
DESCRIPTION:As the tech industry evolves\, so do expectations for professionals and leaders. Join an alumni-led panel featuring accomplished practitioners from across the tech ecosystem as they share insights on how the future of work is transforming roles\, leadership responsibilities\, and long-term career paths. Panelists will discuss how they navigate rapid change and what it takes to stay effective and relevant in a dynamic landscape.\n\nWhat you’ll learn:\n\nHow AI is reshaping roles\, decision-making\, and leadership in tech\nSkills that are quickly becoming essential for success\nHow leaders are adapting to rapid shifts in the industry\nStrategies for building resilience and adaptability in your tech career\n\nWhether you’re a tech professional\, paraprofessional\, leader\, career changer\, or simply interested in industry trends\, this discussion will offer actionable insights to help you thrive in the evolving world of tech.
UID:147123-21900405@events.umich.edu
URL:https://events.umich.edu/event/147123
CLASS:PUBLIC
STATUS:CONFIRMED
CATEGORIES:Alumni,Career,Free,Virtual
LOCATION:Off Campus Location
CONTACT:
END:VEVENT
BEGIN:VEVENT
DTSTAMP:20250926T155648
DTSTART;TZID=America/Detroit:20260616T130000
DTEND;TZID=America/Detroit:20260616T143000
SUMMARY:Workshop / Seminar:Introduction to Digital Accessibility
DESCRIPTION:Course details and registration are available on the Organizational Learning website.
UID:139948-21886395@events.umich.edu
URL:https://events.umich.edu/event/139948
CLASS:PUBLIC
STATUS:CONFIRMED
CATEGORIES:Accessibility,Digital Accessibility,Information and Technology
LOCATION:Off Campus Location
CONTACT:
END:VEVENT
BEGIN:VEVENT
DTSTAMP:20260223T143824
DTSTART;TZID=America/Detroit:20260616T140000
DTEND;TZID=America/Detroit:20260616T150000
SUMMARY:Lecture / Discussion:Rare Failures\, Public Perception\, and Automated Driving: Why Exceptional Events Shape Trust in Emerging Safety Technologies
DESCRIPTION:This lecture explores the “vaccine paradox” of automated driving: why rare\, highly publicized failures of self-driving vehicles provoke intense emotional and political reactions while the far more common harms of human driving remain normalized. Drawing on risk psychology\, public-health history\, and human-factors research\, Prof. McGehee examines how visibility imbalance\, trust\, and perceptions of control shape public acceptance of emerging vehicle automation. Using real-world examples from automated-vehicle deployments alongside lessons from vaccine adoption and safety communication\, the talk argues that societal expectations for perfection in automation may obscure meaningful population-level safety gains. The presentation concludes by discussing how transparency\, responsible system design\, and careful language around driver-assistance technologies can help align public perception with evidence as automated driving evolves toward broader deployment.\n---\nAbout the speaker: Daniel V. McGehee\, is Professor of Industrial and Systems Engineering at the University of Iowa and Director of the Driving Safety Research Institute (DSRI) and the National Advanced Driving Simulator (NADS)\, one of the world’s largest and most advanced ground-vehicle simulation facilities. For more than three decades\, his work has focused on human factors\, driver behavior\, and the safe integration of advanced vehicle technologies\, including automated driving and driver-assistance systems. Dr. McGehee’s research spans engineering\, medicine\, public health\, and transportation policy\, with projects funded by the U.S. Department of Transportation\, National Institutes of Health\, and the automotive industry. He has led over $40 million in sponsored research and authored more than 160 scientific publications addressing driver attention\, crash avoidance\, vulnerable road users\, and the design of vehicle interfaces. His work combines naturalistic driving studies\, simulation\, and field research to better understand how humans interact with emerging mobility systems. At the University of Iowa\, he holds joint appointments in emergency medicine and public health\, reflecting his longstanding interest in traffic safety as a population-level health issue.
UID:145812-21897843@events.umich.edu
URL:https://events.umich.edu/event/145812
CLASS:PUBLIC
STATUS:CONFIRMED
CATEGORIES:Basic Science,Civil and Environmental Engineering,conference,Discussion,Education,Engineering,Engineering Academic Calendar,Faculty,Free,Graduate and Professional Students,Graduate Students,Industrial and Operations Engineering,Information and Technology,Leadership,Lecture,Mechanical Engineering,Michigan Engineering,Networking,Professional Development,Research,seminar,Talk,Undergraduate,Undergraduate Students,Virtual,Webcast
LOCATION:Transportation Research Institute - Room 139
CONTACT:
END:VEVENT
BEGIN:VEVENT
DTSTAMP:20260319T111532
DTSTART;TZID=America/Detroit:20260616T200000
SUMMARY:Performance:Bob Schneider
DESCRIPTION:“one of the best kept secrets in rock and roll” –Goldmine Magazine\n\nAustin\, Texas-based singer-songwriter and former frontman of Joe Rockhead\, The Ugly Americans and The Scabs\, Bob Schneider is one of the most-celebrated musicians in the live music capital. Combining diverse styles\, Schneider’s music spans genres\, blending elements of folk\, rock\, rap\, funk\, bluegrass\, reggae and country with the more traditional singer/songwriter aesthetic. In short\, FRUNK.\n\nSchneider has won more than 59 Austin Music Awards including Best Album\, Best Songwriter\, Best Musician\, and Best Male Vocals making him the most decorated artist in Austin’s storied music history.\n\nSchneider’s fan base reaches far beyond the city limits of Austin. He started gaining national recognition with his major-label debut for Universal Records\, Lonelyland. A fiercely-independent artist\, Schneider opted to start his own label\, Shockorama Records\, which has afforded him the freedom to make the music his fans love\, on his own terms.\n\nSchneider’s live performances\, both solo and with the band\, are legendary. A two-time performer on his hometown’s famed Austin City Limits television show\, he still does his weekly residency at The Saxon Pub\, as he has for over 20 years. All told\, he plays over 150 shows a year all over America and he doesn’t plan on slowing down anytime soon.
UID:146716-21899546@events.umich.edu
URL:https://events.umich.edu/event/146716
CLASS:PUBLIC
STATUS:CONFIRMED
CATEGORIES:Ark,Mutotix
LOCATION:ARK Reserved
CONTACT:
END:VEVENT
BEGIN:VEVENT
DTSTAMP:20260303T152543
DTSTART;TZID=America/Detroit:20260616T200000
DTEND;TZID=America/Detroit:20260616T230000
SUMMARY:Exhibition:Echoes of the Past: Greektown as Seen by Sam Karres
DESCRIPTION:Explore the personal sketchbooks of Sam Karres\, Greek-American painter and artist\, as he illustrates the daily life of residents in Greektown\, Detroit. This exhibit highlights Detroit’s Greek-American community and urban scenery during the late 20th century. Experience art and life through Sam’s eyes with scenes of music\, dance\, restaurants\, and the faces of the community. Let the vivid watercolor paintings and expressive sketches transport you to a Greektown of the past\, and learn more about Sam Karres’ life as an artist.\n\nFeaturing works from the Sam Karres Archive\, 1955-2012\, held by the University of Michigan Library's Special Collection Research Center. Curated by Annelie Zissis and Arthur Pfeifer-Rubey\, Library Engagement Fellows.
UID:146151-21898528@events.umich.edu
URL:https://events.umich.edu/event/146151
CLASS:PUBLIC
STATUS:CONFIRMED
CATEGORIES:Free,Library
LOCATION:Hatcher Graduate Library - Clark Library (2nd floor)
CONTACT:
END:VEVENT
BEGIN:VEVENT
DTSTAMP:20260414T144814
DTSTART;TZID=America/Detroit:20260616T200000
DTEND;TZID=America/Detroit:20260616T233000
SUMMARY:Exhibition:Muted Volumes: Book-Objects\, Patterned Papers\, and the Closed Stacks of Buhr
DESCRIPTION:This exhibit in the Clark Library rotunda focuses on handmade decorative patterned papers when exploring books stored at the library's Buhr Offsite Shelving Facility. Decorative paper\, noticed when walking through the stack's aisles or surprising you when you casually flip through a book\, can really catch your eye. But because the Buhr stacks are closed from browsing\, the density and dimensionality of its nearly 3 million books are reduced to title searches on a screen.\n\nAs a response to these reflections\, artist and library staff member Stephanie Osorio shares her handbound unopenable book-objects as symbolic stand-ins for forgotten books at Buhr — the books that don’t get a chance to be noticed. Along with the book-objects are the carved woodblocks that made prints to decorate them. Some books from Buhr that inspired this project with their original decorated patterned papers will also be on display.\n\nView the exhibit anytime the Hatcher Library is open\, and join us for an opening reception on Thursday\, May 14th\, 5pm - 6:30pm\, for an opportunity to hear from the artist and engage with the book-objects.
UID:147739-21901702@events.umich.edu
URL:https://events.umich.edu/event/147739
CLASS:PUBLIC
STATUS:CONFIRMED
CATEGORIES:Free,Library
LOCATION:Hatcher Graduate Library - Clark Library (2nd floor)
CONTACT:
END:VEVENT
END:VCALENDAR