BEGIN:VCALENDAR
VERSION:2.0
PRODID:-//UM//UM*Events//EN
CALSCALE:GREGORIAN
BEGIN:VTIMEZONE
TZID:America/Detroit
TZURL:http://tzurl.org/zoneinfo/America/Detroit
X-LIC-LOCATION:America/Detroit
BEGIN:DAYLIGHT
TZOFFSETFROM:-0500
TZOFFSETTO:-0400
TZNAME:EDT
DTSTART:20070311T020000
RRULE:FREQ=YEARLY;BYMONTH=3;BYDAY=2SU
END:DAYLIGHT
BEGIN:STANDARD
TZOFFSETFROM:-0400
TZOFFSETTO:-0500
TZNAME:EST
DTSTART:20071104T020000
RRULE:FREQ=YEARLY;BYMONTH=11;BYDAY=1SU
END:STANDARD
END:VTIMEZONE
BEGIN:VEVENT
DTSTAMP:20250421T140629
DTSTART;TZID=America/Detroit:20260617T080000
DTEND;TZID=America/Detroit:20260617T160000
SUMMARY:Other:KidSport Summer Camp
DESCRIPTION:KidSport Summer Camps offers children ages 4-11 the opportunity to learn and play a variety of team sports\, individual sports\, team building games\, and other physical education activities in a non-competitive and fun sports environment. All children will have time in the pool on Tuesday and Thursday mornings and each afternoon\, Monday through Friday\, to work on water comfort. skills and safety. KidSport Inclusive is for all kids who do not require a high degree of personalized support to participate in large group activities. For more information and to register\, visit our website listed below.
UID:135145-21895851@events.umich.edu
URL:https://events.umich.edu/event/135145
CLASS:PUBLIC
STATUS:CONFIRMED
CATEGORIES:Camp,Children
LOCATION:Off Campus Location
CONTACT:
END:VEVENT
BEGIN:VEVENT
DTSTAMP:20250828T001529
DTSTART;TZID=America/Detroit:20260617T110000
DTEND;TZID=America/Detroit:20260617T190000
SUMMARY:Exhibition:Fore-Site (Phase 3): The Stamps Gallery Pillar Project
DESCRIPTION:From September 2025 through August 2026\, Stamps Gallery is partnering in a curatorial collaboration with two Ypsilanti-based\, artist-run project spaces led by Stamps alumni: C.Y.N.K. Studios\, directed by Sally Clegg (Lecturer III and Student Exhibition Coordinator\, MFA ’20) and Abhishek Narula (MFA ’20)\; and Sometimes Space\, directed by Nathan Byrne (Lecturer I\, MFA ’21). Each space hosts dozens of artists annually for exhibitions\, performances\, and events\, fostering experimental work and building community. For this project\, Byrne\, Clegg\, and Narula have been commissioned to reimagine the pillars on Division Street that flank the gallery. In response\, they've curated six artists to create new work for the pillars over three cycles:\nPhase 1 (September 12 - December 12) artists: Amelia Burns (Cranbrook MFA '23) and Erin McKenna (MFA '20)Phase 2 (January 12 - April 12) artists: Sally Clegg (MFA '20) and Kim Karlsrud (MFA '20)Phase 3 (May 12 - August 12) artists: Abhishek Narula (MFA '20) and Nathan Byrne (MFA '21)\nPhase 3 \nCurated by Sometimes Space: Abhishek Narula (entry pillar)Curated by CYNK Studios: Nathan Byrne (courtyard pillar)
UID:138033-21881347@events.umich.edu
URL:https://events.umich.edu/event/138033
CLASS:PUBLIC
STATUS:CONFIRMED
CATEGORIES:Art
LOCATION:Off Campus Location
CONTACT:
END:VEVENT
BEGIN:VEVENT
DTSTAMP:20260330T091927
DTSTART;TZID=America/Detroit:20260617T120000
DTEND;TZID=America/Detroit:20260617T130000
SUMMARY:Workshop / Seminar:Accessibility in Action: Building an Inclusive Community at U-M
DESCRIPTION:This workshop will guide us through the ways accessibility shapes equity on campus and beyond. We’ll explore why disability matters\, define key concepts like ableism\, discuss universal design\, language and etiquette\, workplace accommodations\, and the role of the Disability Equity Office. Together\, we’ll learn how accessibility benefits everyone — not just those with disabilities.\n\nAmerican Sign Language (ASL) interpreting services and Communication Access Realtime Translation (CART) captioning services will be provided. If you need additional accommodations to participate in this webinar\, please email the ADA Coordinator at ADAcoordinator@umich.edu.
UID:146706-21899511@events.umich.edu
URL:https://events.umich.edu/event/146706
CLASS:PUBLIC
STATUS:CONFIRMED
CATEGORIES:Inclusion,Disability,Neurodiversity,Virtual,Workshop,Accessibility,Communication,Digital Accessibility,Discussion
LOCATION:Off Campus Location
CONTACT:
END:VEVENT
BEGIN:VEVENT
DTSTAMP:20260416T121510
DTSTART;TZID=America/Detroit:20260617T120000
DTEND;TZID=America/Detroit:20260617T170000
SUMMARY:Exhibition:Marianetta Porter: Breath\, Fragment\, Return
DESCRIPTION:\n\nCurated by Juana Williams\, this exhibition examines how Marianetta Porter uses everyday objects\, fragments\, and embodied memory to make absence an active\, living presence while challenging linear histories. Rooted in African American experience\, her practice treats what is discarded\, overlooked\, or missing not as loss\, but as a source of meaning that continues to act on the present. Through her process and materials\, Porter reveals how memory is carried in the body and embedded in ordinary things. Her work also resists forward-moving notions of time\, instead presenting a diasporic temporality in which past\, present\, and lived experience circulate together through repetition\, touch\, and recall. In doing so\, Porter proposes a vision of history as unfinished\, memory as active\, and absence as a force that sustains connection and shapes the present. \n\nMarianetta Porter is a visual artist and product designer whose research and creative practice are grounded in the study of African American history\, culture\, and representation. Through the language of visual art\, she draws connections between historic memory and contemporary African American life\, giving voice to the history of the African diaspora while acknowledging its central influence on the birth and flourishing of American culture.\n\nHer work has been exhibited nationally at institutions such as the Indianapolis Museum of Art\, the Chicago Museum of Science and Industry\, the Spoleto Festival\, the Harriet Tubman Museum\, and the Hampton University Museum of Art.\n\nShe earned her Bachelor of Fine Arts from Hampton University and her Master of Fine Arts from the University of Michigan. The recipient of numerous awards\, Porter is Professor Emeritus at the University of Michigan’s Stamps School of Art and Design.\n\nJuana Williams is a curator and writer whose work explores the intersections of cross-border intellectual history\, cultural memory\, and identity formation as expressed through modern and contemporary art from Africa and its diasporas.\n\nWilliams has held curatorial and academic appointments at organizations including the Detroit Institute of Arts\, Library Street Collective\, Wayne State University\, and the Urban Institute for Contemporary Art. Her curatorial projects have been presented at institutions across the United States and France\, including the Grand Rapids Art Museum\, the Muskegon Museum of Art\, Palais de Tokyo (Paris)\, and the Westmoreland Museum of American Art. In addition\, she has presented lectures at various museums and universities and contributed to numerous exhibition catalogs. Her work has been written about in publications such as Artsy\, Beaux Arts Magazine\, Condé Nast Traveller\, Michigan Chronicle\, and Observer. Williams holds a BA in Fine Art and an MA in Art History from Wayne State University.
UID:147625-21901378@events.umich.edu
URL:https://events.umich.edu/event/147625
CLASS:PUBLIC
STATUS:CONFIRMED
CATEGORIES:Art
LOCATION:Off Campus Location
CONTACT:
END:VEVENT
BEGIN:VEVENT
DTSTAMP:20260419T123205
DTSTART;TZID=America/Detroit:20260617T123000
DTEND;TZID=America/Detroit:20260617T140000
SUMMARY:Careers / Jobs:Interviewing for Jobs and Internships (for Graduate Students)
DESCRIPTION:This workshop is open to all graduate students seeking guidance around interviewing for positions beyond tenure track roles\, which can differ greatly from the academic job search process. It also meets the needs of those applying to internships\, including those applying to the Rackham Doctoral Intern Fellowship Program. The workshop will focus on preparing graduate students to navigate the interview process\, and to effectively answer questions by strategically articulating strengths and skills. We will also discuss a framework for answering behavioral interview questions. This event is intended to be interactive\, therefore a recording willnot be available.This workshop is designed for master's students\, doctoral students\, and postdoctoral fellows. For faculty and staff\, please contact rackhamdeworkshops@umich.edu to see if we can accommodateyour attendance. Brought to you by the University Career Center\, in partnership with Rackham Graduate School. This event's information is shown in Handshake as well as on the Happening @ Michigan calendar so that it will be seen by a larger number of U-M Students. You can only register to attend this event within Handshake. If you'd like to indicate that you'll be attending this event and see more details\, please go to this webpage: https://umich.joinhandshake.com/events/1945075/share_preview  We want to ensure full and equitable participation in our events. If an accessibility accommodation would promote your full participation in this event\, please indicateyour accommodation requirements via the link below\, preferably at least 14 days prior to the program to ensure sufficient time for arranging your requested accommodation(s) or exploring suitable alternatives. If you haveany questions regarding access to our programs\, please don't hesitate toreach out to Cierra Sutherland at cierrasu@umich.edu. Accessibility accommodation form: https://forms.gle/FmFn35ZLxJ8kvPfSA  #UCC
UID:147803-21901984@events.umich.edu
URL:https://events.umich.edu/event/147803
CLASS:PUBLIC
STATUS:CONFIRMED
CATEGORIES:
LOCATION:
CONTACT:
END:VEVENT
BEGIN:VEVENT
DTSTAMP:20260409T152531
DTSTART;TZID=America/Detroit:20260617T123000
DTEND;TZID=America/Detroit:20260617T140000
SUMMARY:Workshop / Seminar:Interviewing for Jobs and Internships (for Graduate Students)
DESCRIPTION:This workshop is open to all graduate students seeking guidance around interviewing for positions beyond tenure track roles\, which can differ greatly from the academic job search process. It also meets the needs of those applying to internships\, including those applying to the Rackham Doctoral Intern Fellowship Program. The workshop will focus on preparing graduate students to navigate the interview process\, and to effectively answer questions by strategically articulating strengths and skills. We will also discuss a framework for answering behavioral interview questions. This event is intended to be interactive\, therefore a recording will not be available.\n\nThis workshop is designed for master's students\, doctoral students\, and postdoctoral fellows. For faculty and staff\, please contact rackhamdeworkshops@umich.edu to see if we can accommodate your attendance. \n\nBrought to you by the University Career Center\, in partnership with Rackham Graduate School.
UID:147599-21901325@events.umich.edu
URL:https://events.umich.edu/event/147599
CLASS:PUBLIC
STATUS:CONFIRMED
CATEGORIES:Sessions,Rgs Events,Rgs-events
LOCATION:Virtual via Zoom
CONTACT:
END:VEVENT
BEGIN:VEVENT
DTSTAMP:20260419T132033
DTSTART;TZID=America/Detroit:20260617T130000
DTEND;TZID=America/Detroit:20260617T170000
SUMMARY:Workshop / Seminar:eRPM Proposal Preparation and Unit Review Class
DESCRIPTION:This instructor-led\, hands-on training session covers the process of preparing and submitting proposals using the eResearch Proposal Management (eRPM) system\, including Grants.gov to create and edit a Proposal Approval Form (PAF).
UID:115176-21895521@events.umich.edu
URL:https://events.umich.edu/event/115176
CLASS:PUBLIC
STATUS:CONFIRMED
CATEGORIES:Sessions
LOCATION:https://umich.zoom.us/j/98711213208
CONTACT:
END:VEVENT
BEGIN:VEVENT
DTSTAMP:20260302T162354
DTSTART;TZID=America/Detroit:20260617T173000
DTEND;TZID=America/Detroit:20260617T190000
SUMMARY:Well-being:Strengthening Skills: ADHD Group for Adults
DESCRIPTION:Are you struggling with organization\, time management\, or staying on track? Looking for strategies to better handle daily challenges? Our Psychological Clinic is excited to announce the return of our comprehensive\, evidence-based Strengthening Skills: ADHD Group for Adults this spring. Participants do not need an official ADHD diagnosis to join—any adult seeking practical tools for executive functioning is welcome.\n\nAbout the 8-Week ADHD Skills Group\n\nThis interactive\, in-person group program is designed to help adults develop stronger skills in organization\, prioritization\, and time management. Over eight weekly sessions\, participants will:\n\nLearn and practice new strategies in a structured\, supportive environment\nGain confidence and growth alongside others who understand executive functioning challenges\nBuild a toolkit that will help manage daily responsibilities and stressors\nWhy Group Therapy?\n\nChoosing group therapy means you benefit from the collective experience and support of others facing similar challenges. Practicing strategies with a group helps foster real improvement as you share experiences and encourage one another.\n\nProgram Details:\n\nWho: Adults seeking practical solutions and support for executive functioning challenges (no ADHD diagnosis required)\nWhen: Wednesday evenings\, 5:30 – 7:00 pm\,\nDates: April 29 to June 24\nWhere: In-person\, at 210 S. 5th Ave.\, downtown Ann Arbor
UID:146098-21898378@events.umich.edu
URL:https://events.umich.edu/event/146098
CLASS:PUBLIC
STATUS:CONFIRMED
CATEGORIES:Workshop,Undergraduate Students,Time Management,Staff,Graduate and Professional Students,adhd
LOCATION:Off Campus Location
CONTACT:
END:VEVENT
BEGIN:VEVENT
DTSTAMP:20260331T112317
DTSTART;TZID=America/Detroit:20260617T190000
DTEND;TZID=America/Detroit:20260617T200000
SUMMARY:Lecture / Discussion:Hann Lecture in Ornithology: “Trait-based Insights into the Dynamics of Biodiversity”
DESCRIPTION:As part of the 2026 Summer Lecture Series at the University of Michigan Biological Station (UMBS)\, Dr. Marta Jarzyna will give the Hann Lecture in Ornithology. The free\, public talk is titled\, “Trait-based Insights into the Dynamics of Biodiversity.”\n\nJarzyna is an associate professor in the Department of Evolution\, Ecology and Organismal Biology at Ohio State University.\n\nTrait-based ecology has long been heralded as a framework capable of providing mechanistic insight into biodiversity dynamics and thereby enabling predictions of future biodiversity states.\n\nYet despite decades of development\, the promise of trait-based ecology remains largely unrealized.\n\nIn this talk\, the macroecologist and biodiversity scientist will draw on examples from her own research to critically examine where this promise has and has not been fulfilled.\n\nUsing avian systems as a case study\, Jarzyna demonstrates how incorporating functional traits into biodiversity metrics can reveal patterns that traditional species richness measures obscure.\n\nIn particular\, she shows that trait-based approaches uncover seasonal dynamics in bird communities — shifts in functional composition across the year that species counts alone would miss entirely.\n\nThese findings illustrate both the potential of trait-based ecology and the persistent gap between its theoretical ambitions and empirical application.\nJarzyna’s research focuses on understanding the processes that drive biodiversity dynamics across spatial\, temporal\, and taxonomic scales.\n\nShe holds an M.S. in environmental science from Warsaw University of Life Sciences and a dual Ph.D. in fisheries and wildlife and ecology\, evolutionary biology\, and behavior from Michigan State University\, and completed her postdoctoral fellowship at Yale University.\n\nThe University of Michigan Biological Station serves as a gathering place to learn from the natural world\, advance research and education\, and inspire action. We leverage over a century of research and transformative experiences to drive discoveries and solutions to benefit Michigan and beyond.\n\nFounded in 1909\, UMBS supports long-term research and education through immersive\, field-based courses and features state-of-the-art equipment and facilities for data collection and analysis to help any field researcher be productive. It is where students and scientists from across the globe live and work as a community to learn from the place.\n\nThe Summer Lecture Series is a tradition at UMBS\, where we explore scientific topics with distinguished guest speakers from across the country so the community can learn about our natural world.\n\nThe free\, public talks are on Wednesdays at 7 p.m. in the spring and summer in Gates Lecture Hall at the University of Michigan Biological Station\, located at 9133 Biological Rd. in Pellston\, Michigan — about 20 miles south of the Mackinac Bridge.
UID:147277-21900625@events.umich.edu
URL:https://events.umich.edu/event/147277
CLASS:PUBLIC
STATUS:CONFIRMED
CATEGORIES:Biological Station,Bsbsigns,U-m Biological Station,biodiversity,AEM Featured
LOCATION:Gates Lecture Hall\, UM Biological Station
CONTACT:
END:VEVENT
BEGIN:VEVENT
DTSTAMP:20260303T152543
DTSTART;TZID=America/Detroit:20260617T200000
DTEND;TZID=America/Detroit:20260617T230000
SUMMARY:Exhibition:Echoes of the Past: Greektown as Seen by Sam Karres
DESCRIPTION:Explore the personal sketchbooks of Sam Karres\, Greek-American painter and artist\, as he illustrates the daily life of residents in Greektown\, Detroit. This exhibit highlights Detroit’s Greek-American community and urban scenery during the late 20th century. Experience art and life through Sam’s eyes with scenes of music\, dance\, restaurants\, and the faces of the community. Let the vivid watercolor paintings and expressive sketches transport you to a Greektown of the past\, and learn more about Sam Karres’ life as an artist.\n\nFeaturing works from the Sam Karres Archive\, 1955-2012\, held by the University of Michigan Library's Special Collection Research Center. Curated by Annelie Zissis and Arthur Pfeifer-Rubey\, Library Engagement Fellows.
UID:146151-21898529@events.umich.edu
URL:https://events.umich.edu/event/146151
CLASS:PUBLIC
STATUS:CONFIRMED
CATEGORIES:Library,Free
LOCATION:Hatcher Graduate Library - Clark Library (2nd floor)
CONTACT:
END:VEVENT
BEGIN:VEVENT
DTSTAMP:20260414T144814
DTSTART;TZID=America/Detroit:20260617T200000
DTEND;TZID=America/Detroit:20260617T233000
SUMMARY:Exhibition:Muted Volumes: Book-Objects\, Patterned Papers\, and the Closed Stacks of Buhr
DESCRIPTION:This exhibit in the Clark Library rotunda focuses on handmade decorative patterned papers when exploring books stored at the library's Buhr Offsite Shelving Facility. Decorative paper\, noticed when walking through the stack's aisles or surprising you when you casually flip through a book\, can really catch your eye. But because the Buhr stacks are closed from browsing\, the density and dimensionality of its nearly 3 million books are reduced to title searches on a screen.\n\nAs a response to these reflections\, artist and library staff member Stephanie Osorio shares her handbound unopenable book-objects as symbolic stand-ins for forgotten books at Buhr — the books that don’t get a chance to be noticed. Along with the book-objects are the carved woodblocks that made prints to decorate them. Some books from Buhr that inspired this project with their original decorated patterned papers will also be on display.\n\nView the exhibit anytime the Hatcher Library is open\, and join us for an opening reception on Thursday\, May 14th\, 5pm - 6:30pm\, for an opportunity to hear from the artist and engage with the book-objects.
UID:147739-21901703@events.umich.edu
URL:https://events.umich.edu/event/147739
CLASS:PUBLIC
STATUS:CONFIRMED
CATEGORIES:Free,Library
LOCATION:Hatcher Graduate Library - Clark Library (2nd floor)
CONTACT:
END:VEVENT
END:VCALENDAR