BEGIN:VCALENDAR
VERSION:2.0
PRODID:-//UM//UM*Events//EN
CALSCALE:GREGORIAN
BEGIN:VTIMEZONE
TZID:America/Detroit
TZURL:http://tzurl.org/zoneinfo/America/Detroit
X-LIC-LOCATION:America/Detroit
BEGIN:DAYLIGHT
TZOFFSETFROM:-0500
TZOFFSETTO:-0400
TZNAME:EDT
DTSTART:20070311T020000
RRULE:FREQ=YEARLY;BYMONTH=3;BYDAY=2SU
END:DAYLIGHT
BEGIN:STANDARD
TZOFFSETFROM:-0400
TZOFFSETTO:-0500
TZNAME:EST
DTSTART:20071104T020000
RRULE:FREQ=YEARLY;BYMONTH=11;BYDAY=1SU
END:STANDARD
END:VTIMEZONE
BEGIN:VEVENT
DTSTAMP:20260408T103429
DTSTART;TZID=America/Detroit:20260622T080000
DTEND;TZID=America/Detroit:20260622T164500
SUMMARY:Workshop / Seminar:Biomedical Data Science Summer Academy
DESCRIPTION:Academy Overview\nThe Biomedical Summer Academy will introduce participants to key concepts of data science and artificial intelligence\, showing how they can be leveraged in biomedical research and incorporated into grant proposals. Previous course topics have included introductions to Python programming\, machine learning techniques\, and use-case examples.\n\nParticipants are expected to bring a laptop for the academy.\n\nTopics:\n\nKey concepts of data science\nIntroduction to Python programming and its use in data science\nMachine learning techniques\, including support vector machines\, artificial neural networks\, and deep learning\nExamples of biomedical research projects that leverage data science\nIncorporating data science into biomedical grant proposals
UID:147529-21901182@events.umich.edu
URL:https://events.umich.edu/event/147529
CLASS:PUBLIC
STATUS:CONFIRMED
CATEGORIES:Research,Medicine,Data Science,Biosciences,Biomedical,Artificial Intelligence,Ai
LOCATION:
CONTACT:
END:VEVENT
BEGIN:VEVENT
DTSTAMP:20250421T140629
DTSTART;TZID=America/Detroit:20260622T080000
DTEND;TZID=America/Detroit:20260622T160000
SUMMARY:Other:KidSport Summer Camp
DESCRIPTION:KidSport Summer Camps offers children ages 4-11 the opportunity to learn and play a variety of team sports\, individual sports\, team building games\, and other physical education activities in a non-competitive and fun sports environment. All children will have time in the pool on Tuesday and Thursday mornings and each afternoon\, Monday through Friday\, to work on water comfort. skills and safety. KidSport Inclusive is for all kids who do not require a high degree of personalized support to participate in large group activities. For more information and to register\, visit our website listed below.
UID:135145-21895856@events.umich.edu
URL:https://events.umich.edu/event/135145
CLASS:PUBLIC
STATUS:CONFIRMED
CATEGORIES:Camp,Children
LOCATION:Off Campus Location
CONTACT:
END:VEVENT
BEGIN:VEVENT
DTSTAMP:20260419T123205
DTSTART;TZID=America/Detroit:20260622T133000
DTEND;TZID=America/Detroit:20260622T150000
SUMMARY:Careers / Jobs:Cover Letters & Resumes for Jobs and Internships (for Graduate Students)
DESCRIPTION:This workshop is open to all graduate students seeking guidance on cover letters and resumes for positions beyond tenure track roles.It also meets the needs of those applying for internships\, including those applying to the Rackham Doctoral Intern Fellowship Program. The processof synthesizing your academic experiences into strong application materials for jobs and internships beyond academia can be challenging but rewarding. This workshop is a hands-on opportunity for graduate students to learnhow to effectively develop a resume using the foundation that they have laid with information from their CVs. Additionally\, this session will include tips for writing compelling\, tailored cover letters and thinking strategically about how these two documents complement each other.This workshop is designed for master's students\, doctoral students\, and postdoctoral fellows. For faculty and staff\, please contact rackhamdeworkshops@umich.edu to see if we can accommodate your attendance.Brought to you by the University Career Center\, in partnership with Rackham Graduate School. This event's information is shown in Handshake as well as on the Happening @ Michigan calendar so that it will be seen by a larger number of U-M Students. You can only register to attend this event within Handshake. If you'd like to indicate that you'll be attending this event and see more details\, please go to this webpage: https://umich.joinhandshake.com/events/1945109/share_preview  We want to ensure full and equitable participation in our events. If an accessibility accommodation would promote your full participation in this event\, please indicate your accommodation requirements via the link below\, preferably at least 14 days prior to the program toensure sufficient time for arranging your requested accommodation(s) or exploring suitable alternatives. If you have any questions regarding accessto our programs\, please don't hesitate to reach out to Cierra Sutherlandat cierrasu@umich.edu. Accessibility accommodation form: https://forms.gle/FmFn35ZLxJ8kvPfSA  #UCC
UID:147804-21901985@events.umich.edu
URL:https://events.umich.edu/event/147804
CLASS:PUBLIC
STATUS:CONFIRMED
CATEGORIES:
LOCATION:
CONTACT:
END:VEVENT
BEGIN:VEVENT
DTSTAMP:20260409T152615
DTSTART;TZID=America/Detroit:20260622T133000
DTEND;TZID=America/Detroit:20260622T153000
SUMMARY:Workshop / Seminar:Cover Letters & Resumes for Jobs and Internships (for Graduate Students)
DESCRIPTION:This workshop is open to all graduate students seeking guidance on cover letters and resumes for positions beyond tenure track roles. It also meets the needs of those applying for internships\, including those applying to the Rackham Doctoral Intern Fellowship Program. The process of synthesizing your academic experiences into strong application materials for jobs and internships beyond academia can be challenging but rewarding. This workshop is a hands-on opportunity for graduate students to learn how to effectively develop a resume using the foundation that they have laid with information from their CVs. Additionally\, this session will include tips for writing compelling\, tailored cover letters and thinking strategically about how these two documents complement each other.\n\nThis workshop is designed for master's students\, doctoral students\, and postdoctoral fellows. For faculty and staff\, please contact rackhamdeworkshops@umich.edu to see if we can accommodate your attendance.\n\nBrought to you by the University Career Center\, in partnership with Rackham Graduate School.
UID:147600-21901326@events.umich.edu
URL:https://events.umich.edu/event/147600
CLASS:PUBLIC
STATUS:CONFIRMED
CATEGORIES:Sessions,Rgs-events,Rgs Events
LOCATION:Virtual via Zoom
CONTACT:
END:VEVENT
BEGIN:VEVENT
DTSTAMP:20260303T152543
DTSTART;TZID=America/Detroit:20260622T200000
DTEND;TZID=America/Detroit:20260622T230000
SUMMARY:Exhibition:Echoes of the Past: Greektown as Seen by Sam Karres
DESCRIPTION:Explore the personal sketchbooks of Sam Karres\, Greek-American painter and artist\, as he illustrates the daily life of residents in Greektown\, Detroit. This exhibit highlights Detroit’s Greek-American community and urban scenery during the late 20th century. Experience art and life through Sam’s eyes with scenes of music\, dance\, restaurants\, and the faces of the community. Let the vivid watercolor paintings and expressive sketches transport you to a Greektown of the past\, and learn more about Sam Karres’ life as an artist.\n\nFeaturing works from the Sam Karres Archive\, 1955-2012\, held by the University of Michigan Library's Special Collection Research Center. Curated by Annelie Zissis and Arthur Pfeifer-Rubey\, Library Engagement Fellows.
UID:146151-21898534@events.umich.edu
URL:https://events.umich.edu/event/146151
CLASS:PUBLIC
STATUS:CONFIRMED
CATEGORIES:Free,Library
LOCATION:Hatcher Graduate Library - Clark Library (2nd floor)
CONTACT:
END:VEVENT
BEGIN:VEVENT
DTSTAMP:20260306T132318
DTSTART;TZID=America/Detroit:20260622T200000
SUMMARY:Performance:Hot 8 Brass Band
DESCRIPTION:“Swells with swaggering jazz\, raucous funk\, second line strut and hip-hop attitude… irresistible” –MOJO\n\nDrawing on the traditional jazz heritage of their hometown of New Orleans\, the Hot 8 Brass Band are renowned for including elements of funk\, hip hop\, rap\, and its local variation\, “bounce” in their music. The collective earned a win in the 64th Annual Grammy Awards 2022 for their feature on John Batiste’s ‘Album of The Year'\, following the nomination of their ‘The Life & Times Of…’ LP for ‘Best Regional Roots Album’ in 2013.\n\nTranscending genres and trends\, Hot 8 have performed and collaborated with the likes of Jon Batiste\, Blind Boys of Alabama\, Basement Jaxx and Alice Russell\, and provided live support for Mos Def\, Lauryn Hill and Mary J Blige. Since forming they have established a decade-long affiliation with actor/BBC 6Music DJ Craig Charles\, among other tastemakers\, DJs and journalists worldwide. After a festive appearance Live at Maida Vale for Lauren Laverne (BBC 6 Music)\, the Hot 8 Brass Band performed for Jools Holland's annual Hootenanny on BBC Two to welcome in 2019. Later that year\, after taking to the stage at the BRIT awards in February\, Hot 8 Brass Band were invited on the European leg of George Ezra’s tour.
UID:146225-21898680@events.umich.edu
URL:https://events.umich.edu/event/146225
CLASS:PUBLIC
STATUS:CONFIRMED
CATEGORIES:Ark,Mutotix
LOCATION:ARK Reserved
CONTACT:
END:VEVENT
BEGIN:VEVENT
DTSTAMP:20260414T144814
DTSTART;TZID=America/Detroit:20260622T200000
DTEND;TZID=America/Detroit:20260622T233000
SUMMARY:Exhibition:Muted Volumes: Book-Objects\, Patterned Papers\, and the Closed Stacks of Buhr
DESCRIPTION:This exhibit in the Clark Library rotunda focuses on handmade decorative patterned papers when exploring books stored at the library's Buhr Offsite Shelving Facility. Decorative paper\, noticed when walking through the stack's aisles or surprising you when you casually flip through a book\, can really catch your eye. But because the Buhr stacks are closed from browsing\, the density and dimensionality of its nearly 3 million books are reduced to title searches on a screen.\n\nAs a response to these reflections\, artist and library staff member Stephanie Osorio shares her handbound unopenable book-objects as symbolic stand-ins for forgotten books at Buhr — the books that don’t get a chance to be noticed. Along with the book-objects are the carved woodblocks that made prints to decorate them. Some books from Buhr that inspired this project with their original decorated patterned papers will also be on display.\n\nView the exhibit anytime the Hatcher Library is open\, and join us for an opening reception on Thursday\, May 14th\, 5pm - 6:30pm\, for an opportunity to hear from the artist and engage with the book-objects.
UID:147739-21901708@events.umich.edu
URL:https://events.umich.edu/event/147739
CLASS:PUBLIC
STATUS:CONFIRMED
CATEGORIES:Free,Library
LOCATION:Hatcher Graduate Library - Clark Library (2nd floor)
CONTACT:
END:VEVENT
END:VCALENDAR