BEGIN:VCALENDAR
VERSION:2.0
PRODID:-//UM//UM*Events//EN
CALSCALE:GREGORIAN
BEGIN:VTIMEZONE
TZID:America/Detroit
TZURL:http://tzurl.org/zoneinfo/America/Detroit
X-LIC-LOCATION:America/Detroit
BEGIN:DAYLIGHT
TZOFFSETFROM:-0500
TZOFFSETTO:-0400
TZNAME:EDT
DTSTART:20070311T020000
RRULE:FREQ=YEARLY;BYMONTH=3;BYDAY=2SU
END:DAYLIGHT
BEGIN:STANDARD
TZOFFSETFROM:-0400
TZOFFSETTO:-0500
TZNAME:EST
DTSTART:20071104T020000
RRULE:FREQ=YEARLY;BYMONTH=11;BYDAY=1SU
END:STANDARD
END:VTIMEZONE
BEGIN:VEVENT
DTSTAMP:20260408T103429
DTSTART;TZID=America/Detroit:20260624T080000
DTEND;TZID=America/Detroit:20260624T164500
SUMMARY:Workshop / Seminar:Biomedical Data Science Summer Academy
DESCRIPTION:Academy Overview\nThe Biomedical Summer Academy will introduce participants to key concepts of data science and artificial intelligence\, showing how they can be leveraged in biomedical research and incorporated into grant proposals. Previous course topics have included introductions to Python programming\, machine learning techniques\, and use-case examples.\n\nParticipants are expected to bring a laptop for the academy.\n\nTopics:\n\nKey concepts of data science\nIntroduction to Python programming and its use in data science\nMachine learning techniques\, including support vector machines\, artificial neural networks\, and deep learning\nExamples of biomedical research projects that leverage data science\nIncorporating data science into biomedical grant proposals
UID:147529-21901184@events.umich.edu
URL:https://events.umich.edu/event/147529
CLASS:PUBLIC
STATUS:CONFIRMED
CATEGORIES:Data Science,Research,Medicine,Ai,Artificial Intelligence,Biomedical,Biosciences
LOCATION:
CONTACT:
END:VEVENT
BEGIN:VEVENT
DTSTAMP:20250421T140629
DTSTART;TZID=America/Detroit:20260624T080000
DTEND;TZID=America/Detroit:20260624T160000
SUMMARY:Other:KidSport Summer Camp
DESCRIPTION:KidSport Summer Camps offers children ages 4-11 the opportunity to learn and play a variety of team sports\, individual sports\, team building games\, and other physical education activities in a non-competitive and fun sports environment. All children will have time in the pool on Tuesday and Thursday mornings and each afternoon\, Monday through Friday\, to work on water comfort. skills and safety. KidSport Inclusive is for all kids who do not require a high degree of personalized support to participate in large group activities. For more information and to register\, visit our website listed below.
UID:135145-21895858@events.umich.edu
URL:https://events.umich.edu/event/135145
CLASS:PUBLIC
STATUS:CONFIRMED
CATEGORIES:Camp,Children
LOCATION:Off Campus Location
CONTACT:
END:VEVENT
BEGIN:VEVENT
DTSTAMP:20250828T001529
DTSTART;TZID=America/Detroit:20260624T110000
DTEND;TZID=America/Detroit:20260624T190000
SUMMARY:Exhibition:Fore-Site (Phase 3): The Stamps Gallery Pillar Project
DESCRIPTION:From September 2025 through August 2026\, Stamps Gallery is partnering in a curatorial collaboration with two Ypsilanti-based\, artist-run project spaces led by Stamps alumni: C.Y.N.K. Studios\, directed by Sally Clegg (Lecturer III and Student Exhibition Coordinator\, MFA ’20) and Abhishek Narula (MFA ’20)\; and Sometimes Space\, directed by Nathan Byrne (Lecturer I\, MFA ’21). Each space hosts dozens of artists annually for exhibitions\, performances\, and events\, fostering experimental work and building community. For this project\, Byrne\, Clegg\, and Narula have been commissioned to reimagine the pillars on Division Street that flank the gallery. In response\, they've curated six artists to create new work for the pillars over three cycles:\nPhase 1 (September 12 - December 12) artists: Amelia Burns (Cranbrook MFA '23) and Erin McKenna (MFA '20)Phase 2 (January 12 - April 12) artists: Sally Clegg (MFA '20) and Kim Karlsrud (MFA '20)Phase 3 (May 12 - August 12) artists: Abhishek Narula (MFA '20) and Nathan Byrne (MFA '21)\nPhase 3 \nCurated by Sometimes Space: Abhishek Narula (entry pillar)Curated by CYNK Studios: Nathan Byrne (courtyard pillar)
UID:138033-21881351@events.umich.edu
URL:https://events.umich.edu/event/138033
CLASS:PUBLIC
STATUS:CONFIRMED
CATEGORIES:Art
LOCATION:Off Campus Location
CONTACT:
END:VEVENT
BEGIN:VEVENT
DTSTAMP:20260416T121510
DTSTART;TZID=America/Detroit:20260624T120000
DTEND;TZID=America/Detroit:20260624T170000
SUMMARY:Exhibition:Marianetta Porter: Breath\, Fragment\, Return
DESCRIPTION:\n\nCurated by Juana Williams\, this exhibition examines how Marianetta Porter uses everyday objects\, fragments\, and embodied memory to make absence an active\, living presence while challenging linear histories. Rooted in African American experience\, her practice treats what is discarded\, overlooked\, or missing not as loss\, but as a source of meaning that continues to act on the present. Through her process and materials\, Porter reveals how memory is carried in the body and embedded in ordinary things. Her work also resists forward-moving notions of time\, instead presenting a diasporic temporality in which past\, present\, and lived experience circulate together through repetition\, touch\, and recall. In doing so\, Porter proposes a vision of history as unfinished\, memory as active\, and absence as a force that sustains connection and shapes the present. \n\nMarianetta Porter is a visual artist and product designer whose research and creative practice are grounded in the study of African American history\, culture\, and representation. Through the language of visual art\, she draws connections between historic memory and contemporary African American life\, giving voice to the history of the African diaspora while acknowledging its central influence on the birth and flourishing of American culture.\n\nHer work has been exhibited nationally at institutions such as the Indianapolis Museum of Art\, the Chicago Museum of Science and Industry\, the Spoleto Festival\, the Harriet Tubman Museum\, and the Hampton University Museum of Art.\n\nShe earned her Bachelor of Fine Arts from Hampton University and her Master of Fine Arts from the University of Michigan. The recipient of numerous awards\, Porter is Professor Emeritus at the University of Michigan’s Stamps School of Art and Design.\n\nJuana Williams is a curator and writer whose work explores the intersections of cross-border intellectual history\, cultural memory\, and identity formation as expressed through modern and contemporary art from Africa and its diasporas.\n\nWilliams has held curatorial and academic appointments at organizations including the Detroit Institute of Arts\, Library Street Collective\, Wayne State University\, and the Urban Institute for Contemporary Art. Her curatorial projects have been presented at institutions across the United States and France\, including the Grand Rapids Art Museum\, the Muskegon Museum of Art\, Palais de Tokyo (Paris)\, and the Westmoreland Museum of American Art. In addition\, she has presented lectures at various museums and universities and contributed to numerous exhibition catalogs. Her work has been written about in publications such as Artsy\, Beaux Arts Magazine\, Condé Nast Traveller\, Michigan Chronicle\, and Observer. Williams holds a BA in Fine Art and an MA in Art History from Wayne State University.
UID:147625-21901382@events.umich.edu
URL:https://events.umich.edu/event/147625
CLASS:PUBLIC
STATUS:CONFIRMED
CATEGORIES:Art
LOCATION:Off Campus Location
CONTACT:
END:VEVENT
BEGIN:VEVENT
DTSTAMP:20260419T123155
DTSTART;TZID=America/Detroit:20260624T120000
DTEND;TZID=America/Detroit:20260624T130000
SUMMARY:Careers / Jobs:Resume Lab
DESCRIPTION:*RSVP required to attend. Click \"Join Event\" here: https://umich.joinhandshake.com/edu/events/1943797Just getting started building a resume? Have a draft but not sure how to make it better? Want to learn about resources available to revise your resume? Wherever you’re at Resume Lab is a great next step for you. Get real-time\, personalized support in a small group setting by checking out the Resume Lab.We will discuss and educate you on…- Design andformat- Writing a great bullet point- Targeting your resumefor specific internships/jobs If you're a Graduate Studentor Recent Grad\, please make a 1:1 appointment instead of attending the Lab because this event is designed for undergraduates. Note:This event's information is shown in Handshake as well as on the Happening @ Michigan calendar so that it will be seen by a larger number of U-M Students.#UCC
UID:147718-21901648@events.umich.edu
URL:https://events.umich.edu/event/147718
CLASS:PUBLIC
STATUS:CONFIRMED
CATEGORIES:
LOCATION:
CONTACT:
END:VEVENT
BEGIN:VEVENT
DTSTAMP:20260115T110339
DTSTART;TZID=America/Detroit:20260624T180000
DTEND;TZID=America/Detroit:20260624T193000
SUMMARY:Meeting:Stuttering Support Group
DESCRIPTION:This Stuttering Support Group is open to any teens and adults who stutter. It provides a safe space to connect\, share experiences\, and navigate challenges with one another.\n\nDate: Fourth Wednesday of every month\nTime: 6:00p.m.–7:30p.m.\nLocation: 3rd Floor Freespace\, Ann Arbor District Library - Downtown\n\nAttendees can also join virtually if they prefer. Please email cwsbrains@umich.edu to request the link to join.\n\n*This group meets on the 4th Wednesday of every month at the same time and place.*\n\nHosted by the Ann Arbor Stuttering Awareness and Research Club (A2STAR) in collaboration with the U-M Speech Neurophysiology Lab. The group is facilitated by students from the University of Michigan who stutter.
UID:121370-21894315@events.umich.edu
URL:https://events.umich.edu/event/121370
CLASS:PUBLIC
STATUS:CONFIRMED
CATEGORIES:In Person,Disability,Diversity Equity and Inclusion,Free,Graduate and Professional Students,Graduate Students,Student Org,Social,Undergraduate Students,Virtual,Well-being,Inclusion
LOCATION:Off Campus Location - 3rd Floor Freespace
CONTACT:
END:VEVENT
BEGIN:VEVENT
DTSTAMP:20260331T114121
DTSTART;TZID=America/Detroit:20260624T190000
DTEND;TZID=America/Detroit:20260624T200000
SUMMARY:Lecture / Discussion:“Making Steel Knives from Sands Found on Douglas Lake”
DESCRIPTION:Dr. John Verhoeven is a metallurgical engineer\, U-M alumnus and Distinguished Emeritus Professor at Iowa State University who lives along Douglas Lake\, near the University of Michigan Biological Station.\n\nAs part of the 2026 Summer Lecture Series at the University of Michigan Biological Station (UMBS)\, Verhoeven will give a free\, public talk titled\, “Making Steel Knives from Sands Found on Douglas Lake.”\n\nSince retiring\, he has continued to do research with colleagues in northern Michigan. They recently found magnetic black sand on Douglas Lake\, reduced it to iron and made kitchen knives.\n\nTheir experiments measuring the composition of the sand in an electron microscope show that it comes from what geologists call OUI deposits of the Mid-Continental Rift. Verhoeven said the source rock from which the sand eroded — Fe-Ti oxide ultramafic intrusions (OUI) — was brought to the surface from magma in Earth’s core 1.1 billion years ago when tectonic plates separated. \n\nHere is a more detailed description of the lecture from Verhoeven: “Bladesmith Tim Zowada\, who lives near Petoskey\, smelts the magnetic black sand he collects on Lake Superior near White Fish Point into iron and makes knives. Working with Tim\, we discovered that the source rock from which the sand eroded contains Ti. This was a new discovery because geologists had assumed the source rock was the same as the iron ore used to make the Taconite which is shipped through the Soo Locks to supply US steel mills. It does not contain Ti. With the help of geologist Marcia Bjornerud\, we have shown that the source rock is what geologists call: Fe-Ti oxide ultramafic intrusions (OUIs). These rocks where brought to the surface from the magma in Earth’s core 1.1 billion years ago when tectonic plates separated and the mid-continental rift (MCR) formed. The rift runs through the Lake Superior region\, and our experiments show the Ti minerals of Tim’s sand matches the composition from OUI drillings collected near Lake Superior. With the help of my neighbor\, Mike Johnson\, we have recently found magnetic black sand on Douglas Lake and Tim has reduced it to iron and made a few small kitchen knives which will be passed around. Our experiments measuring the composition of the sand in an electron microscope in my shop show that it also comes from OUI deposits of the MCR. Douglas Lake also lies on the MCR. The implications of these results will be discussed.”\n\nVerhoeven grew up in Monroe\, Michigan\, and attended the University of Michigan\, where he earned a bachelor of science degree in chemical engineering as well as his master’s and Ph.D. in metallurgical engineering.\n\nHe spent his professional career at Iowa State University\, doing research in the DOE lab and teaching in the Materials Science Department. \n\nVerhoeven has published two books on metallurgy\, 220 peer-reviewed journal papers and obtained 18 patents.\n\nHe built home and shop on Douglas Lake in 1991 and has continued doing research there since retirement in 2000.\n\nThe University of Michigan Biological Station serves as a gathering place to learn from the natural world\, advance research and education\, and inspire action. We leverage over a century of research and transformative experiences to drive discoveries and solutions to benefit Michigan and beyond.\n\nFounded in 1909\, UMBS supports long-term research and education through immersive\, field-based courses and features state-of-the-art equipment and facilities for data collection and analysis to help any field researcher be productive. It is where students and scientists from across the globe live and work as a community to learn from the place.\n\nThe Summer Lecture Series is a tradition at UMBS\, where we explore scientific topics with distinguished guest speakers from across the country so the community can learn about our natural world.\n\nThe free\, public talks are on Wednesdays at 7 p.m. in the spring and summer in Gates Lecture Hall at the University of Michigan Biological Station\, located at 9133 Biological Rd. in Pellston\, Michigan — about 20 miles south of the Mackinac Bridge.
UID:147279-21900626@events.umich.edu
URL:https://events.umich.edu/event/147279
CLASS:PUBLIC
STATUS:CONFIRMED
CATEGORIES:U-m Biological Station,Bsbsigns,Biological Station,AEM Featured
LOCATION:Gates Lecture Hall\, UM Biological Station
CONTACT:
END:VEVENT
BEGIN:VEVENT
DTSTAMP:20260303T152543
DTSTART;TZID=America/Detroit:20260624T200000
DTEND;TZID=America/Detroit:20260624T230000
SUMMARY:Exhibition:Echoes of the Past: Greektown as Seen by Sam Karres
DESCRIPTION:Explore the personal sketchbooks of Sam Karres\, Greek-American painter and artist\, as he illustrates the daily life of residents in Greektown\, Detroit. This exhibit highlights Detroit’s Greek-American community and urban scenery during the late 20th century. Experience art and life through Sam’s eyes with scenes of music\, dance\, restaurants\, and the faces of the community. Let the vivid watercolor paintings and expressive sketches transport you to a Greektown of the past\, and learn more about Sam Karres’ life as an artist.\n\nFeaturing works from the Sam Karres Archive\, 1955-2012\, held by the University of Michigan Library's Special Collection Research Center. Curated by Annelie Zissis and Arthur Pfeifer-Rubey\, Library Engagement Fellows.
UID:146151-21898536@events.umich.edu
URL:https://events.umich.edu/event/146151
CLASS:PUBLIC
STATUS:CONFIRMED
CATEGORIES:Library,Free
LOCATION:Hatcher Graduate Library - Clark Library (2nd floor)
CONTACT:
END:VEVENT
BEGIN:VEVENT
DTSTAMP:20260325T105253
DTSTART;TZID=America/Detroit:20260624T200000
SUMMARY:Performance:Esther Rose
DESCRIPTION:New music!\n\nEsther Rose was on a long solo drive when she started writing the opening title track of Want\, her stunning fifth album. At first\, the words seemed almost like a joke\, something to keep herself amused as the miles passed. “I want a puppy\, but I don't want a mess. I want to know where I’m going without GPS\,” she sang from behind the wheel. Soon\, the idea snowballed into a list of desires that spanned existential\, spiritual\, and mundane\; romantic to platonic to familial\; at once wildly ambitious yet piercingly relatable\; all set to a catchy melody that blends her pop instincts with country storytelling and the raw immediacy of a basement punk show. In other words\, she was on her way to another classic Esther Rose song.\n\nThis precise blend has made the Santa Fe-based artist one of her generation’s most beloved songwriters: someone whose live shows are known to conclude in mass tears and group hugs. Still\, something was different this time. “For me\, these songs felt like revelations\,” she explains\, comparing the 11-song record to a memoir\, alive with kinetic storytelling and personal insight. In its newly direct and stirringly nuanced writing\, you’ll hear about rock bottom encounters\, shifting relationships with substances\, evolving perspectives on adult partnership\, and\, as evidenced by those early lines in “Want\,” a few jokes along the way. Vivid and bracing\, Want places you in the passenger seat while each of these feelings arrive.\n\nTo match the multi-dimensional tone of the writing\, Rose has made the most adventurous\, hardest-hitting record of her career. Working with producer Ross Farbe and recording live-to-tape in Nashville’s Bomb Shelter\, she travels as far as she’s been from the stripped-down classic country of celebrated early work like 2017’s This Time Last Night and 2019’s You Made It This Far. Following the wide-open serenity of 2023’s momentous Safe to Run\, she now leans toward confrontational arrangements full of distortion and full-band spontaneity\, never sacrificing a classicist’s gift for melody that makes each song instantly memorable.
UID:145051-21896596@events.umich.edu
URL:https://events.umich.edu/event/145051
CLASS:PUBLIC
STATUS:CONFIRMED
CATEGORIES:Ark,Mutotix
LOCATION:ARK Reserved
CONTACT:
END:VEVENT
BEGIN:VEVENT
DTSTAMP:20260414T144814
DTSTART;TZID=America/Detroit:20260624T200000
DTEND;TZID=America/Detroit:20260624T233000
SUMMARY:Exhibition:Muted Volumes: Book-Objects\, Patterned Papers\, and the Closed Stacks of Buhr
DESCRIPTION:This exhibit in the Clark Library rotunda focuses on handmade decorative patterned papers when exploring books stored at the library's Buhr Offsite Shelving Facility. Decorative paper\, noticed when walking through the stack's aisles or surprising you when you casually flip through a book\, can really catch your eye. But because the Buhr stacks are closed from browsing\, the density and dimensionality of its nearly 3 million books are reduced to title searches on a screen.\n\nAs a response to these reflections\, artist and library staff member Stephanie Osorio shares her handbound unopenable book-objects as symbolic stand-ins for forgotten books at Buhr — the books that don’t get a chance to be noticed. Along with the book-objects are the carved woodblocks that made prints to decorate them. Some books from Buhr that inspired this project with their original decorated patterned papers will also be on display.\n\nView the exhibit anytime the Hatcher Library is open\, and join us for an opening reception on Thursday\, May 14th\, 5pm - 6:30pm\, for an opportunity to hear from the artist and engage with the book-objects.
UID:147739-21901710@events.umich.edu
URL:https://events.umich.edu/event/147739
CLASS:PUBLIC
STATUS:CONFIRMED
CATEGORIES:Free,Library
LOCATION:Hatcher Graduate Library - Clark Library (2nd floor)
CONTACT:
END:VEVENT
END:VCALENDAR