BEGIN:VCALENDAR
VERSION:2.0
PRODID:-//UM//UM*Events//EN
CALSCALE:GREGORIAN
BEGIN:VTIMEZONE
TZID:America/Detroit
TZURL:http://tzurl.org/zoneinfo/America/Detroit
X-LIC-LOCATION:America/Detroit
BEGIN:DAYLIGHT
TZOFFSETFROM:-0500
TZOFFSETTO:-0400
TZNAME:EDT
DTSTART:20070311T020000
RRULE:FREQ=YEARLY;BYMONTH=3;BYDAY=2SU
END:DAYLIGHT
BEGIN:STANDARD
TZOFFSETFROM:-0400
TZOFFSETTO:-0500
TZNAME:EST
DTSTART:20071104T020000
RRULE:FREQ=YEARLY;BYMONTH=11;BYDAY=1SU
END:STANDARD
END:VTIMEZONE
BEGIN:VEVENT
DTSTAMP:20250421T140629
DTSTART;TZID=America/Detroit:20260708T080000
DTEND;TZID=America/Detroit:20260708T160000
SUMMARY:Other:KidSport Summer Camp
DESCRIPTION:KidSport Summer Camps offers children ages 4-11 the opportunity to learn and play a variety of team sports\, individual sports\, team building games\, and other physical education activities in a non-competitive and fun sports environment. All children will have time in the pool on Tuesday and Thursday mornings and each afternoon\, Monday through Friday\, to work on water comfort. skills and safety. KidSport Inclusive is for all kids who do not require a high degree of personalized support to participate in large group activities. For more information and to register\, visit our website listed below.
UID:135145-21895872@events.umich.edu
URL:https://events.umich.edu/event/135145
CLASS:PUBLIC
STATUS:CONFIRMED
CATEGORIES:Children,Camp
LOCATION:Off Campus Location
CONTACT:
END:VEVENT
BEGIN:VEVENT
DTSTAMP:20250828T001529
DTSTART;TZID=America/Detroit:20260708T110000
DTEND;TZID=America/Detroit:20260708T190000
SUMMARY:Exhibition:Fore-Site (Phase 3): The Stamps Gallery Pillar Project
DESCRIPTION:From September 2025 through August 2026\, Stamps Gallery is partnering in a curatorial collaboration with two Ypsilanti-based\, artist-run project spaces led by Stamps alumni: C.Y.N.K. Studios\, directed by Sally Clegg (Lecturer III and Student Exhibition Coordinator\, MFA ’20) and Abhishek Narula (MFA ’20)\; and Sometimes Space\, directed by Nathan Byrne (Lecturer I\, MFA ’21). Each space hosts dozens of artists annually for exhibitions\, performances\, and events\, fostering experimental work and building community. For this project\, Byrne\, Clegg\, and Narula have been commissioned to reimagine the pillars on Division Street that flank the gallery. In response\, they've curated six artists to create new work for the pillars over three cycles:\nPhase 1 (September 12 - December 12) artists: Amelia Burns (Cranbrook MFA '23) and Erin McKenna (MFA '20)Phase 2 (January 12 - April 12) artists: Sally Clegg (MFA '20) and Kim Karlsrud (MFA '20)Phase 3 (May 12 - August 12) artists: Abhishek Narula (MFA '20) and Nathan Byrne (MFA '21)\nPhase 3 \nCurated by Sometimes Space: Abhishek Narula (entry pillar)Curated by CYNK Studios: Nathan Byrne (courtyard pillar)
UID:138033-21881359@events.umich.edu
URL:https://events.umich.edu/event/138033
CLASS:PUBLIC
STATUS:CONFIRMED
CATEGORIES:Art
LOCATION:Off Campus Location
CONTACT:
END:VEVENT
BEGIN:VEVENT
DTSTAMP:20260419T123205
DTSTART;TZID=America/Detroit:20260708T110000
DTEND;TZID=America/Detroit:20260708T120000
SUMMARY:Careers / Jobs:Pitch Perfect: How to Effectively Network and Build a Strong Pitch
DESCRIPTION:Are you interested in learning how to effectively connect with colleagues and prospective employers? Do you want to learn how to discuss your research with those outside of your field? If so\, this integrative workshop will help you develop a strong pitch that can be used in networking opportunities. Come and learn about the process of networking\, develop and practice your pitch\, reflect on when (and when not) to bring yourresearch up in your pitch\, and understand University Career Center networking and career development resources.Brought to you by the University Career Center\, in partnership with Rackham Graduate School. This event's information is shown in Handshake as well as on the Happening @ Michigan calendar so that it will be seen by a larger number ofU-M Students. You can only register to attend this event within Handshake. If you'd like to indicate that you'll be attending this event and see more details\, please go to this webpage: https://umich.joinhandshake.com/events/1945117/share_preview  We want to ensure full and equitable participation in our events. If an accessibility accommodation would promote your full participation in this event\,please indicate your accommodation requirements via the link below\, preferably at least 14 days prior to the program to ensure sufficient time forarranging your requested accommodation(s) or exploring suitable alternatives. If you have any questions regarding access to our programs\, please don't hesitate to reach out to Cierra Sutherland at cierrasu@umich.edu. Accessibility accommodation form: https://forms.gle/FmFn35ZLxJ8kvPfSA  #UCC
UID:147805-21901986@events.umich.edu
URL:https://events.umich.edu/event/147805
CLASS:PUBLIC
STATUS:CONFIRMED
CATEGORIES:
LOCATION:
CONTACT:
END:VEVENT
BEGIN:VEVENT
DTSTAMP:20260409T152652
DTSTART;TZID=America/Detroit:20260708T110000
DTEND;TZID=America/Detroit:20260708T120000
SUMMARY:Workshop / Seminar:Pitch Perfect: How to Effectively Network and Build a Strong Pitch (for Graduate Students)
DESCRIPTION:Are you interested in learning how to effectively connect with colleagues and prospective employers? Do you want to learn how to discuss your research with those outside of your field? If so\, this integrative workshop will help you develop a strong pitch that can be used in networking opportunities. Come and learn about the process of networking\, develop and practice your pitch\, reflect on when (and when not) to bring your research up in your pitch\, and understand University Career Center networking and career development resources.Brought to you by the University Career Center\, in partnership with Rackham Graduate School.
UID:147601-21901327@events.umich.edu
URL:https://events.umich.edu/event/147601
CLASS:PUBLIC
STATUS:CONFIRMED
CATEGORIES:Rgs Events,Rgs-events,Sessions
LOCATION:Virtual via Zoom
CONTACT:
END:VEVENT
BEGIN:VEVENT
DTSTAMP:20260331T092202
DTSTART;TZID=America/Detroit:20260708T120000
DTEND;TZID=America/Detroit:20260708T130000
SUMMARY:Workshop / Seminar:Accessible Google Slides
DESCRIPTION:Join us to learn more about how to create accessible Google Slides. This workshop will cover core accessibility best practices for slide decks\, such as alt text\, slide layout\, descriptive hyperlinks\, color contrast\, reading order\, and more. We will walk through how to apply each of these concepts directly within the Google Slides platform\, including how to use the Theme feature to set up accessible design elements for your entire presentation. Participants will also learn how to use Grackle Slides\, an extension tool for Google that helps you scan and fix accessibility issues within your slide deck.\n\nAmerican Sign Language (ASL) interpreting services and Communication Access Realtime Translation (CART) captioning services will be provided. If you need additional accommodations to participate in this webinar\, please email the ADA Coordinator at ADAcoordinator@umich.edu.
UID:147268-21900615@events.umich.edu
URL:https://events.umich.edu/event/147268
CLASS:PUBLIC
STATUS:CONFIRMED
CATEGORIES:Workshop,Virtual,Discussion,Disability,Digital Accessibility,Communication,Accessibility,Academic Technology At Michigan
LOCATION:Off Campus Location
CONTACT:
END:VEVENT
BEGIN:VEVENT
DTSTAMP:20260401T103514
DTSTART;TZID=America/Detroit:20260708T120000
DTEND;TZID=America/Detroit:20260708T130000
SUMMARY:Well-being:Learn to Meditate in 3 days
DESCRIPTION:Make meditation part of your goal to strengthen your mental well-being. Discover three core practices—meditation\, rejuvenation\, and inner connect in just three session.\n\nMeditation is a mindful journey for regulating your mind. It’s like a mental workout\, training the mind to focus on a single thought amid the 60\,000 that pass through daily. With 3 core practices it cultivates effortless concentration\, heightened awareness\, and presence in the moment\, allowing a shift from thinking to feeling. Meditation also leads to a deeper state of relaxation\, regulating the stress response and promoting numerous health benefits.\n\nThe session will be guided by a trainer via Zoom meeting for all 3 days from noon to 1 p.m. All U-M students\, faculty\, and staff are welcome to join at no cost. No prior experience with meditation is required.\n\nEvent Details\n*When: Every month for 3 days (attending all 3 sessions is recommended)*\n\nThe session is Remote over Zoom and upon registration you will have the Zoom MeetingId and Passcode\nSee Related Links for registration\n\nThis wellness program is coordinated by Information Technology and Services (ITS) Teaching & Learning\, and is provided at no cost by heartfulness.org.\n\nJoin the MCommunity group for email updates – Meditation for wellness
UID:128708-21900751@events.umich.edu
URL:https://events.umich.edu/event/128708
CLASS:PUBLIC
STATUS:CONFIRMED
CATEGORIES:Virtual,Well-being,Free
LOCATION:Off Campus Location
CONTACT:
END:VEVENT
BEGIN:VEVENT
DTSTAMP:20260416T121510
DTSTART;TZID=America/Detroit:20260708T120000
DTEND;TZID=America/Detroit:20260708T170000
SUMMARY:Exhibition:Marianetta Porter: Breath\, Fragment\, Return
DESCRIPTION:\n\nCurated by Juana Williams\, this exhibition examines how Marianetta Porter uses everyday objects\, fragments\, and embodied memory to make absence an active\, living presence while challenging linear histories. Rooted in African American experience\, her practice treats what is discarded\, overlooked\, or missing not as loss\, but as a source of meaning that continues to act on the present. Through her process and materials\, Porter reveals how memory is carried in the body and embedded in ordinary things. Her work also resists forward-moving notions of time\, instead presenting a diasporic temporality in which past\, present\, and lived experience circulate together through repetition\, touch\, and recall. In doing so\, Porter proposes a vision of history as unfinished\, memory as active\, and absence as a force that sustains connection and shapes the present. \n\nMarianetta Porter is a visual artist and product designer whose research and creative practice are grounded in the study of African American history\, culture\, and representation. Through the language of visual art\, she draws connections between historic memory and contemporary African American life\, giving voice to the history of the African diaspora while acknowledging its central influence on the birth and flourishing of American culture.\n\nHer work has been exhibited nationally at institutions such as the Indianapolis Museum of Art\, the Chicago Museum of Science and Industry\, the Spoleto Festival\, the Harriet Tubman Museum\, and the Hampton University Museum of Art.\n\nShe earned her Bachelor of Fine Arts from Hampton University and her Master of Fine Arts from the University of Michigan. The recipient of numerous awards\, Porter is Professor Emeritus at the University of Michigan’s Stamps School of Art and Design.\n\nJuana Williams is a curator and writer whose work explores the intersections of cross-border intellectual history\, cultural memory\, and identity formation as expressed through modern and contemporary art from Africa and its diasporas.\n\nWilliams has held curatorial and academic appointments at organizations including the Detroit Institute of Arts\, Library Street Collective\, Wayne State University\, and the Urban Institute for Contemporary Art. Her curatorial projects have been presented at institutions across the United States and France\, including the Grand Rapids Art Museum\, the Muskegon Museum of Art\, Palais de Tokyo (Paris)\, and the Westmoreland Museum of American Art. In addition\, she has presented lectures at various museums and universities and contributed to numerous exhibition catalogs. Her work has been written about in publications such as Artsy\, Beaux Arts Magazine\, Condé Nast Traveller\, Michigan Chronicle\, and Observer. Williams holds a BA in Fine Art and an MA in Art History from Wayne State University.
UID:147625-21901390@events.umich.edu
URL:https://events.umich.edu/event/147625
CLASS:PUBLIC
STATUS:CONFIRMED
CATEGORIES:Art
LOCATION:Off Campus Location
CONTACT:
END:VEVENT
BEGIN:VEVENT
DTSTAMP:20251124T101915
DTSTART;TZID=America/Detroit:20260708T130000
DTEND;TZID=America/Detroit:20260708T140000
SUMMARY:Workshop / Seminar:Disability Navigator Office Hours
DESCRIPTION:Stop by and chat with the Disability Equity Office's Disability Navigators. Whether you have questions about supportive resources\, workplace accommodations\, event accessibility\, or general accessibility at the University of Michigan\, we're here to help! You're welcome to pop in for just a few minutes or stay for the whole hour. If you’d like some privacy\, breakout rooms are available for one-on-one conversations.\n\nJoin whenever you're free—no registration required. If you need any accommodations to participate\, please contact the ADA Coordinator at ADAcoordinator@umich.edu. We look forward to connecting with you!\n\nZoom Meeting Link: https://umich.zoom.us/j/98239842235?jst=2
UID:141988-21890081@events.umich.edu
URL:https://events.umich.edu/event/141988
CLASS:PUBLIC
STATUS:CONFIRMED
CATEGORIES:Accessibility,Disability,Office Hours
LOCATION:Off Campus Location
CONTACT:
END:VEVENT
BEGIN:VEVENT
DTSTAMP:20260419T152037
DTSTART;TZID=America/Detroit:20260708T140000
DTEND;TZID=America/Detroit:20260708T150000
SUMMARY:Workshop / Seminar:MADS Placement Process Explained
DESCRIPTION:Are you trying to figure out which placement test might be right for you? Would you like to know more about what you can expect in your placement interview?\nInterviewer Anna Vento\, and MADS Admissions & Recruitment coordinator Kelly Barger co-lead an in-depth review of the standard and advanced standing placement test procedure\, advanced interview process\, and hold a live Q&A at the end. Please join us to get your questions answered\, and benefit from the curiosity of like-minded peers!
UID:144381-21901599@events.umich.edu
URL:https://events.umich.edu/event/144381
CLASS:PUBLIC
STATUS:CONFIRMED
CATEGORIES:Sessions
LOCATION:Zoom
CONTACT:
END:VEVENT
BEGIN:VEVENT
DTSTAMP:20260331T121445
DTSTART;TZID=America/Detroit:20260708T190000
DTEND;TZID=America/Detroit:20260708T200000
SUMMARY:Lecture / Discussion:“Making a Migratory Monarch”
DESCRIPTION:As part of the 2026 Summer Lecture Series at the University of Michigan Biological Station (UMBS)\, Dr. André Green will give a free\, public talk titled\, “Making a Migratory Monarch.”\n\nGreen is an assistant professor of ecology and evolutionary biology at the University of Michigan who studies the unique features of monarch butterfly migration.\n\nHe also teaches a course at UMBS titled “Eco-Evo-Devo: How Genome and Environment Affect Organismal Development\,” that has undergraduate students use cutting-edge molecular genetics techniques (including CRISPR) to illustrate fundamental concepts in eco-evo-devo while leveraging the remarkable biodiversity at UMBS.\n\nMonarch butterflies (Danaus plexippus) are renowned for their annual transcontinental migration where they fly thousands of miles each fall to overwinter at specific sites in central Mexico.\n\nHow did this phenotype evolve?\n\nThe mechanisms (behavioral\, genetic\, and molecular) required for migrants to perform this trip\, particularly to naïvely identify their overwintering sites with remarkably high fidelity\, are unknown.\n\nIn his talk at UMBS\, Green will discuss his lab’s efforts that aim to extend our understanding of how this occurs.\n\nHis team integrates development\, genomics\, behavior\, and physiology in both laboratory and natural settings.\n\nGreen earned a Ph.D. in biology from Harvard University and a bachelor of science degree in biology from Massachusetts Institute of Technology.\n\nThe University of Michigan Biological Station serves as a gathering place to learn from the natural world\, advance research and education\, and inspire action. We leverage over a century of research and transformative experiences to drive discoveries and solutions to benefit Michigan and beyond.\n\nFounded in 1909\, UMBS supports long-term research and education through immersive\, field-based courses and features state-of-the-art equipment and facilities for data collection and analysis to help any field researcher be productive. It is where students and scientists from across the globe live and work as a community to learn from the place.\n\nThe Summer Lecture Series is a tradition at UMBS\, where we explore scientific topics with distinguished guest speakers from across the country so the community can learn about our natural world.\n\nThe free\, public talks are on Wednesdays at 7 p.m. in the spring and summer in Gates Lecture Hall at the University of Michigan Biological Station\, located at 9133 Biological Rd. in Pellston\, Michigan — about 20 miles south of the Mackinac Bridge.
UID:147283-21900631@events.umich.edu
URL:https://events.umich.edu/event/147283
CLASS:PUBLIC
STATUS:CONFIRMED
CATEGORIES:AEM Featured,Biological Station,Bsbsigns,Ecology And Evolutionary Biology,U-m Biological Station
LOCATION:Gates Lecture Hall\, UM Biological Station
CONTACT:
END:VEVENT
BEGIN:VEVENT
DTSTAMP:20260303T152543
DTSTART;TZID=America/Detroit:20260708T200000
DTEND;TZID=America/Detroit:20260708T230000
SUMMARY:Exhibition:Echoes of the Past: Greektown as Seen by Sam Karres
DESCRIPTION:Explore the personal sketchbooks of Sam Karres\, Greek-American painter and artist\, as he illustrates the daily life of residents in Greektown\, Detroit. This exhibit highlights Detroit’s Greek-American community and urban scenery during the late 20th century. Experience art and life through Sam’s eyes with scenes of music\, dance\, restaurants\, and the faces of the community. Let the vivid watercolor paintings and expressive sketches transport you to a Greektown of the past\, and learn more about Sam Karres’ life as an artist.\n\nFeaturing works from the Sam Karres Archive\, 1955-2012\, held by the University of Michigan Library's Special Collection Research Center. Curated by Annelie Zissis and Arthur Pfeifer-Rubey\, Library Engagement Fellows.
UID:146151-21898550@events.umich.edu
URL:https://events.umich.edu/event/146151
CLASS:PUBLIC
STATUS:CONFIRMED
CATEGORIES:Free,Library
LOCATION:Hatcher Graduate Library - Clark Library (2nd floor)
CONTACT:
END:VEVENT
BEGIN:VEVENT
DTSTAMP:20260414T144814
DTSTART;TZID=America/Detroit:20260708T200000
DTEND;TZID=America/Detroit:20260708T233000
SUMMARY:Exhibition:Muted Volumes: Book-Objects\, Patterned Papers\, and the Closed Stacks of Buhr
DESCRIPTION:This exhibit in the Clark Library rotunda focuses on handmade decorative patterned papers when exploring books stored at the library's Buhr Offsite Shelving Facility. Decorative paper\, noticed when walking through the stack's aisles or surprising you when you casually flip through a book\, can really catch your eye. But because the Buhr stacks are closed from browsing\, the density and dimensionality of its nearly 3 million books are reduced to title searches on a screen.\n\nAs a response to these reflections\, artist and library staff member Stephanie Osorio shares her handbound unopenable book-objects as symbolic stand-ins for forgotten books at Buhr — the books that don’t get a chance to be noticed. Along with the book-objects are the carved woodblocks that made prints to decorate them. Some books from Buhr that inspired this project with their original decorated patterned papers will also be on display.\n\nView the exhibit anytime the Hatcher Library is open\, and join us for an opening reception on Thursday\, May 14th\, 5pm - 6:30pm\, for an opportunity to hear from the artist and engage with the book-objects.
UID:147739-21901724@events.umich.edu
URL:https://events.umich.edu/event/147739
CLASS:PUBLIC
STATUS:CONFIRMED
CATEGORIES:Free,Library
LOCATION:Hatcher Graduate Library - Clark Library (2nd floor)
CONTACT:
END:VEVENT
END:VCALENDAR