BEGIN:VCALENDAR
VERSION:2.0
PRODID:-//UM//UM*Events//EN
CALSCALE:GREGORIAN
BEGIN:VTIMEZONE
TZID:America/Detroit
TZURL:http://tzurl.org/zoneinfo/America/Detroit
X-LIC-LOCATION:America/Detroit
BEGIN:DAYLIGHT
TZOFFSETFROM:-0500
TZOFFSETTO:-0400
TZNAME:EDT
DTSTART:20070311T020000
RRULE:FREQ=YEARLY;BYMONTH=3;BYDAY=2SU
END:DAYLIGHT
BEGIN:STANDARD
TZOFFSETFROM:-0400
TZOFFSETTO:-0500
TZNAME:EST
DTSTART:20071104T020000
RRULE:FREQ=YEARLY;BYMONTH=11;BYDAY=1SU
END:STANDARD
END:VTIMEZONE
BEGIN:VEVENT
DTSTAMP:20250421T140629
DTSTART;TZID=America/Detroit:20260714T080000
DTEND;TZID=America/Detroit:20260714T160000
SUMMARY:Other:KidSport Summer Camp
DESCRIPTION:KidSport Summer Camps offers children ages 4-11 the opportunity to learn and play a variety of team sports\, individual sports\, team building games\, and other physical education activities in a non-competitive and fun sports environment. All children will have time in the pool on Tuesday and Thursday mornings and each afternoon\, Monday through Friday\, to work on water comfort. skills and safety. KidSport Inclusive is for all kids who do not require a high degree of personalized support to participate in large group activities. For more information and to register\, visit our website listed below.
UID:135145-21895878@events.umich.edu
URL:https://events.umich.edu/event/135145
CLASS:PUBLIC
STATUS:CONFIRMED
CATEGORIES:Camp,Children
LOCATION:Off Campus Location
CONTACT:
END:VEVENT
BEGIN:VEVENT
DTSTAMP:20260408T104211
DTSTART;TZID=America/Detroit:20260714T090000
DTEND;TZID=America/Detroit:20260714T160000
SUMMARY:Workshop / Seminar:AI for Scientists and Engineers Summer Academy
DESCRIPTION:Academy Overview\nThe AI for Scientists and Engineers Summer Academy is designed for academic researchers\, including university faculty\, in a wide range of domains including biological sciences\, engineering\, environmental and earth science\, physical sciences\, and social sciences. Participants will learn the mathematical foundations of machine learning (ML)\, critically assess the data used in AI models\, evaluate and validate ML model outputs\, and understand strategic considerations for incorporating AI into research workflows. The prerequisites are college level math and statistics\; prior coding experience is not required. Specific topics include supervised and unsupervised learning\, neural networks\, causal inference\, and science-informed machine learning models.\n\nThe Summer Academy consists of three weeks of instructions\, with different focuses. One can choose to attend any or all weeks\; however\, weeks 2 and 3 require some prior knowledge of AI / ML.\n\nWeek 1 (Monday\, July 13 – Friday\, July 17\, 2026): The conceptual understanding of AI and its applications in domain research.\nWeek 2 (Monday\, July 20 – Friday\, July 24\, 2026): The implementation of ML models in a Python environment.\nWeek 3 (Monday\, July 27 – Friday\, July 31\, 2026): Advanced topics of AI and its applications in domain research.
UID:147530-21901188@events.umich.edu
URL:https://events.umich.edu/event/147530
CLASS:PUBLIC
STATUS:CONFIRMED
CATEGORIES:Michigan Engineering,Graduate,Graduate School,Graduate Students,Industrial and Operations Engineering,Information and Technology,Literature Science And The Arts,Mechanical Engineering,Michigan Robotics,Naval Architecture and Marine Engineering,Postdoctoral Research Fellows,Professional Development,Rackham,Science,Engineering Academic Calendar,Ai,Ai In Science And Engineering,Artificial Intelligence,data,Data Science,Electrical And Computer Engineering,Electrical Engineering and Computer Science,Engineering
LOCATION:
CONTACT:
END:VEVENT
BEGIN:VEVENT
DTSTAMP:20260419T123156
DTSTART;TZID=America/Detroit:20260714T090000
DTEND;TZID=America/Detroit:20260714T100000
SUMMARY:Careers / Jobs:Resume Lab
DESCRIPTION:*RSVP required to attend. Click \"Join Event\" here: https://umich.joinhandshake.com/edu/events/1943814Just getting started building a resume? Have a draft but not sure how to make it better? Want to learn about resources available to revise your resume? Wherever you’re at Resume Lab is a great next step for you. Get real-time\, personalized support in a small group setting by checking out the Resume Lab.We will discuss and educate you on…- Design andformat- Writing a great bullet point- Targeting your resumefor specific internships/jobs If you're a Graduate Studentor Recent Grad\, please make a 1:1 appointment instead of attending the Lab because this event is designed for undergraduates. Note:This event's information is shown in Handshake as well as on the Happening @ Michigan calendar so that it will be seen by a larger number of U-M Students.#UCC
UID:147723-21901653@events.umich.edu
URL:https://events.umich.edu/event/147723
CLASS:PUBLIC
STATUS:CONFIRMED
CATEGORIES:
LOCATION:
CONTACT:
END:VEVENT
BEGIN:VEVENT
DTSTAMP:20260327T154239
DTSTART;TZID=America/Detroit:20260714T110000
DTEND;TZID=America/Detroit:20260714T120000
SUMMARY:Workshop / Seminar:Understanding and Managing ADHD – For Parents and Guardians
DESCRIPTION:Are you a parent or guardian of a child with ADHD? Join the Mary A. Rackham Institute for our free\, virtual workshop\, Understanding and Managing ADHD. This online event is designed to equip caregivers with practical tools and insights to better understand ADHD and support their children at home\, in school\, and beyond.\n\nWhat You’ll Learn\n\nThis supportive\, research-informed workshop covers:\n- What ADHD is and how it affects children across different settings\n- Tools and strategies for managing behavior and improving emotional regulation\n- How to create structure and routines that reduce stress for the whole family\n- Effective communication with teachers\, care teams\, and your child\n- How to connect with your child with more empathy and less frustration\n\nOur expert presenters combine real-world experience with evidence-based practices—so you’ll leave with tips you can put into action right away.\n\nWho Should Attend?\n\nThis workshop is ideal for:\n- Parents and guardians of children diagnosed with ADHD\n- Caregivers noticing signs of ADHD and seeking more information\n- Anyone wanting to build stronger\, more effective support systems for a child with attention or behavior challenges\n\nUpcoming Workshop Dates 🗓️\nThis free\, virtual workshop is offered multiple times throughout the year. Each session runs from 11 am – 12 pm\, EST.\n\nRemaining 2026 Workshop Dates:\n- April 14\n- May 12\n- June 9\n- July 14\n\nNote: Space is limited for each session. Be sure to reserve your spot early!
UID:147154-21900448@events.umich.edu
URL:https://events.umich.edu/event/147154
CLASS:PUBLIC
STATUS:CONFIRMED
CATEGORIES:parenting,adhd,Faculty,Staff,Virtual
LOCATION:Off Campus Location
CONTACT:
END:VEVENT
BEGIN:VEVENT
DTSTAMP:20260419T152040
DTSTART;TZID=America/Detroit:20260714T130000
DTEND;TZID=America/Detroit:20260714T140000
SUMMARY:Workshop / Seminar:UC3M Group Advising Session
DESCRIPTION:This UC3M Group Advising session is for students applying to study abroad in Winter 2027. We recommend attending sessions earlier in the summer if possible.  If you are still comparing or exploring options\, you may benefit  from meeting with an IPE peer advisor or scheduling a 1:1 advising appointment with the UC3M Advisor.
UID:145936-21899120@events.umich.edu
URL:https://events.umich.edu/event/145936
CLASS:PUBLIC
STATUS:CONFIRMED
CATEGORIES:Sessions
LOCATION:
CONTACT:
END:VEVENT
BEGIN:VEVENT
DTSTAMP:20260419T152035
DTSTART;TZID=America/Detroit:20260714T140000
DTEND;TZID=America/Detroit:20260714T150000
SUMMARY:Workshop / Seminar:MADS Application Tips Webinar
DESCRIPTION:We want you to have all the information you need to make informed decisions about your education and your future.\nMADS Admissions & Recruitment coordinator Meryl Baker leads an application tips webinar with a live Q&A. Attendees will hear about the MADS program\, the skills-based admission process\, what's required as part of the application\, and how the placement process works. Please join us to get your questions answered\, and benefit from the curiosity of like-minded peers!
UID:144393-21901593@events.umich.edu
URL:https://events.umich.edu/event/144393
CLASS:PUBLIC
STATUS:CONFIRMED
CATEGORIES:Sessions
LOCATION:Zoom
CONTACT:
END:VEVENT
BEGIN:VEVENT
DTSTAMP:20260419T152036
DTSTART;TZID=America/Detroit:20260714T150000
DTEND;TZID=America/Detroit:20260714T160000
SUMMARY:Workshop / Seminar:ME Declaration Orientation - Summer 2026
DESCRIPTION:Be sure to watch the video that was linked to you and be prepared to ask questions.\nIf none of the available times work for you\, please email me-aso@umich.edu to find an alternative time to declare. 
UID:147832-21902021@events.umich.edu
URL:https://events.umich.edu/event/147832
CLASS:PUBLIC
STATUS:CONFIRMED
CATEGORIES:Sessions
LOCATION:
CONTACT:
END:VEVENT
BEGIN:VEVENT
DTSTAMP:20260303T152543
DTSTART;TZID=America/Detroit:20260714T200000
DTEND;TZID=America/Detroit:20260714T230000
SUMMARY:Exhibition:Echoes of the Past: Greektown as Seen by Sam Karres
DESCRIPTION:Explore the personal sketchbooks of Sam Karres\, Greek-American painter and artist\, as he illustrates the daily life of residents in Greektown\, Detroit. This exhibit highlights Detroit’s Greek-American community and urban scenery during the late 20th century. Experience art and life through Sam’s eyes with scenes of music\, dance\, restaurants\, and the faces of the community. Let the vivid watercolor paintings and expressive sketches transport you to a Greektown of the past\, and learn more about Sam Karres’ life as an artist.\n\nFeaturing works from the Sam Karres Archive\, 1955-2012\, held by the University of Michigan Library's Special Collection Research Center. Curated by Annelie Zissis and Arthur Pfeifer-Rubey\, Library Engagement Fellows.
UID:146151-21898556@events.umich.edu
URL:https://events.umich.edu/event/146151
CLASS:PUBLIC
STATUS:CONFIRMED
CATEGORIES:Library,Free
LOCATION:Hatcher Graduate Library - Clark Library (2nd floor)
CONTACT:
END:VEVENT
BEGIN:VEVENT
DTSTAMP:20260414T144814
DTSTART;TZID=America/Detroit:20260714T200000
DTEND;TZID=America/Detroit:20260714T233000
SUMMARY:Exhibition:Muted Volumes: Book-Objects\, Patterned Papers\, and the Closed Stacks of Buhr
DESCRIPTION:This exhibit in the Clark Library rotunda focuses on handmade decorative patterned papers when exploring books stored at the library's Buhr Offsite Shelving Facility. Decorative paper\, noticed when walking through the stack's aisles or surprising you when you casually flip through a book\, can really catch your eye. But because the Buhr stacks are closed from browsing\, the density and dimensionality of its nearly 3 million books are reduced to title searches on a screen.\n\nAs a response to these reflections\, artist and library staff member Stephanie Osorio shares her handbound unopenable book-objects as symbolic stand-ins for forgotten books at Buhr — the books that don’t get a chance to be noticed. Along with the book-objects are the carved woodblocks that made prints to decorate them. Some books from Buhr that inspired this project with their original decorated patterned papers will also be on display.\n\nView the exhibit anytime the Hatcher Library is open\, and join us for an opening reception on Thursday\, May 14th\, 5pm - 6:30pm\, for an opportunity to hear from the artist and engage with the book-objects.
UID:147739-21901730@events.umich.edu
URL:https://events.umich.edu/event/147739
CLASS:PUBLIC
STATUS:CONFIRMED
CATEGORIES:Free,Library
LOCATION:Hatcher Graduate Library - Clark Library (2nd floor)
CONTACT:
END:VEVENT
END:VCALENDAR