BEGIN:VCALENDAR
VERSION:2.0
PRODID:-//UM//UM*Events//EN
CALSCALE:GREGORIAN
BEGIN:VTIMEZONE
TZID:America/Detroit
TZURL:http://tzurl.org/zoneinfo/America/Detroit
X-LIC-LOCATION:America/Detroit
BEGIN:DAYLIGHT
TZOFFSETFROM:-0500
TZOFFSETTO:-0400
TZNAME:EDT
DTSTART:20070311T020000
RRULE:FREQ=YEARLY;BYMONTH=3;BYDAY=2SU
END:DAYLIGHT
BEGIN:STANDARD
TZOFFSETFROM:-0400
TZOFFSETTO:-0500
TZNAME:EST
DTSTART:20071104T020000
RRULE:FREQ=YEARLY;BYMONTH=11;BYDAY=1SU
END:STANDARD
END:VTIMEZONE
BEGIN:VEVENT
DTSTAMP:20260324T094536
DTSTART;TZID=America/Detroit:20260726T120000
DTEND;TZID=America/Detroit:20260726T160000
SUMMARY:Exhibition:Creating the Future of Medicine for 175 Years
DESCRIPTION:As the Medical School celebrates the anniversary of its opening in the fall of 1850\, and Michigan Medicine marks the 100th anniversary of the opening of the \"Old Main\" University Hospital that served as its flagship from 1925 to 1986\, a free museum exhibit explores 175 years of medical education\, research and clinical care. \n\nOpen to the public at the Museum on Main Street operated by the Washtenaw County Historical Society\, the exhibit includes artifacts\, photos and facts about how U-M's medical community grew from humble beginnings on the Diag to become one of the nation's largest and most respected academic medical centers. It also asks visitors to ponder their own attitudes and experiences\, and to submit memories and photos of their time working\, studying\, volunteering or receiving care at U-M's medical campus and beyond. There are also activities for young visitors.\n\nThe museum is open to the public every Saturday and Sunday from 12 p.m. to 4 p.m.\n\nFull details about the exhibit\, including parking instructions and how to book a free private group tour on a weekday\, are available at http://michmed.org/museum\n\nThe museum has an accessible entrance at the rear of the building.
UID:139428-21899881@events.umich.edu
URL:https://events.umich.edu/event/139428
CLASS:PUBLIC
STATUS:CONFIRMED
CATEGORIES:Medicine,History,Life Science,Nursing,Museum
LOCATION:Off Campus Location
CONTACT:
END:VEVENT
BEGIN:VEVENT
DTSTAMP:20260406T125453
DTSTART;TZID=America/Detroit:20260726T193000
SUMMARY:Performance:Wild Child
DESCRIPTION:Infectious folk-pop from Austin\, Texas\n\nWild Child is the Austin-born songwriting partnership of Kelsey Wilson and Alexander Beggins\, a duo whose chemistry has powered more than a decade of acclaimed indie-folk releases and spirited live shows. What began as a spontaneous creative spark in the back of a tour van evolved into one of Austin’s most beloved bands\, known for warm harmonies\, candid storytelling\, and an ever-evolving blend of folk\, pop\, and soulful brass-driven arrangements. After years of near-constant touring and the launch of their individual projects - Wilson’s Motown-leaning Sir Woman and Beggins’ dream-pop alter ego CoCo Zandi - the pair stepped back to explore new sounds and space\, unsure when or how Wild Child might return.\n\nThat return arrived in an unexpected moment of stillness. When the world shut down and stages went dark\, Wilson and Beggins found themselves back in a room together\, preparing for online performances\, rediscovering the spark that shaped their earliest songs. Within minutes\, new material poured out - an organic reminder of the ease and honesty that has always defined their collaboration. The band reunited with longtime musical family and stepped into the studio with the same sense of openness and urgency that fueled their earliest recordings\, capturing raw\, unvarnished performances that leaned into emotion over perfection.\n\nWild Child’s creative community has always been central to their story - whether weathering a Texas ice storm together\, writing by candlelight when power went out\, or inviting new voices into their creative circle. Over the years\, the band has continued to expand its sonic world while staying grounded in heartfelt songwriting and the distinct vocal interplay that first drew fans in. Their music reflects resilience\, connection\, and the messy joy of making something together when it matters most.\n\nToday\, Wild Child is following their curiosity wherever it leads: building out their label imprint Reba’s Ranch Records and diving into Wild Child for Kids\, a project that lets them explore the same heart and imagination of their music through a family-friendly lens. With an ever-growing family of collaborators and a renewed commitment to making music on their own terms\, the band remains a defining voice in the vibrant indie-folk musical landscape\, continually finding new ways to surprise themselves and the listeners who have followed them from the beginning.
UID:147110-21900389@events.umich.edu
URL:https://events.umich.edu/event/147110
CLASS:PUBLIC
STATUS:CONFIRMED
CATEGORIES:Ark,Mutotix
LOCATION:ARK Reserved
CONTACT:
END:VEVENT
BEGIN:VEVENT
DTSTAMP:20260303T152543
DTSTART;TZID=America/Detroit:20260726T200000
DTEND;TZID=America/Detroit:20260726T230000
SUMMARY:Exhibition:Echoes of the Past: Greektown as Seen by Sam Karres
DESCRIPTION:Explore the personal sketchbooks of Sam Karres\, Greek-American painter and artist\, as he illustrates the daily life of residents in Greektown\, Detroit. This exhibit highlights Detroit’s Greek-American community and urban scenery during the late 20th century. Experience art and life through Sam’s eyes with scenes of music\, dance\, restaurants\, and the faces of the community. Let the vivid watercolor paintings and expressive sketches transport you to a Greektown of the past\, and learn more about Sam Karres’ life as an artist.\n\nFeaturing works from the Sam Karres Archive\, 1955-2012\, held by the University of Michigan Library's Special Collection Research Center. Curated by Annelie Zissis and Arthur Pfeifer-Rubey\, Library Engagement Fellows.
UID:146151-21898568@events.umich.edu
URL:https://events.umich.edu/event/146151
CLASS:PUBLIC
STATUS:CONFIRMED
CATEGORIES:Library,Free
LOCATION:Hatcher Graduate Library - Clark Library (2nd floor)
CONTACT:
END:VEVENT
BEGIN:VEVENT
DTSTAMP:20260414T144814
DTSTART;TZID=America/Detroit:20260726T200000
DTEND;TZID=America/Detroit:20260726T233000
SUMMARY:Exhibition:Muted Volumes: Book-Objects\, Patterned Papers\, and the Closed Stacks of Buhr
DESCRIPTION:This exhibit in the Clark Library rotunda focuses on handmade decorative patterned papers when exploring books stored at the library's Buhr Offsite Shelving Facility. Decorative paper\, noticed when walking through the stack's aisles or surprising you when you casually flip through a book\, can really catch your eye. But because the Buhr stacks are closed from browsing\, the density and dimensionality of its nearly 3 million books are reduced to title searches on a screen.\n\nAs a response to these reflections\, artist and library staff member Stephanie Osorio shares her handbound unopenable book-objects as symbolic stand-ins for forgotten books at Buhr — the books that don’t get a chance to be noticed. Along with the book-objects are the carved woodblocks that made prints to decorate them. Some books from Buhr that inspired this project with their original decorated patterned papers will also be on display.\n\nView the exhibit anytime the Hatcher Library is open\, and join us for an opening reception on Thursday\, May 14th\, 5pm - 6:30pm\, for an opportunity to hear from the artist and engage with the book-objects.
UID:147739-21901742@events.umich.edu
URL:https://events.umich.edu/event/147739
CLASS:PUBLIC
STATUS:CONFIRMED
CATEGORIES:Free,Library
LOCATION:Hatcher Graduate Library - Clark Library (2nd floor)
CONTACT:
END:VEVENT
END:VCALENDAR