BEGIN:VCALENDAR
VERSION:2.0
PRODID:-//UM//UM*Events//EN
CALSCALE:GREGORIAN
BEGIN:VTIMEZONE
TZID:America/Detroit
TZURL:http://tzurl.org/zoneinfo/America/Detroit
X-LIC-LOCATION:America/Detroit
BEGIN:DAYLIGHT
TZOFFSETFROM:-0500
TZOFFSETTO:-0400
TZNAME:EDT
DTSTART:20070311T020000
RRULE:FREQ=YEARLY;BYMONTH=3;BYDAY=2SU
END:DAYLIGHT
BEGIN:STANDARD
TZOFFSETFROM:-0400
TZOFFSETTO:-0500
TZNAME:EST
DTSTART:20071104T020000
RRULE:FREQ=YEARLY;BYMONTH=11;BYDAY=1SU
END:STANDARD
END:VTIMEZONE
BEGIN:VEVENT
DTSTAMP:20260419T123159
DTSTART;TZID=America/Detroit:20260818T130000
DTEND;TZID=America/Detroit:20260818T140000
SUMMARY:Careers / Jobs:Resume Lab
DESCRIPTION:*RSVP required to attend. Click \"Join Event\" here: https://umich.joinhandshake.com/edu/events/1943841Just getting started building a resume? Have a draft but not sure how to make it better? Want to learn about resources available to revise your resume? Wherever you’re at Resume Lab is a great next step for you. Get real-time\, personalized support in a small group setting by checking out the Resume Lab.We will discuss and educate you on…- Design andformat- Writing a great bullet point- Targeting your resumefor specific internships/jobs If you're a Graduate Studentor Recent Grad\, please make a 1:1 appointment instead of attending the Lab because this event is designed for undergraduates. Note:This event's information is shown in Handshake as well as on the Happening @ Michigan calendar so that it will be seen by a larger number of U-M Students.#UCC
UID:147747-21901923@events.umich.edu
URL:https://events.umich.edu/event/147747
CLASS:PUBLIC
STATUS:CONFIRMED
CATEGORIES:
LOCATION:
CONTACT:
END:VEVENT
BEGIN:VEVENT
DTSTAMP:20260409T153042
DTSTART;TZID=America/Detroit:20260818T140000
DTEND;TZID=America/Detroit:20260818T150000
SUMMARY:Workshop / Seminar:Building and Leveraging Your Network (for Graduate Students)
DESCRIPTION:Building a network and connecting with others is critical to your professional development in graduate school and job/internship searches. Join this discussion to learn strategies for building your network (including tips on using LinkedIN and the University Career Alumni Network) and how to leverage this network for career exploration and job/internship searching. There will be plenty of time for your questions! This event is intended to be interactive and therefore a recording will not be available. \n\nBrought to you by the University Career Center\, in partnership with Rackham Graduate School.
UID:147606-21901332@events.umich.edu
URL:https://events.umich.edu/event/147606
CLASS:PUBLIC
STATUS:CONFIRMED
CATEGORIES:Rgs Events,Rgs-events,Sessions
LOCATION:Virtual via Zoom
CONTACT:
END:VEVENT
BEGIN:VEVENT
DTSTAMP:20260419T123207
DTSTART;TZID=America/Detroit:20260818T140000
DTEND;TZID=America/Detroit:20260818T150000
SUMMARY:Careers / Jobs:Building and Leveraging Your Network (for Graduate Students)
DESCRIPTION:Building a network and connecting with others is critical to your professional development in graduate school and job/internship searches. Join this discussion to learn strategies for building your network (including tips on using LinkedIN and the University Career Alumni Network)and how to leverage this network for career exploration and job/internship searching. There will be plenty of time for your questions! This event is intended to be interactive and therefore a recording will not be available. Brought to you by the University Career Center\, in partnership with Rackham Graduate School. This event's information is shown in Handshake as well as on the Happening @ Michigan calendar so that it will be seen by a larger number of U-M Students. You can only register to attend this event within Handshake. If you'd like to indicate that you'll be attending this event and see more details\, please go to thiswebpage: https://umich.joinhandshake.com/events/1945185/share_preview We want to ensure full and equitable participation in our events. If an accessibility accommodation would promote yourfull participation in this event\, please indicate your accommodation requirements via the link below\, preferably at least 14 days prior to the program to ensure sufficient time for arranging your requested accommodation(s) or exploring suitable alternatives. If you have any questions regarding access to our programs\, please don't hesitate to reach out to Cierra Sutherland at cierrasu@umich.edu. Accessibility accommodation form: https://forms.gle/FmFn35ZLxJ8kvPfSA  #UCC
UID:147823-21902008@events.umich.edu
URL:https://events.umich.edu/event/147823
CLASS:PUBLIC
STATUS:CONFIRMED
CATEGORIES:
LOCATION:
CONTACT:
END:VEVENT
BEGIN:VEVENT
DTSTAMP:20260303T152543
DTSTART;TZID=America/Detroit:20260818T200000
DTEND;TZID=America/Detroit:20260818T230000
SUMMARY:Exhibition:Echoes of the Past: Greektown as Seen by Sam Karres
DESCRIPTION:Explore the personal sketchbooks of Sam Karres\, Greek-American painter and artist\, as he illustrates the daily life of residents in Greektown\, Detroit. This exhibit highlights Detroit’s Greek-American community and urban scenery during the late 20th century. Experience art and life through Sam’s eyes with scenes of music\, dance\, restaurants\, and the faces of the community. Let the vivid watercolor paintings and expressive sketches transport you to a Greektown of the past\, and learn more about Sam Karres’ life as an artist.\n\nFeaturing works from the Sam Karres Archive\, 1955-2012\, held by the University of Michigan Library's Special Collection Research Center. Curated by Annelie Zissis and Arthur Pfeifer-Rubey\, Library Engagement Fellows.
UID:146151-21898591@events.umich.edu
URL:https://events.umich.edu/event/146151
CLASS:PUBLIC
STATUS:CONFIRMED
CATEGORIES:Free,Library
LOCATION:Hatcher Graduate Library - Clark Library (2nd floor)
CONTACT:
END:VEVENT
BEGIN:VEVENT
DTSTAMP:20260414T144814
DTSTART;TZID=America/Detroit:20260818T200000
DTEND;TZID=America/Detroit:20260818T233000
SUMMARY:Exhibition:Muted Volumes: Book-Objects\, Patterned Papers\, and the Closed Stacks of Buhr
DESCRIPTION:This exhibit in the Clark Library rotunda focuses on handmade decorative patterned papers when exploring books stored at the library's Buhr Offsite Shelving Facility. Decorative paper\, noticed when walking through the stack's aisles or surprising you when you casually flip through a book\, can really catch your eye. But because the Buhr stacks are closed from browsing\, the density and dimensionality of its nearly 3 million books are reduced to title searches on a screen.\n\nAs a response to these reflections\, artist and library staff member Stephanie Osorio shares her handbound unopenable book-objects as symbolic stand-ins for forgotten books at Buhr — the books that don’t get a chance to be noticed. Along with the book-objects are the carved woodblocks that made prints to decorate them. Some books from Buhr that inspired this project with their original decorated patterned papers will also be on display.\n\nView the exhibit anytime the Hatcher Library is open\, and join us for an opening reception on Thursday\, May 14th\, 5pm - 6:30pm\, for an opportunity to hear from the artist and engage with the book-objects.
UID:147739-21901765@events.umich.edu
URL:https://events.umich.edu/event/147739
CLASS:PUBLIC
STATUS:CONFIRMED
CATEGORIES:Free,Library
LOCATION:Hatcher Graduate Library - Clark Library (2nd floor)
CONTACT:
END:VEVENT
END:VCALENDAR