BEGIN:VCALENDAR
VERSION:2.0
PRODID:-//UM//UM*Events//EN
CALSCALE:GREGORIAN
BEGIN:VTIMEZONE
TZID:America/Detroit
TZURL:http://tzurl.org/zoneinfo/America/Detroit
X-LIC-LOCATION:America/Detroit
BEGIN:DAYLIGHT
TZOFFSETFROM:-0500
TZOFFSETTO:-0400
TZNAME:EDT
DTSTART:20070311T020000
RRULE:FREQ=YEARLY;BYMONTH=3;BYDAY=2SU
END:DAYLIGHT
BEGIN:STANDARD
TZOFFSETFROM:-0400
TZOFFSETTO:-0500
TZNAME:EST
DTSTART:20071104T020000
RRULE:FREQ=YEARLY;BYMONTH=11;BYDAY=1SU
END:STANDARD
END:VTIMEZONE
BEGIN:VEVENT
DTSTAMP:20260324T094536
DTSTART;TZID=America/Detroit:20260822T120000
DTEND;TZID=America/Detroit:20260822T160000
SUMMARY:Exhibition:Creating the Future of Medicine for 175 Years
DESCRIPTION:As the Medical School celebrates the anniversary of its opening in the fall of 1850\, and Michigan Medicine marks the 100th anniversary of the opening of the \"Old Main\" University Hospital that served as its flagship from 1925 to 1986\, a free museum exhibit explores 175 years of medical education\, research and clinical care. \n\nOpen to the public at the Museum on Main Street operated by the Washtenaw County Historical Society\, the exhibit includes artifacts\, photos and facts about how U-M's medical community grew from humble beginnings on the Diag to become one of the nation's largest and most respected academic medical centers. It also asks visitors to ponder their own attitudes and experiences\, and to submit memories and photos of their time working\, studying\, volunteering or receiving care at U-M's medical campus and beyond. There are also activities for young visitors.\n\nThe museum is open to the public every Saturday and Sunday from 12 p.m. to 4 p.m.\n\nFull details about the exhibit\, including parking instructions and how to book a free private group tour on a weekday\, are available at http://michmed.org/museum\n\nThe museum has an accessible entrance at the rear of the building.
UID:139428-21899867@events.umich.edu
URL:https://events.umich.edu/event/139428
CLASS:PUBLIC
STATUS:CONFIRMED
CATEGORIES:Medicine,History,Life Science,Museum,Nursing
LOCATION:Off Campus Location
CONTACT:
END:VEVENT
BEGIN:VEVENT
DTSTAMP:20260414T144814
DTSTART;TZID=America/Detroit:20260822T200000
DTEND;TZID=America/Detroit:20260822T233000
SUMMARY:Exhibition:Muted Volumes: Book-Objects\, Patterned Papers\, and the Closed Stacks of Buhr
DESCRIPTION:This exhibit in the Clark Library rotunda focuses on handmade decorative patterned papers when exploring books stored at the library's Buhr Offsite Shelving Facility. Decorative paper\, noticed when walking through the stack's aisles or surprising you when you casually flip through a book\, can really catch your eye. But because the Buhr stacks are closed from browsing\, the density and dimensionality of its nearly 3 million books are reduced to title searches on a screen.\n\nAs a response to these reflections\, artist and library staff member Stephanie Osorio shares her handbound unopenable book-objects as symbolic stand-ins for forgotten books at Buhr — the books that don’t get a chance to be noticed. Along with the book-objects are the carved woodblocks that made prints to decorate them. Some books from Buhr that inspired this project with their original decorated patterned papers will also be on display.\n\nView the exhibit anytime the Hatcher Library is open\, and join us for an opening reception on Thursday\, May 14th\, 5pm - 6:30pm\, for an opportunity to hear from the artist and engage with the book-objects.
UID:147739-21901769@events.umich.edu
URL:https://events.umich.edu/event/147739
CLASS:PUBLIC
STATUS:CONFIRMED
CATEGORIES:Library,Free
LOCATION:Hatcher Graduate Library - Clark Library (2nd floor)
CONTACT:
END:VEVENT
BEGIN:VEVENT
DTSTAMP:20260403T153549
DTSTART;TZID=America/Detroit:20260822T200000
SUMMARY:Performance:Rodney Crowell
DESCRIPTION:Rodney Crowell is the songwriter’s songwriter and an icon among giants. Native Texan\, Crowell is a multi-Grammy Award-winning troubadour with fifteen number one hits. Over the course of his career\, Crowell has gracefully blended his own mainstream success as an artist with a prolific catalog of songs cut by the likes of Emmylou Harris\, Johnny Cash\, Waylon Jennings\, Keith Urban and more\, making him a master among his peers. \n\nWith more than 40 years of American roots music under his belt\, Crowell has also been cited as the architect of Americana music\, extending his genre reach\, but owing to the distinctly universal\, literary quality of his writing\, he has also penned beloved songs for artists as diverse as Bob Seger\, Etta James\, the Grateful Dead\, John Denver\, Jimmy Buffett and countless others.\n\nA member of the Nashville Songwriters Hall of Fame\, Crowell is also the author of the acclaimed memoir\, Chinaberry Sidewalks\, and teamed up with New York Times best-selling author Mary Karr for Kin: Songs by Mary Karr & Rodney Crowell in 2012\, with Karr saying of her collaborator\, “Like Hank Williams or Townes Van Zandt or Miss Lucinda\, he writes and croons with a poet’s economy and a well digger’s deep heart.” Crowell was honored with ASCAP’s prestigious Founder’s Award in 2017\, and that same year released the album Close Ties\, which spawned another Grammy nomination for “It Ain’t Over Yet” with Rosanne Cash and John Paul White in the category of Best Americana Song. 2019’s Texas was a collection of Lone Star-centric collaborations with Ringo Starr\, Willie Nelson\, Ronnie Dunn\, Steve Earle and more\, and Crowell’s most recent album release is the 2021 set\, Triage. \n\nCrowell came up in Nashville’s songwriting heyday alongside Guy Clark\, Townes Van Zandt\, and Steve Earle and has continued that legacy of camaraderie and kinship with his peers well into the iconic era of his career. As many say - “your favorite song was probably written by Rodney Crowell.” Crowell has four daughters and lives with his wife and dog in Tennessee. He writes every day and loves tending to his garden.
UID:147337-21900843@events.umich.edu
URL:https://events.umich.edu/event/147337
CLASS:PUBLIC
STATUS:CONFIRMED
CATEGORIES:Ark,Mutotix
LOCATION:ARK Reserved + Gold Circle
CONTACT:
END:VEVENT
END:VCALENDAR