BEGIN:VCALENDAR
VERSION:2.0
PRODID:-//UM//UM*Events//EN
CALSCALE:GREGORIAN
BEGIN:VTIMEZONE
TZID:America/Detroit
TZURL:http://tzurl.org/zoneinfo/America/Detroit
X-LIC-LOCATION:America/Detroit
BEGIN:DAYLIGHT
TZOFFSETFROM:-0500
TZOFFSETTO:-0400
TZNAME:EDT
DTSTART:20070311T020000
RRULE:FREQ=YEARLY;BYMONTH=3;BYDAY=2SU
END:DAYLIGHT
BEGIN:STANDARD
TZOFFSETFROM:-0400
TZOFFSETTO:-0500
TZNAME:EST
DTSTART:20071104T020000
RRULE:FREQ=YEARLY;BYMONTH=11;BYDAY=1SU
END:STANDARD
END:VTIMEZONE
BEGIN:VEVENT
DTSTAMP:20260419T162047
DTSTART;TZID=America/Detroit:20260827T090000
DTEND;TZID=America/Detroit:20260827T110000
SUMMARY:Workshop / Seminar:RCRS Workshop D
DESCRIPTION:RCRS D: EthicsPlease arrive 10 minutes prior to start time. If you arrive late for any reason\, you will not be admitted. Similarly\, if you leave early\, you will not receive credit for your attendance.**Bring your Mcard.** Your card will be swiped through a card reader to record your attendance at the end of the workshop. If you don't have your card swiped\, you will have to attend another session of this workshop.If you cannot attend this workshop\, please drop your registration as soon as possible so that a waitlisted student may be able to attend.**Please note: Masco Commons\, including the kitchen and lounge areas\, are for faculty use only.
UID:147552-21901252@events.umich.edu
URL:https://events.umich.edu/event/147552
CLASS:PUBLIC
STATUS:CONFIRMED
CATEGORIES:Sessions
LOCATION:Johnson Rooms
CONTACT:
END:VEVENT
BEGIN:VEVENT
DTSTAMP:20260419T162047
DTSTART;TZID=America/Detroit:20260827T150000
DTEND;TZID=America/Detroit:20260827T170000
SUMMARY:Workshop / Seminar:RCRS Workshop A
DESCRIPTION:RCRS Workshop A: Appropriate citation of sources and avoiding plagiarism\; authorship and publication practices and responsibilities. \n
UID:147545-21901225@events.umich.edu
URL:https://events.umich.edu/event/147545
CLASS:PUBLIC
STATUS:CONFIRMED
CATEGORIES:Sessions
LOCATION:Johnson Rooms
CONTACT:
END:VEVENT
BEGIN:VEVENT
DTSTAMP:20260303T125202
DTSTART;TZID=America/Detroit:20260827T200000
SUMMARY:Performance:Annie & Rod Capps Band
DESCRIPTION:Official album release show!\n\nAnnie and Rod Capps have established themselves as well-respected songwriters\, musicians and performers\, with three albums topping the Folk Radio charts and as 2-time Kerrville New Folk Finalists. The Capps’ sound meets at the intersection of Americana & Folk drawing on rock\, jazz\, blues and bluegrass influences. What comes out is a hybrid sound all their own.  Genuine and playful\; effortless and endearing\; this duo\, along with bandmates\, Jason Dennie and Ozzie Andrews\, has been sharing their music with happy audiences in quality music venues\, house concerts\, coffeehouses and festivals throughout their home state of Michigan and beyond.\n\nTonight’s show celebrates the release of Annie and Rod’s album\, Never Done. The 10th album from Michigan rockers turned ‘folkies’ features 10 original songs that combine themes of nostalgia and personal growth\, with plenty of heart-felt realness\, charming self-awareness\, and a dusting of humor. “Never Done” reflects the Capps’ hope that maybe we really do get better with age as long as we keep working\, learning and evolving.
UID:146109-21898397@events.umich.edu
URL:https://events.umich.edu/event/146109
CLASS:PUBLIC
STATUS:CONFIRMED
CATEGORIES:Ark,Mutotix
LOCATION:ARK Reserved
CONTACT:
END:VEVENT
BEGIN:VEVENT
DTSTAMP:20260414T144814
DTSTART;TZID=America/Detroit:20260827T200000
DTEND;TZID=America/Detroit:20260827T233000
SUMMARY:Exhibition:Muted Volumes: Book-Objects\, Patterned Papers\, and the Closed Stacks of Buhr
DESCRIPTION:This exhibit in the Clark Library rotunda focuses on handmade decorative patterned papers when exploring books stored at the library's Buhr Offsite Shelving Facility. Decorative paper\, noticed when walking through the stack's aisles or surprising you when you casually flip through a book\, can really catch your eye. But because the Buhr stacks are closed from browsing\, the density and dimensionality of its nearly 3 million books are reduced to title searches on a screen.\n\nAs a response to these reflections\, artist and library staff member Stephanie Osorio shares her handbound unopenable book-objects as symbolic stand-ins for forgotten books at Buhr — the books that don’t get a chance to be noticed. Along with the book-objects are the carved woodblocks that made prints to decorate them. Some books from Buhr that inspired this project with their original decorated patterned papers will also be on display.\n\nView the exhibit anytime the Hatcher Library is open\, and join us for an opening reception on Thursday\, May 14th\, 5pm - 6:30pm\, for an opportunity to hear from the artist and engage with the book-objects.
UID:147739-21901774@events.umich.edu
URL:https://events.umich.edu/event/147739
CLASS:PUBLIC
STATUS:CONFIRMED
CATEGORIES:Free,Library
LOCATION:Hatcher Graduate Library - Clark Library (2nd floor)
CONTACT:
END:VEVENT
END:VCALENDAR