BEGIN:VCALENDAR
VERSION:2.0
PRODID:-//UM//UM*Events//EN
CALSCALE:GREGORIAN
BEGIN:VTIMEZONE
TZID:America/Detroit
TZURL:http://tzurl.org/zoneinfo/America/Detroit
X-LIC-LOCATION:America/Detroit
BEGIN:DAYLIGHT
TZOFFSETFROM:-0500
TZOFFSETTO:-0400
TZNAME:EDT
DTSTART:20070311T020000
RRULE:FREQ=YEARLY;BYMONTH=3;BYDAY=2SU
END:DAYLIGHT
BEGIN:STANDARD
TZOFFSETFROM:-0400
TZOFFSETTO:-0500
TZNAME:EST
DTSTART:20071104T020000
RRULE:FREQ=YEARLY;BYMONTH=11;BYDAY=1SU
END:STANDARD
END:VTIMEZONE
BEGIN:VEVENT
DTSTAMP:20260403T091456
DTSTART;TZID=America/Detroit:20261006T120000
DTEND;TZID=America/Detroit:20261006T160000
SUMMARY:Fair / Festival:CGIS Study Abroad Fair
DESCRIPTION:SAVE THE DATE - October 6th!\n\nCurious about studying or interning abroad as an undergrad at U-M?\nCome explore everything CGIS (the Center for Global and Intercultural Study) has to offer and find the best program for you! No matter who you are\, where you come from\, or what you’re studying\, a global experience is available to you during your time at Michigan.\n\nGet your questions answered! Come chat with: \n- CGIS Program Advisors\n- Recent U-M study abroad students\n- Financial Aid and the LSA Scholarships Office\n- Newnan Academic Advisors\n- Other on-campus offices\n\nWith over 120 CGIS programs in 40+ countries ranging from a few weeks to an academic year\, there are many options to choose from.\nIf you want to learn more about how to satisfy your major/minor requirements abroad\, how to afford study abroad\, how to travel with other U-M students on a faculty-led trip\, or want to know what to expect\, be sure to add this event to your calendar and drop by!\n\nCGIS is part of the College of Literature\, Science\, and the Arts (LSA)\, but all UM-Ann Arbor undergraduates are welcome to apply to our programs.
UID:147309-21900718@events.umich.edu
URL:https://events.umich.edu/event/147309
CLASS:PUBLIC
STATUS:CONFIRMED
CATEGORIES:global opportunities,study abroad,Undergraduate,Undergraduate Students,Abroad,Africa,All Majors Welcome,Asia,Central America,global,global engagement,South America,intercultural,international,internships,Latin America,Majors,Scholarships
LOCATION:Rogel Ballroom Michigan Union
CONTACT:
END:VEVENT
BEGIN:VEVENT
DTSTAMP:20260319T111810
DTSTART;TZID=America/Detroit:20261006T200000
SUMMARY:Performance:The Bad Plus Farewell Tour
DESCRIPTION:Powerful\, groove-oriented jazz-rock fusion\n\nThe Bad Plus are the ultimate originals. A democratic unit with a clear vision and a refusal to conform to convention. For the past two decades they have played with spirit and adventure\, made their own rules and done so with a bold sense of creativity and intent. Avoiding easy categorization\, The Bad Plus has won critical acclaim and a legion of fans worldwide with their unique sound and flair for live performance.\n\nThe Bad Plus continues to push boundaries as founding members Reid Anderson (bass) and Dave King (drums) embark on a new piano-less incarnation of the band with Ben Monder (guitar) and Chris Speed (tenor saxophone) – instigating a new wave of excitement and anticipation within the band that is re-energizing their sound and inspiration. The Bad Plus have constantly searched to bridge genres and techniques while exploring the infinite possibilities of exceptional musicians working in perfect sync.
UID:146717-21899547@events.umich.edu
URL:https://events.umich.edu/event/146717
CLASS:PUBLIC
STATUS:CONFIRMED
CATEGORIES:Ark,Mutotix
LOCATION:ARK Reserved
CONTACT:
END:VEVENT
END:VCALENDAR