BEGIN:VCALENDAR
VERSION:2.0
PRODID:-//UM//UM*Events//EN
CALSCALE:GREGORIAN
BEGIN:VTIMEZONE
TZID:America/Detroit
TZURL:http://tzurl.org/zoneinfo/America/Detroit
X-LIC-LOCATION:America/Detroit
BEGIN:DAYLIGHT
TZOFFSETFROM:-0500
TZOFFSETTO:-0400
TZNAME:EDT
DTSTART:20070311T020000
RRULE:FREQ=YEARLY;BYMONTH=3;BYDAY=2SU
END:DAYLIGHT
BEGIN:STANDARD
TZOFFSETFROM:-0400
TZOFFSETTO:-0500
TZNAME:EST
DTSTART:20071104T020000
RRULE:FREQ=YEARLY;BYMONTH=11;BYDAY=1SU
END:STANDARD
END:VTIMEZONE
BEGIN:VEVENT
DTSTAMP:20260107T120553
DTSTART;TZID=America/Detroit:20261012T110000
DTEND;TZID=America/Detroit:20261012T120000
SUMMARY:Lecture / Discussion:Human Genetics Research Seminar Series
DESCRIPTION:Monday\, October 12\, 2026\n11:00am - 12:00pm\nLocation TBD\n\nMalia Fullerton\, DPhil\nAdjunct Professor\, Epidemiology\nProfessor\, Bioethics and Humanities\nAdjunct Professor\, Genome Sciences\nAdjunct Professor\, Medicine - Medical Genetics\nActing/Interim Center/Institute Director\, School of Public Health\nUniversity of Washington\n“Seminar Title TBD”\n\nHosted By: Wendy R. Uhlmann\, Department of Human Genetics\n___\nStephanie Malia Fullerton\, DPhil\, is Professor of Bioethics and Humanities at the University of Washington School of Medicine. She is also Adjunct Professor in the UW Departments of Epidemiology\, Genome Sciences\, and Medicine (Medical Genetics)\, as well as an affiliate investigator with the Public Health Sciences division of the Fred Hutchinson Cancer Research Center. She received a PhD in Human Population Genetics from the University of Oxford and later re-trained in Ethical\, Legal\, and Social Implications (ELSI) research with a fellowship from the NIH National Human Genome Research Institute.\n\nDr. Fullerton’s work focuses on the ethical and social implications of genomic research and its equitable and safe translation for clinical and public health benefit. She serves as the ELSI lead for the Clinical Sequencing Evidence-Generating Research (CSER2) Consortium coordinating center\, co-chairs the TOPMed Consortium ELSI Committee\, and chairs the Bioethics Advisory Board of the Kaiser Permanente national Research Bank. She contributes to a range of empirical projects focused on clinical genomics translation and precision medicine approaches to the treatment and prevention of cancer and kidney disease in diverse patient populations.
UID:143398-21893070@events.umich.edu
URL:https://events.umich.edu/event/143398
CLASS:PUBLIC
STATUS:CONFIRMED
CATEGORIES:Postdoctoral Research Fellows,Human Genetics\, Genetics\, Neurogenetic Diseases,Information and Technology,lecture,Life Science,lifton,Medicine,Natural Sciences,neel,neurological disease,basic sciences,Public Health,Public Policy,Reception,research,Science,seminar,sodium channel,symposium,human genetics,Basic Science,biolgical chemistry,biological chemistry,biological science,Biology,Biosciences,Bsbsigns,cancer,Chemistry,Discussion,epilepsy,Faculty,Free,genetics,genome,genomics,Human Genetics\, Genetics\, Epidemiology
LOCATION:
CONTACT:
END:VEVENT
BEGIN:VEVENT
DTSTAMP:20260407T162632
DTSTART;TZID=America/Detroit:20261012T120000
DTEND;TZID=America/Detroit:20261012T123000
SUMMARY:Workshop / Seminar:King Talks Information Session
DESCRIPTION:These sessions will provide an overview of the application process\, expected time commitment\, and compensation associated with serving as a 2027 King Talks speaker.Interested individuals only need to attend one session.
UID:147511-21901165@events.umich.edu
URL:https://events.umich.edu/event/147511
CLASS:PUBLIC
STATUS:CONFIRMED
CATEGORIES:Rgs Events,Rgs-events,Sessions
LOCATION:Virtual via Zoom
CONTACT:
END:VEVENT
BEGIN:VEVENT
DTSTAMP:20260419T202045
DTSTART;TZID=America/Detroit:20261012T130000
DTEND;TZID=America/Detroit:20261012T140000
SUMMARY:Workshop / Seminar:ABCs of Accounting - AC100 (Chartfield Overview)
DESCRIPTION:AC100\n\nLearn about the various funds that make up the university's general ledger. This is an introductory course on Fund Accounting and Chartfields at the University of Michigan.\nAgenda:\nChartfield Structure Overview\nIncome Statement and Balance Sheet Overview\nExpenses/Revenues Overview\nPLEASE NOTE: There will be no classes scheduled for June and July\, due to peak year-end processing for the Accounting Customer Service team.
UID:103119-21899327@events.umich.edu
URL:https://events.umich.edu/event/103119
CLASS:PUBLIC
STATUS:CONFIRMED
CATEGORIES:Sessions
LOCATION:Zoom
CONTACT:
END:VEVENT
END:VCALENDAR