BEGIN:VCALENDAR
VERSION:2.0
PRODID:-//UM//UM*Events//EN
CALSCALE:GREGORIAN
BEGIN:VTIMEZONE
TZID:America/Detroit
TZURL:http://tzurl.org/zoneinfo/America/Detroit
X-LIC-LOCATION:America/Detroit
BEGIN:DAYLIGHT
TZOFFSETFROM:-0500
TZOFFSETTO:-0400
TZNAME:EDT
DTSTART:20070311T020000
RRULE:FREQ=YEARLY;BYMONTH=3;BYDAY=2SU
END:DAYLIGHT
BEGIN:STANDARD
TZOFFSETFROM:-0400
TZOFFSETTO:-0500
TZNAME:EST
DTSTART:20071104T020000
RRULE:FREQ=YEARLY;BYMONTH=11;BYDAY=1SU
END:STANDARD
END:VTIMEZONE
BEGIN:VEVENT
DTSTAMP:20260324T094110
DTSTART;TZID=America/Detroit:20261015T200000
SUMMARY:Performance:Off Book: Tour de Force (A Force of Tour)
DESCRIPTION:Jessica McKenna and Zach Reino create a completely improvised musical in an attempt to combat the notion that musicals should be “carefully crafted” or “thought out at all.” \n\nJessic and Zach wrote and composed music for the WGA award-winning Peacock Series Baking It starring Maya Rudolph\, Amy Poehler and Andy Samberg. The duo has also written songs and musical sketches for the hit animation show Rick and Morty\, Party Over Here (a Fox sketch show produced by The Lonely Island)\, the Peacock series Pitch Perfect: Bumper In Berlin\, Buzzfeed\, FunnyOrDie and Nickelodeon. Zach and Jess are currently developing TV and Film projects with Amy Poehler’s Paper Kite Productions\, David Wain (The State\, Role Models\, Wanderlust) and Elizabeth Banks’ Brownstone Productions. They also created and starred in Serious Music\, a digital series for ABC. \n \nTheir improvised musical podcast Off Book has been praised by various online publications including Indie Wire\, USA Today\, Parade\, AV Club and Splitsider and been featured at Comedy Central’s Clusterfest Festival\, Moontower\, the world renowned Just For Laughs Festival in Montreal\, and the Netflix Is A Joke Festival in LA. Zach and Jess were listed as one of Vulture’s “Comedians You Should and Will Know” and in early 2019 they released their first full-length musical comedy album The Calendar Album with Comedy Dynamics.
UID:146938-21899821@events.umich.edu
URL:https://events.umich.edu/event/146938
CLASS:PUBLIC
STATUS:CONFIRMED
CATEGORIES:Ark,Mutotix
LOCATION:ARK Reserved
CONTACT:
END:VEVENT
END:VCALENDAR