BEGIN:VCALENDAR
VERSION:2.0
PRODID:-//UM//UM*Events//EN
CALSCALE:GREGORIAN
BEGIN:VTIMEZONE
TZID:America/Detroit
TZURL:http://tzurl.org/zoneinfo/America/Detroit
X-LIC-LOCATION:America/Detroit
BEGIN:DAYLIGHT
TZOFFSETFROM:-0500
TZOFFSETTO:-0400
TZNAME:EDT
DTSTART:20070311T020000
RRULE:FREQ=YEARLY;BYMONTH=3;BYDAY=2SU
END:DAYLIGHT
BEGIN:STANDARD
TZOFFSETFROM:-0400
TZOFFSETTO:-0500
TZNAME:EST
DTSTART:20071104T020000
RRULE:FREQ=YEARLY;BYMONTH=11;BYDAY=1SU
END:STANDARD
END:VTIMEZONE
BEGIN:VEVENT
DTSTAMP:20260419T202047
DTSTART;TZID=America/Detroit:20261022T100000
DTEND;TZID=America/Detroit:20261022T120000
SUMMARY:Workshop / Seminar:RCRS Workshop C
DESCRIPTION:RCRS C: Personal\, professional\, and financial conflicts of interest\; supervisory and mentoring relationships and responsibilities\; responsibilities of collaborative research. Please arrive 10 minutes prior to start time. If you arrive late for any reason\, you will not be admitted. Similarly\, if you leave early\, you will not receive credit for your attendance.**Bring your Mcard.** Your card will be swiped through a card reader to record your attendance at the end of the workshop. If you don't have your card swiped\, you will have to attend another session of this workshop.If you cannot attend this workshop\, please drop your registration as soon as possible so that a waitlisted student may be able to attend.**Please note: Masco Commons\, including the kitchen and lounge areas\, are for faculty use only.
UID:147551-21901250@events.umich.edu
URL:https://events.umich.edu/event/147551
CLASS:PUBLIC
STATUS:CONFIRMED
CATEGORIES:Sessions
LOCATION:Johnson Rooms
CONTACT:
END:VEVENT
BEGIN:VEVENT
DTSTAMP:20260303T125459
DTSTART;TZID=America/Detroit:20261022T200000
SUMMARY:Performance:Buffalo Rose
DESCRIPTION:New Music!\n\n​Buffalo Rose is a singularly spectacular six-piece band from Pittsburgh\, PA. Overflowing with the bold and unfettered joy of their inimitable blend of “Theatre Kid Americana\,” a Buffalo Rose show is a celebration of creative wonder\; a sparkling sonic delight. Their live show is where their energy fully shines\, and songwriting is their lodestar. The band’s recorded catalog is full of vibrantly emotive and methodically arranged songs\, sure to thrill the mind and charm the heart.\n\nAt the start of the year\, the Pittsburgh-based band released a record of covers entitled All You Can Eat. Produced by the band and Malcolm Inglis\, All You Can Eat is a snapshot into the musical universe that creates Buffalo Rose’s genre defying sound. This release welcomes them into a new era\; one of joyful play\, of explosive color and sound\, of boundless potential and pure fun.
UID:146110-21898398@events.umich.edu
URL:https://events.umich.edu/event/146110
CLASS:PUBLIC
STATUS:CONFIRMED
CATEGORIES:Ark,Mutotix
LOCATION:ARK Reserved
CONTACT:
END:VEVENT
END:VCALENDAR