BEGIN:VCALENDAR
VERSION:2.0
PRODID:-//UM//UM*Events//EN
CALSCALE:GREGORIAN
BEGIN:VTIMEZONE
TZID:America/Detroit
TZURL:http://tzurl.org/zoneinfo/America/Detroit
X-LIC-LOCATION:America/Detroit
BEGIN:DAYLIGHT
TZOFFSETFROM:-0500
TZOFFSETTO:-0400
TZNAME:EDT
DTSTART:20070311T020000
RRULE:FREQ=YEARLY;BYMONTH=3;BYDAY=2SU
END:DAYLIGHT
BEGIN:STANDARD
TZOFFSETFROM:-0400
TZOFFSETTO:-0500
TZNAME:EST
DTSTART:20071104T020000
RRULE:FREQ=YEARLY;BYMONTH=11;BYDAY=1SU
END:STANDARD
END:VTIMEZONE
BEGIN:VEVENT
DTSTAMP:20260325T095836
DTSTART;TZID=America/Detroit:20261029T200000
SUMMARY:Performance:Kylee Phillips
DESCRIPTION:Album release show!\n\nMichigan native singer/songwriter Kylee Phillips is releasing her first full length album - “Before I Am Invisible” - an ambitious collection of sensual\, articulate\, and unpretentiously therapeutic pop anthems. This long-awaited\, expertly percolated record couldn’t be more timely\, giving voice to the memories\, desires\, rages\, joys\, and insights of a deeply grounded woman who has found the one place she won’t be talked over.\n\nPhillips will be celebrating her album release with a full band release show\, bringing her songs to their intended sonic depth with dense guitar\, drum\, and synth arrangements. Fans of her beloved\, vulnerable listening room performances will finally get a taste of Phillips at her full potential\, full power and full volume.
UID:147012-21900240@events.umich.edu
URL:https://events.umich.edu/event/147012
CLASS:PUBLIC
STATUS:CONFIRMED
CATEGORIES:Ark,Mutotix
LOCATION:ARK Reserved
CONTACT:
END:VEVENT
END:VCALENDAR