BEGIN:VCALENDAR
VERSION:2.0
PRODID:-//UM//UM*Events//EN
CALSCALE:GREGORIAN
BEGIN:VTIMEZONE
TZID:America/Detroit
TZURL:http://tzurl.org/zoneinfo/America/Detroit
X-LIC-LOCATION:America/Detroit
BEGIN:DAYLIGHT
TZOFFSETFROM:-0500
TZOFFSETTO:-0400
TZNAME:EDT
DTSTART:20070311T020000
RRULE:FREQ=YEARLY;BYMONTH=3;BYDAY=2SU
END:DAYLIGHT
BEGIN:STANDARD
TZOFFSETFROM:-0400
TZOFFSETTO:-0500
TZNAME:EST
DTSTART:20071104T020000
RRULE:FREQ=YEARLY;BYMONTH=11;BYDAY=1SU
END:STANDARD
END:VTIMEZONE
BEGIN:VEVENT
DTSTAMP:20260313T120253
DTSTART;TZID=America/Detroit:20260423T120000
DTEND;TZID=America/Detroit:20260423T130000
SUMMARY:Workshop / Seminar:Boost Teaching and Learning Productivity with GenAI
DESCRIPTION:Ready to transform your teaching and free up valuable time? Join our interactive workshop and discover how Generative AI (GenAI) tools\, specifically U-M GPT\, can streamline your approach to creating syllabi\, assignments\, rubrics\, and lesson plans. Dive into practical ideas for designing assignments and instructional materials in a GenAI era\, and engage in hands-on opportunities using U-M GPT and resources like the \"60+ ChatGPT Assignments to Use in Your Classroom Today\" Book Guide. Enhance your productivity and gain more time to engage with your students!\n\nWorkshop Outline:\n\n-Effortless Course Content Creation:\n--Using U-M GPT for generating slides\, content for Canvas pages\, and other course materials (syllabus\, lesson plans\, rubrics)\n-Designing Assignments and Instructional Materials:\n--Practical ideas for creating assignments and instructional materials.\n--Hands-on exploration of the \"60+ ChatGPT Assignments to Use in Your Classroom Today\" Book Guide.\n--Engaging exercises to design and refine assignments.\n-Streamlined Data Analysis:\n--Techniques for analyzing data and summarizing academic materials using GenAI tools.\n-Hands-on Experience:\n--Practical\, hands-on exercises to get comfortable using U-M GPT and other GenAI tools\, e.g.\, the new GenAI Discussion Summary feature in Canvas.\n-Peer Insights and Best Practices:\n--Participatory discussions and sharing of best practices for integrating GenAI in higher education.\n\nAudience: Instructors
UID:124199-21899288@events.umich.edu
URL:https://events.umich.edu/event/124199
CLASS:PUBLIC
STATUS:CONFIRMED
CATEGORIES:Academic Technology At Michigan,Ai Literacy,Artificial Intelligence,Chat Gpt,Chatgpt,digital,digital technology,Genai,Generative Ai,information and technology,information science,Interdisciplinary,michigan it,Professional Development,Staff,Teaching And Learning,Teachtech,Training,Virtual,Webinar,workshop
LOCATION:Off Campus Location
CONTACT:
END:VEVENT
END:VCALENDAR