BEGIN:VCALENDAR
VERSION:2.0
PRODID:-//UM//UM*Events//EN
CALSCALE:GREGORIAN
BEGIN:VTIMEZONE
TZID:America/Detroit
TZURL:http://tzurl.org/zoneinfo/America/Detroit
X-LIC-LOCATION:America/Detroit
BEGIN:DAYLIGHT
TZOFFSETFROM:-0500
TZOFFSETTO:-0400
TZNAME:EDT
DTSTART:20070311T020000
RRULE:FREQ=YEARLY;BYMONTH=3;BYDAY=2SU
END:DAYLIGHT
BEGIN:STANDARD
TZOFFSETFROM:-0400
TZOFFSETTO:-0500
TZNAME:EST
DTSTART:20071104T020000
RRULE:FREQ=YEARLY;BYMONTH=11;BYDAY=1SU
END:STANDARD
END:VTIMEZONE
BEGIN:VEVENT
DTSTAMP:20260409T141220
DTSTART;TZID=America/Detroit:20250423T170000
DTEND;TZID=America/Detroit:20250423T190000
SUMMARY:Exhibition:Arts & Ideas: End of Year Celebration
DESCRIPTION:Join us in the Keene Theater to celebrate the end of a productive academic year in Arts & Ideas. We will honor the 2026 graduating seniors\, and those who completed an Honors thesis will briefly present their work. A reception with live music and art on display will follow the program. Free and open to students\, friends\, family\, and the public.
UID:131233-21868008@events.umich.edu
URL:https://events.umich.edu/event/131233
CLASS:PUBLIC
STATUS:CONFIRMED
CATEGORIES:Free,Undergraduate Students
LOCATION:East Quadrangle - Keene Theater
CONTACT:
END:VEVENT
END:VCALENDAR