BEGIN:VCALENDAR
VERSION:2.0
PRODID:-//UM//UM*Events//EN
CALSCALE:GREGORIAN
BEGIN:VTIMEZONE
TZID:America/Detroit
TZURL:http://tzurl.org/zoneinfo/America/Detroit
X-LIC-LOCATION:America/Detroit
BEGIN:DAYLIGHT
TZOFFSETFROM:-0500
TZOFFSETTO:-0400
TZNAME:EDT
DTSTART:20070311T020000
RRULE:FREQ=YEARLY;BYMONTH=3;BYDAY=2SU
END:DAYLIGHT
BEGIN:STANDARD
TZOFFSETFROM:-0400
TZOFFSETTO:-0500
TZNAME:EST
DTSTART:20071104T020000
RRULE:FREQ=YEARLY;BYMONTH=11;BYDAY=1SU
END:STANDARD
END:VTIMEZONE
BEGIN:VEVENT
DTSTAMP:20260421T052036
DTSTART;TZID=America/Detroit:20260523T100000
DTEND;TZID=America/Detroit:20260408T160000
SUMMARY:Conference / Symposium:MUNGER GRADUATE RESIDENCES 2025-2026
DESCRIPTION:Join the Munger Community by attending events hosted by our Resident Advisors (RAs)! Feel free to select and attend as many events as you would like!
UID:135673-21901220@events.umich.edu
URL:https://events.umich.edu/event/135673
CLASS:PUBLIC
STATUS:CONFIRMED
CATEGORIES:Sessions
LOCATION:Start at Munger Lobby → loop through Nichols Arboretum trails → finish back in 8th‐floor Fellows Lounge
CONTACT:
END:VEVENT
END:VCALENDAR