BEGIN:VCALENDAR
VERSION:2.0
PRODID:-//UM//UM*Events//EN
CALSCALE:GREGORIAN
BEGIN:VTIMEZONE
TZID:America/Detroit
TZURL:http://tzurl.org/zoneinfo/America/Detroit
X-LIC-LOCATION:America/Detroit
BEGIN:DAYLIGHT
TZOFFSETFROM:-0500
TZOFFSETTO:-0400
TZNAME:EDT
DTSTART:20070311T020000
RRULE:FREQ=YEARLY;BYMONTH=3;BYDAY=2SU
END:DAYLIGHT
BEGIN:STANDARD
TZOFFSETFROM:-0400
TZOFFSETTO:-0500
TZNAME:EST
DTSTART:20071104T020000
RRULE:FREQ=YEARLY;BYMONTH=11;BYDAY=1SU
END:STANDARD
END:VTIMEZONE
BEGIN:VEVENT
DTSTAMP:20250801T100140
DTSTART;TZID=America/Detroit:20260206T093000
DTEND;TZID=America/Detroit:20260206T120000
SUMMARY:Workshop / Seminar:MORE Committee Workshop (STUDENT): Getting Your Mentoring Relationship Off to a Good Start
DESCRIPTION:Developed by the MORE Committee\, this workshop helps enhance the mentoring relationship between the student and faculty mentor by facilitating the development of shared expectations. Mentors and mentees work independently in separate sessions to identify their own objectives and styles\, and consider strategies for dealing with possible challenges. Then\, student-faculty pairs work together to develop a written mentoring plan as a means of codifying some of the most important elements (needs\, goals\, mutual expectations) of a two-way mentoring relationship. Among Rackham doctoral students who have written mentoring plans\, 83 percent find those plans useful. Registration and attendance at the same workshop are required of both the faculty and the student. Separate registration for faculty is available at: https://myumi.ch/2r6kn.
UID:136863-21879253@events.umich.edu
URL:https://events.umich.edu/event/136863
CLASS:PUBLIC
STATUS:CONFIRMED
CATEGORIES:Rgs Events,Rgs-events,Sessions
LOCATION:VIRTUAL
CONTACT:
END:VEVENT
END:VCALENDAR