BEGIN:VCALENDAR
VERSION:2.0
PRODID:-//UM//UM*Events//EN
CALSCALE:GREGORIAN
BEGIN:VTIMEZONE
TZID:America/Detroit
TZURL:http://tzurl.org/zoneinfo/America/Detroit
X-LIC-LOCATION:America/Detroit
BEGIN:DAYLIGHT
TZOFFSETFROM:-0500
TZOFFSETTO:-0400
TZNAME:EDT
DTSTART:20070311T020000
RRULE:FREQ=YEARLY;BYMONTH=3;BYDAY=2SU
END:DAYLIGHT
BEGIN:STANDARD
TZOFFSETFROM:-0400
TZOFFSETTO:-0500
TZNAME:EST
DTSTART:20071104T020000
RRULE:FREQ=YEARLY;BYMONTH=11;BYDAY=1SU
END:STANDARD
END:VTIMEZONE
BEGIN:VEVENT
DTSTAMP:20250806T125119
DTSTART;TZID=America/Detroit:20260422T190000
DTEND;TZID=America/Detroit:20260422T210000
SUMMARY:Performance:Jean-Yves Thibaudet\, piano
DESCRIPTION:Short in length but limitless in imagination\, all 24 of Claude Debussy’s magical preludes for piano are performed by one of their supreme living interpreters\, Jean-Yves Thibaudet.\n\nDebussy opened up a new universe of sound in his two books of exquisitely conceived\, ravishingly colored musical cameos\, and few pianists inhabit that revolutionary universe more fully than Thibaudet. Each of these brief works is painted in subtle shades\, hazy harmonies\, and daring textures\, with inspiration ranging from paintings and travel to Dickens and Peter Pan.\n\nThibaudet has lived with Debussy’s Preludes for his “entire life\,” learning some as a child and recording the full set more than 30 years ago. He closes the 25/26 Choral Union Series with this legendary program in his first solo recital with UMS since 2009.
UID:137195-21879900@events.umich.edu
URL:https://events.umich.edu/event/137195
CLASS:PUBLIC
STATUS:CONFIRMED
CATEGORIES:Classical,classical music,hill auditorium,music,piano,UMS,university musical society
LOCATION:Hill Auditorium
CONTACT:
END:VEVENT
END:VCALENDAR