BEGIN:VCALENDAR
VERSION:2.0
PRODID:-//UM//UM*Events//EN
CALSCALE:GREGORIAN
BEGIN:VTIMEZONE
TZID:America/Detroit
TZURL:http://tzurl.org/zoneinfo/America/Detroit
X-LIC-LOCATION:America/Detroit
BEGIN:DAYLIGHT
TZOFFSETFROM:-0500
TZOFFSETTO:-0400
TZNAME:EDT
DTSTART:20070311T020000
RRULE:FREQ=YEARLY;BYMONTH=3;BYDAY=2SU
END:DAYLIGHT
BEGIN:STANDARD
TZOFFSETFROM:-0400
TZOFFSETTO:-0500
TZNAME:EST
DTSTART:20071104T020000
RRULE:FREQ=YEARLY;BYMONTH=11;BYDAY=1SU
END:STANDARD
END:VTIMEZONE
BEGIN:VEVENT
DTSTAMP:20260410T121513
DTSTART;TZID=America/Detroit:20260425T140000
DTEND;TZID=America/Detroit:20260425T160000
SUMMARY:Reception / Open House:Opening Reception: Commence
DESCRIPTION:\n\nJoin us at Stamps Gallery on Saturday\, April 25 from 2-4 p.m. for the opening reception of Commence: A Stamps Graduating Students Exhibition.\n\nThe Penny W. Stamps School of Art & Design is pleased to announce the third annual edition of Commence: A Graduating Student Exhibition. The goal of Commence is to provide all graduating majors at Stamps with a meaningful opportunity to exhibit their work to the public in Ann Arbor\, Southeast Michigan\, and beyond.
UID:142134-21890055@events.umich.edu
URL:https://events.umich.edu/event/142134
CLASS:PUBLIC
STATUS:CONFIRMED
CATEGORIES:Art
LOCATION:Off Campus Location
CONTACT:
END:VEVENT
END:VCALENDAR