BEGIN:VCALENDAR
VERSION:2.0
PRODID:-//UM//UM*Events//EN
CALSCALE:GREGORIAN
BEGIN:VTIMEZONE
TZID:America/Detroit
TZURL:http://tzurl.org/zoneinfo/America/Detroit
X-LIC-LOCATION:America/Detroit
BEGIN:DAYLIGHT
TZOFFSETFROM:-0500
TZOFFSETTO:-0400
TZNAME:EDT
DTSTART:20070311T020000
RRULE:FREQ=YEARLY;BYMONTH=3;BYDAY=2SU
END:DAYLIGHT
BEGIN:STANDARD
TZOFFSETFROM:-0400
TZOFFSETTO:-0500
TZNAME:EST
DTSTART:20071104T020000
RRULE:FREQ=YEARLY;BYMONTH=11;BYDAY=1SU
END:STANDARD
END:VTIMEZONE
BEGIN:VEVENT
DTSTAMP:20251201T105915
DTSTART;TZID=America/Detroit:20260801T090000
DTEND;TZID=America/Detroit:20260801T170000
SUMMARY:Conference / Symposium:2026 CHARMM Developers' Meeting
DESCRIPTION:Dr. Charles L. Brooks III\, and his group are hosting the 2026 CHARMM Developers Meeting\, being held from Friday\, July 31\, 2026 to Sunday\, August 2\, 2026\, on the University of Michigan campus in Ann Arbor\, MI.
UID:142278-21890349@events.umich.edu
URL:https://events.umich.edu/event/142278
CLASS:PUBLIC
STATUS:CONFIRMED
CATEGORIES:Chemistry
LOCATION:Chemistry Dow Lab
CONTACT:
END:VEVENT
END:VCALENDAR