BEGIN:VCALENDAR
VERSION:2.0
PRODID:-//UM//UM*Events//EN
CALSCALE:GREGORIAN
BEGIN:VTIMEZONE
TZID:America/Detroit
TZURL:http://tzurl.org/zoneinfo/America/Detroit
X-LIC-LOCATION:America/Detroit
BEGIN:DAYLIGHT
TZOFFSETFROM:-0500
TZOFFSETTO:-0400
TZNAME:EDT
DTSTART:20070311T020000
RRULE:FREQ=YEARLY;BYMONTH=3;BYDAY=2SU
END:DAYLIGHT
BEGIN:STANDARD
TZOFFSETFROM:-0400
TZOFFSETTO:-0500
TZNAME:EST
DTSTART:20071104T020000
RRULE:FREQ=YEARLY;BYMONTH=11;BYDAY=1SU
END:STANDARD
END:VTIMEZONE
BEGIN:VEVENT
DTSTAMP:20260303T122837
DTSTART;TZID=America/Detroit:20260521T180000
DTEND;TZID=America/Detroit:20260521T193000
SUMMARY:Lecture / Discussion:The Lost Campus: The University of Michigan’s Vanished but not Forgotten Spaces
DESCRIPTION:The University of Michigan’s campus has a long and deep history and every generation has cherished particular places\, such as the campus zoo or the famous “Sleepy Hollow.” Many of these locations are now gone\, but not forgotten. Join us to hear from Professor Jim Tobin as he traces U-M’s “lost campus” and how the campus’ changing spaces reflect broader patterns in university history.\n\nPresented with support from the Alumni Association of the University of Michigan.\n\nRefreshments will be provided.
UID:142453-21890971@events.umich.edu
URL:https://events.umich.edu/event/142453
CLASS:PUBLIC
STATUS:CONFIRMED
CATEGORIES:bentley historical library,bentley library,Education,educational,free,history,lecture,Making Michigan,U-m History,university history,university of michigan history
LOCATION:Detroit Observatory
CONTACT:
END:VEVENT
END:VCALENDAR