BEGIN:VCALENDAR
VERSION:2.0
PRODID:-//UM//UM*Events//EN
CALSCALE:GREGORIAN
BEGIN:VTIMEZONE
TZID:America/Detroit
TZURL:http://tzurl.org/zoneinfo/America/Detroit
X-LIC-LOCATION:America/Detroit
BEGIN:DAYLIGHT
TZOFFSETFROM:-0500
TZOFFSETTO:-0400
TZNAME:EDT
DTSTART:20070311T020000
RRULE:FREQ=YEARLY;BYMONTH=3;BYDAY=2SU
END:DAYLIGHT
BEGIN:STANDARD
TZOFFSETFROM:-0400
TZOFFSETTO:-0500
TZNAME:EST
DTSTART:20071104T020000
RRULE:FREQ=YEARLY;BYMONTH=11;BYDAY=1SU
END:STANDARD
END:VTIMEZONE
BEGIN:VEVENT
DTSTAMP:20260420T092031
DTSTART;TZID=America/Detroit:20260420T160000
DTEND;TZID=America/Detroit:20260420T173000
SUMMARY:Workshop / Seminar:OGPS Job Search Series Winter 2026
DESCRIPTION:\n                            \n            This workshop series helps graduate students and \npostdoctoral fellows build the professional skills needed to succeed in \ntoday’s competitive job market. With a focus on biomedical and life \nsciences\, and biomedical engineering\, you will gain the strategies and \nconfidence to pursue careers in academia\, industry\, or beyond. Through \ninteractive sessions that blend presentations with hands-on activities\, \nyou will practice proven approaches to job applications\, networking\, \ninterviewing\, and career planning\, so you can stand out to employers and\n take the next step with confidence.Learning ObjectivesBy the end of this series\, you will be able to:Craft strong application materials that showcase your research expertise and transferable skills using the W.H.O. method.Build connections and network effectively with a strong elevator pitch and an optimized LinkedIn profile (Headline-About-Experience format).Succeed in interviews by applying the S.T.A.R. method and approach salary negotiations confidently.Design a strategic job search with S.M.A.R.T. goals and plan long-term career growth through an Individual Development Plan.\n        \n    \n            
UID:142533-21891102@events.umich.edu
URL:https://events.umich.edu/event/142533
CLASS:PUBLIC
STATUS:CONFIRMED
CATEGORIES:Sessions
LOCATION:
CONTACT:
END:VEVENT
END:VCALENDAR