BEGIN:VCALENDAR
VERSION:2.0
PRODID:-//UM//UM*Events//EN
CALSCALE:GREGORIAN
BEGIN:VTIMEZONE
TZID:America/Detroit
TZURL:http://tzurl.org/zoneinfo/America/Detroit
X-LIC-LOCATION:America/Detroit
BEGIN:DAYLIGHT
TZOFFSETFROM:-0500
TZOFFSETTO:-0400
TZNAME:EDT
DTSTART:20070311T020000
RRULE:FREQ=YEARLY;BYMONTH=3;BYDAY=2SU
END:DAYLIGHT
BEGIN:STANDARD
TZOFFSETFROM:-0400
TZOFFSETTO:-0500
TZNAME:EST
DTSTART:20071104T020000
RRULE:FREQ=YEARLY;BYMONTH=11;BYDAY=1SU
END:STANDARD
END:VTIMEZONE
BEGIN:VEVENT
DTSTAMP:20260319T192536
DTSTART;TZID=America/Detroit:20260204T150000
DTEND;TZID=America/Detroit:20260204T163000
SUMMARY:Social / Informal Gathering:LGBTea
DESCRIPTION:Sip\, spill\, or just chill—we're taking a break! Bookmark your spot\, close that laptop\, and join us at Spectrum Center for some LGBTea. Relax with some tabletop and Switch games\, activities\, community\, and more. Then leave recharged and ready to take on the rest of your day. Your body and mind will thank you later.\n\n- February 4\, 3:00-4:30 pm\, Spectrum Center\n- March 10\, 12:00-2:00 pm\, Trotter Multicultural Center [LGBTea x CommuniTea]\n- April 22\, 3:00-4:30 pm\, Spectrum Center x GILE x UCC\n\nMORE SPECTRUM CENTER EVENTS\nhttps://spectrumcenter.umich.edu/events
UID:142547-21891140@events.umich.edu
URL:https://events.umich.edu/event/142547
CLASS:PUBLIC
STATUS:CONFIRMED
CATEGORIES:LGBT
LOCATION:Michigan Union - Spectrum Center (3020)
CONTACT:
END:VEVENT
END:VCALENDAR