BEGIN:VCALENDAR
VERSION:2.0
PRODID:-//UM//UM*Events//EN
CALSCALE:GREGORIAN
BEGIN:VTIMEZONE
TZID:America/Detroit
TZURL:http://tzurl.org/zoneinfo/America/Detroit
X-LIC-LOCATION:America/Detroit
BEGIN:DAYLIGHT
TZOFFSETFROM:-0500
TZOFFSETTO:-0400
TZNAME:EDT
DTSTART:20070311T020000
RRULE:FREQ=YEARLY;BYMONTH=3;BYDAY=2SU
END:DAYLIGHT
BEGIN:STANDARD
TZOFFSETFROM:-0400
TZOFFSETTO:-0500
TZNAME:EST
DTSTART:20071104T020000
RRULE:FREQ=YEARLY;BYMONTH=11;BYDAY=1SU
END:STANDARD
END:VTIMEZONE
BEGIN:VEVENT
DTSTAMP:20251217T133648
DTSTART;TZID=America/Detroit:20260423T200000
SUMMARY:Performance:Ana Popovic
DESCRIPTION:\"one helluva guitar player.\" –Bruce Springsteen\n\nLos Angeles-based and critically acclaimed guitarist and singer Ana Popovic released her highly anticipated album Dance To The Rhythm (Electric Heel Records) in September 2025. Produced by Popovic and Buthel\, the album showcases a groundbreaking fusion of groove\, blues\, funk\, and soul. Building on the success of her previous work\, Dance To The Rhythm pushes boundaries\, seamlessly blending infectious dance grooves with raw blues guitar and powerful lyrics.\n\nFor Ana\, blues guitar is the foundation of everything in her music. Yet\, she masterfully blends genres\, effortlessly shifting from blues to dance\, jam band\, funk\, pop\, and even gospel—it's all part of her evolving sound. A true pioneer\, Ana combines her blues guitar roots with bold experimentation\, redefining the intersection of blues and dance music.\n\nA multi-award-winning artist\, Popovic has earned recognition from major outlets and industry figures\, including Bruce Springsteen\, who called her \"one helluva guitar player.\" She’s been nominated for seven Blues Music Awards\, and her latest album POWER hit #1 on the Billboard Blues Chart. Ana has shared stages with legends such as B.B. King\, Joe Bonamassa\, Warren Haynes\, Robert Plant\, and Gary Clark Jr.\, and is an endorsee of Fender\, D'Angelico\, Jim Dunlop\, and DR Strings. Popovic's commitment to her craft and fearless boundary-pushing ensures she remains one of the most dynamic forces in contemporary blues and beyond.
UID:142824-21891716@events.umich.edu
URL:https://events.umich.edu/event/142824
CLASS:PUBLIC
STATUS:CONFIRMED
CATEGORIES:Ark,Mutotix
LOCATION:ARK Reserved
CONTACT:
END:VEVENT
END:VCALENDAR