BEGIN:VCALENDAR
VERSION:2.0
PRODID:-//UM//UM*Events//EN
CALSCALE:GREGORIAN
BEGIN:VTIMEZONE
TZID:America/Detroit
TZURL:http://tzurl.org/zoneinfo/America/Detroit
X-LIC-LOCATION:America/Detroit
BEGIN:DAYLIGHT
TZOFFSETFROM:-0500
TZOFFSETTO:-0400
TZNAME:EDT
DTSTART:20070311T020000
RRULE:FREQ=YEARLY;BYMONTH=3;BYDAY=2SU
END:DAYLIGHT
BEGIN:STANDARD
TZOFFSETFROM:-0400
TZOFFSETTO:-0500
TZNAME:EST
DTSTART:20071104T020000
RRULE:FREQ=YEARLY;BYMONTH=11;BYDAY=1SU
END:STANDARD
END:VTIMEZONE
BEGIN:VEVENT
DTSTAMP:20260306T121520
DTSTART;TZID=America/Detroit:20260424T130000
DTEND;TZID=America/Detroit:20260424T200000
SUMMARY:Reception / Open House:Opening Reception: 2026 IP Exhibition
DESCRIPTION:\n\nTangent: The 2026 IP Exhibition features work in a range of media by graduating Senior Integrative Project students at the University of Michigan Stamps School of Art & Design. The senior studio spaces in the Stamps Art & Architecture Building are transformed into exhibition space\, with 4D work featured in a group screening and reel\, and selected projects displayed in the A&A Street Gallery.\n\nOn Friday\, April 24\, join us for the exhibition’s opening reception from 1 — 8 p.m. A screening of student film/video projects will take place in the Art & Architecture Auditorium from 4-5:30 p.m.
UID:143796-21894037@events.umich.edu
URL:https://events.umich.edu/event/143796
CLASS:PUBLIC
STATUS:CONFIRMED
CATEGORIES:Art
LOCATION:Off Campus Location
CONTACT:
END:VEVENT
END:VCALENDAR