BEGIN:VCALENDAR
VERSION:2.0
PRODID:-//UM//UM*Events//EN
CALSCALE:GREGORIAN
BEGIN:VTIMEZONE
TZID:America/Detroit
TZURL:http://tzurl.org/zoneinfo/America/Detroit
X-LIC-LOCATION:America/Detroit
BEGIN:DAYLIGHT
TZOFFSETFROM:-0500
TZOFFSETTO:-0400
TZNAME:EDT
DTSTART:20070311T020000
RRULE:FREQ=YEARLY;BYMONTH=3;BYDAY=2SU
END:DAYLIGHT
BEGIN:STANDARD
TZOFFSETFROM:-0400
TZOFFSETTO:-0500
TZNAME:EST
DTSTART:20071104T020000
RRULE:FREQ=YEARLY;BYMONTH=11;BYDAY=1SU
END:STANDARD
END:VTIMEZONE
BEGIN:VEVENT
DTSTAMP:20260414T105354
DTSTART;TZID=America/Detroit:20260515T080000
DTEND;TZID=America/Detroit:20260515T170000
SUMMARY:Conference / Symposium:Agilent Symposium
DESCRIPTION:View schedule and book of abstracts: https://sites.lsa.umich.edu/asms/schedule/
UID:144039-21894569@events.umich.edu
URL:https://events.umich.edu/event/144039
CLASS:PUBLIC
STATUS:CONFIRMED
CATEGORIES:Analytical Chemistry,Chemistry
LOCATION:Weiser Hall - 10th Floor Event Space
CONTACT:
END:VEVENT
END:VCALENDAR