BEGIN:VCALENDAR
VERSION:2.0
PRODID:-//UM//UM*Events//EN
CALSCALE:GREGORIAN
BEGIN:VTIMEZONE
TZID:America/Detroit
TZURL:http://tzurl.org/zoneinfo/America/Detroit
X-LIC-LOCATION:America/Detroit
BEGIN:DAYLIGHT
TZOFFSETFROM:-0500
TZOFFSETTO:-0400
TZNAME:EDT
DTSTART:20070311T020000
RRULE:FREQ=YEARLY;BYMONTH=3;BYDAY=2SU
END:DAYLIGHT
BEGIN:STANDARD
TZOFFSETFROM:-0400
TZOFFSETTO:-0500
TZNAME:EST
DTSTART:20071104T020000
RRULE:FREQ=YEARLY;BYMONTH=11;BYDAY=1SU
END:STANDARD
END:VTIMEZONE
BEGIN:VEVENT
DTSTAMP:20260406T112623
DTSTART;TZID=America/Detroit:20260219T120000
DTEND;TZID=America/Detroit:20260219T124500
SUMMARY:Tours:Exploring the Reef: Coral Reef Sustainability Tour
DESCRIPTION:Learn about coral reefs and how these unique ecosystems have a crucial role in supporting our planet. U-M researcher Dr. Bardwell will lead a tour of his coral reef tanks and share how sustainability and coral reefs are intertwined. Participants will have the opportunity to get a close-up look at coral reefs and discover the intricate lives of the creatures who live here.\n\nWe will be meeting at the BSB West Atrium before traveling to Dr. Bardwell’s office together. Swipe access is required to access the coral reefs\, so please arrive on time to ensure you can join us for the tour.\n\nThe event is free and open to any U-M community member\, but registration is required. Space is limited for this program\, so please only sign up for one of the tours. Please email pba-information@umich.edu with questions or if you are no longer able to join this event after registering.
UID:144148-21894726@events.umich.edu
URL:https://events.umich.edu/event/144148
CLASS:PUBLIC
STATUS:CONFIRMED
CATEGORIES:Ecology,Education,Environment,environmental,environmental education,Free,In Person,Museum,museums,Nature,planet blue,Science,Sustainability
LOCATION:Biological Sciences Building - Meet at West Atrium Lobby
CONTACT:
END:VEVENT
END:VCALENDAR