BEGIN:VCALENDAR
VERSION:2.0
PRODID:-//UM//UM*Events//EN
CALSCALE:GREGORIAN
BEGIN:VTIMEZONE
TZID:America/Detroit
TZURL:http://tzurl.org/zoneinfo/America/Detroit
X-LIC-LOCATION:America/Detroit
BEGIN:DAYLIGHT
TZOFFSETFROM:-0500
TZOFFSETTO:-0400
TZNAME:EDT
DTSTART:20070311T020000
RRULE:FREQ=YEARLY;BYMONTH=3;BYDAY=2SU
END:DAYLIGHT
BEGIN:STANDARD
TZOFFSETFROM:-0400
TZOFFSETTO:-0500
TZNAME:EST
DTSTART:20071104T020000
RRULE:FREQ=YEARLY;BYMONTH=11;BYDAY=1SU
END:STANDARD
END:VTIMEZONE
BEGIN:VEVENT
DTSTAMP:20260420T202036
DTSTART;TZID=America/Detroit:20260429T130000
DTEND;TZID=America/Detroit:20260429T140000
SUMMARY:Workshop / Seminar:MADS Placement Process Explained
DESCRIPTION:Are you trying to figure out which placement test might be right for you? Would you like to know more about what you can expect in your placement interview?\nInterviewer Anna Vento\, and MADS Admissions & Recruitment coordinator Kelly Barger co-lead an in-depth review of the standard and advanced standing placement test procedure\, advanced interview process\, and hold a live Q&A at the end. Please join us to get your questions answered\, and benefit from the curiosity of like-minded peers!
UID:144381-21901594@events.umich.edu
URL:https://events.umich.edu/event/144381
CLASS:PUBLIC
STATUS:CONFIRMED
CATEGORIES:Sessions
LOCATION:Zoom
CONTACT:
END:VEVENT
END:VCALENDAR