BEGIN:VCALENDAR
VERSION:2.0
PRODID:-//UM//UM*Events//EN
CALSCALE:GREGORIAN
BEGIN:VTIMEZONE
TZID:America/Detroit
TZURL:http://tzurl.org/zoneinfo/America/Detroit
X-LIC-LOCATION:America/Detroit
BEGIN:DAYLIGHT
TZOFFSETFROM:-0500
TZOFFSETTO:-0400
TZNAME:EDT
DTSTART:20070311T020000
RRULE:FREQ=YEARLY;BYMONTH=3;BYDAY=2SU
END:DAYLIGHT
BEGIN:STANDARD
TZOFFSETFROM:-0400
TZOFFSETTO:-0500
TZNAME:EST
DTSTART:20071104T020000
RRULE:FREQ=YEARLY;BYMONTH=11;BYDAY=1SU
END:STANDARD
END:VTIMEZONE
BEGIN:VEVENT
DTSTAMP:20260407T085603
DTSTART;TZID=America/Detroit:20260603T080000
DTEND;TZID=America/Detroit:20260603T170000
SUMMARY:Conference / Symposium:2026 Byrne Conference on Stochastic Analysis in Finance and Insurance
DESCRIPTION:Attendance is free\, but online registration is required for all attendees who are not speakers. sites.google.com/umich.edu/byrneconference2026\n\nSpeakers \nAgostino Capponi (Columbia University)\nRama Cont (University of Oxford)\nGiorgio Ferrari (Bielefeld University)\nAnran Hu (Columbia University)\nKasper Larsen (Rutgers University)\nMartin Larsson (Carnegie Mellon University)\nJin Ma (University of Southern California)\nAlpar Meszaros (Durham University)\nSergey Nadtochiy (Carnegie Mellon University)\nJustin Sirignano (University of Oxford)\nRenyuan Xu (Stanford University)\nPhillip Yam (Chinese University of Hong Kong)\nThaleia Zariphopoulou (University of Texas at Austin)\nYufei Zhang (Imperial College London)\n\nVenue \nAll the talks will be held in Helmut Stern Auditorium at University of Michigan Museum of Art\, located at 525 S State St\, Ann Arbor\, MI 48109.\n\nOrganizers \nErhan Bayraktar (University of Michigan)\nAsaf Cohen (University of Michigan)\nIbrahim Ekren (University of Michigan)\n\nAcknowledgement\nThis meeting is partially funded by the Department of Mathematics\, Jack Byrne Center for Financial Mathematics and Risk Management\, and Curtis E. Huntington Honorary fund.
UID:144581-21895512@events.umich.edu
URL:https://events.umich.edu/event/144581
CLASS:PUBLIC
STATUS:CONFIRMED
CATEGORIES:conference,In Person,Mathematics,Networking
LOCATION:Museum of Art - Helmut Stern Auditorium
CONTACT:
END:VEVENT
END:VCALENDAR