BEGIN:VCALENDAR
VERSION:2.0
PRODID:-//UM//UM*Events//EN
CALSCALE:GREGORIAN
BEGIN:VTIMEZONE
TZID:America/Detroit
TZURL:http://tzurl.org/zoneinfo/America/Detroit
X-LIC-LOCATION:America/Detroit
BEGIN:DAYLIGHT
TZOFFSETFROM:-0500
TZOFFSETTO:-0400
TZNAME:EDT
DTSTART:20070311T020000
RRULE:FREQ=YEARLY;BYMONTH=3;BYDAY=2SU
END:DAYLIGHT
BEGIN:STANDARD
TZOFFSETFROM:-0400
TZOFFSETTO:-0500
TZNAME:EST
DTSTART:20071104T020000
RRULE:FREQ=YEARLY;BYMONTH=11;BYDAY=1SU
END:STANDARD
END:VTIMEZONE
BEGIN:VEVENT
DTSTAMP:20260127T163436
DTSTART;TZID=America/Detroit:20260501T130000
DTEND;TZID=America/Detroit:20260501T150000
SUMMARY:Ceremony / Service:2026 Philosophy Commencement
DESCRIPTION:Join us in celebrating our graduating undergraduates\nMay 1\, 2026\n1-3 PM
UID:144649-21895637@events.umich.edu
URL:https://events.umich.edu/event/144649
CLASS:PUBLIC
STATUS:CONFIRMED
CATEGORIES:Commencement,Graduation
LOCATION:Off Campus Location - Victors Ballroom
CONTACT:
END:VEVENT
END:VCALENDAR