BEGIN:VCALENDAR
VERSION:2.0
PRODID:-//UM//UM*Events//EN
CALSCALE:GREGORIAN
BEGIN:VTIMEZONE
TZID:America/Detroit
TZURL:http://tzurl.org/zoneinfo/America/Detroit
X-LIC-LOCATION:America/Detroit
BEGIN:DAYLIGHT
TZOFFSETFROM:-0500
TZOFFSETTO:-0400
TZNAME:EDT
DTSTART:20070311T020000
RRULE:FREQ=YEARLY;BYMONTH=3;BYDAY=2SU
END:DAYLIGHT
BEGIN:STANDARD
TZOFFSETFROM:-0400
TZOFFSETTO:-0500
TZNAME:EST
DTSTART:20071104T020000
RRULE:FREQ=YEARLY;BYMONTH=11;BYDAY=1SU
END:STANDARD
END:VTIMEZONE
BEGIN:VEVENT
DTSTAMP:20260204T122728
DTSTART;TZID=America/Detroit:20260425T200000
SUMMARY:Performance:Pajamas
DESCRIPTION:A tapestry of sound - intricate and expansive\n\nIn an era of precision-crafted playlists and algorithmic recommendations\, Pajamas is a refreshing anomaly. Hailing from Ann Arbor\, MI\, Pajamas' style has been described as “exploratory rock\" - a good descriptor for Pajamas’ sound which contains a smorgasbord of influences from across almost the whole canon of American music tradition. This four man group is redefining the live music experience\, standing on the shoulders of giants and crafting performances that are as much about the journey as the destination. \n\nThe band’s rocky overall sound is nuanced\, feeling almost like each song is an interesting\, in-depth conversation between the band and audience. The band's four members - Nicholas Orr\, Graham Low\, Owen Kellenberger\, and Liam Gallegos - weave together a tapestry of sound that is both intricate and expansive. Songs blend seamlessly into one another\, creating a sense of flow and continuity that is all too rare in modern music.\n\nPajamas draws influence from the likes of Pink Floyd\, Phish\, Chick Corea\, Grateful Dead\, Jaco Pastorius\, David Bowie\, Brian Blade\, Radiohead\, Victor Wooten\, Allman Brothers and many others. Since 2018\, Pajamas has played hundreds of shows across the Midwest and beyond. From festivals like Summer Camp and big stages like Frederik Meijer Garden Amphitheater they’ve shared the stage with nationally touring acts including Goose\, Aqueous\, Thornetta Davis\, Karina Rykman and many others.
UID:144667-21895668@events.umich.edu
URL:https://events.umich.edu/event/144667
CLASS:PUBLIC
STATUS:CONFIRMED
CATEGORIES:Ark,Mutotix
LOCATION:ARK Reserved
CONTACT:
END:VEVENT
END:VCALENDAR