BEGIN:VCALENDAR
VERSION:2.0
PRODID:-//UM//UM*Events//EN
CALSCALE:GREGORIAN
BEGIN:VTIMEZONE
TZID:America/Detroit
TZURL:http://tzurl.org/zoneinfo/America/Detroit
X-LIC-LOCATION:America/Detroit
BEGIN:DAYLIGHT
TZOFFSETFROM:-0500
TZOFFSETTO:-0400
TZNAME:EDT
DTSTART:20070311T020000
RRULE:FREQ=YEARLY;BYMONTH=3;BYDAY=2SU
END:DAYLIGHT
BEGIN:STANDARD
TZOFFSETFROM:-0400
TZOFFSETTO:-0500
TZNAME:EST
DTSTART:20071104T020000
RRULE:FREQ=YEARLY;BYMONTH=11;BYDAY=1SU
END:STANDARD
END:VTIMEZONE
BEGIN:VEVENT
DTSTAMP:20260203T130106
DTSTART;TZID=America/Detroit:20260424T160000
DTEND;TZID=America/Detroit:20260424T170000
SUMMARY:Exhibition:A Guided Tour of the U-M Clements Library
DESCRIPTION:Join us to learn more about the history of the Clements Library\, its programs\, and collections. Highlights include Benjamin West's iconic painting \"Death of General Wolfe\,\" a Revolutionary War-era trunk that once housed General Thomas Gage's papers\, and the current exhibit\, “Revolutionary Paine.”\n\nArrive at our North Entrance to check-in for your tour. This entrance is accessible and an elevator is available to move between floors.\n\nWe want to ensure full participation in our events. If an accommodation would promote that\, please let us know.
UID:144975-21896229@events.umich.edu
URL:https://events.umich.edu/event/144975
CLASS:PUBLIC
STATUS:CONFIRMED
CATEGORIES:american history,Americana,Exhibit,history,In Person,libraries,Library,Tour,William L Clements
LOCATION:William Clements Library
CONTACT:
END:VEVENT
END:VCALENDAR