BEGIN:VCALENDAR
VERSION:2.0
PRODID:-//UM//UM*Events//EN
CALSCALE:GREGORIAN
BEGIN:VTIMEZONE
TZID:America/Detroit
TZURL:http://tzurl.org/zoneinfo/America/Detroit
X-LIC-LOCATION:America/Detroit
BEGIN:DAYLIGHT
TZOFFSETFROM:-0500
TZOFFSETTO:-0400
TZNAME:EDT
DTSTART:20070311T020000
RRULE:FREQ=YEARLY;BYMONTH=3;BYDAY=2SU
END:DAYLIGHT
BEGIN:STANDARD
TZOFFSETFROM:-0400
TZOFFSETTO:-0500
TZNAME:EST
DTSTART:20071104T020000
RRULE:FREQ=YEARLY;BYMONTH=11;BYDAY=1SU
END:STANDARD
END:VTIMEZONE
BEGIN:VEVENT
DTSTAMP:20260424T092023
DTSTART;TZID=America/Detroit:20260424T100000
DTEND;TZID=America/Detroit:20260424T130000
SUMMARY:Workshop / Seminar:Rummage RIW
DESCRIPTION:A Rackham Interdisciplinary Workshop focused on the nexus of exhibition\, collection\, curation\, display\, and representation within museums and museum-adjacent spaces. The group’s name\, rummage\, evokes both a materiality and an intellectual practice characteristic of museum studies more broadly. On the one hand\, rummaging has a tactile quality. It gestures to the human role in how objects are placed and misplaced\, organized and disorganized\, thrown into juxtaposition\, and often randomly re-discovered anew by individuals negotiating various value systems associated with objects. It evokes an image of coming to objects of the past with new eyes and curiosity. On the other hand\, rummaging could also be used to describe an intellectual approach. In posing questions about the how and why certain narratives come to be exhibited and interpreted\, we root around historical understandings of heritage and the power dynamics that lead certain narratives to become dominant. This process is guided by curiosity\, a drive to understand\, and a skepticism of ordering systems. Founded in Fall 2023\, this RIW takes the attics\, closets\, and cabinets of exhibition history as a starting point to engage questions relating to those spaces aligned with — or challenging — the International Council of Museums’ broad definition of a museum as an institution “in the service of society that researches\, collects\, conserves\, interprets and exhibits tangible and intangible heritage”.
UID:145293-21901095@events.umich.edu
URL:https://events.umich.edu/event/145293
CLASS:PUBLIC
STATUS:CONFIRMED
CATEGORIES:Sessions
LOCATION:
CONTACT:
END:VEVENT
END:VCALENDAR