BEGIN:VCALENDAR
VERSION:2.0
PRODID:-//UM//UM*Events//EN
CALSCALE:GREGORIAN
BEGIN:VTIMEZONE
TZID:America/Detroit
TZURL:http://tzurl.org/zoneinfo/America/Detroit
X-LIC-LOCATION:America/Detroit
BEGIN:DAYLIGHT
TZOFFSETFROM:-0500
TZOFFSETTO:-0400
TZNAME:EDT
DTSTART:20070311T020000
RRULE:FREQ=YEARLY;BYMONTH=3;BYDAY=2SU
END:DAYLIGHT
BEGIN:STANDARD
TZOFFSETFROM:-0400
TZOFFSETTO:-0500
TZNAME:EST
DTSTART:20071104T020000
RRULE:FREQ=YEARLY;BYMONTH=11;BYDAY=1SU
END:STANDARD
END:VTIMEZONE
BEGIN:VEVENT
DTSTAMP:20260210T092327
DTSTART;TZID=America/Detroit:20260407T190000
DTEND;TZID=America/Detroit:20260407T200000
SUMMARY:Livestream / Virtual:Live Chat with a Lloyd Scholar!
DESCRIPTION:Lloyd Scholars for Writing and the Arts (LSWA) is a diverse living-learning community in Alice Lloyd Hall where students who are passionate about creativity in any form come together through innovative classes and unique extracurricular opportunities to grow as thinkers\, writers\, artists\, and leaders. All academic majors are welcome!\n\nDuring these virtual live chats\, prospective students will meet current LSWA students and leaders who will share their experiences in the program and answer any questions about life in LSWA. Contact lswa@umich.edu to RSVP!\n\nPlease RSVP at least 48 hours before the Live Chat.
UID:145298-21897023@events.umich.edu
URL:https://events.umich.edu/event/145298
CLASS:PUBLIC
STATUS:CONFIRMED
CATEGORIES:Free,Prospective Student,Prospective Undergraduate Students
LOCATION:Off Campus Location
CONTACT:
END:VEVENT
END:VCALENDAR