BEGIN:VCALENDAR
VERSION:2.0
PRODID:-//UM//UM*Events//EN
CALSCALE:GREGORIAN
BEGIN:VTIMEZONE
TZID:America/Detroit
TZURL:http://tzurl.org/zoneinfo/America/Detroit
X-LIC-LOCATION:America/Detroit
BEGIN:DAYLIGHT
TZOFFSETFROM:-0500
TZOFFSETTO:-0400
TZNAME:EDT
DTSTART:20070311T020000
RRULE:FREQ=YEARLY;BYMONTH=3;BYDAY=2SU
END:DAYLIGHT
BEGIN:STANDARD
TZOFFSETFROM:-0400
TZOFFSETTO:-0500
TZNAME:EST
DTSTART:20071104T020000
RRULE:FREQ=YEARLY;BYMONTH=11;BYDAY=1SU
END:STANDARD
END:VTIMEZONE
BEGIN:VEVENT
DTSTAMP:20260218T133638
DTSTART;TZID=America/Detroit:20260424T200000
SUMMARY:Performance:Joshua Grekin
DESCRIPTION:A Benefit for Musician and Artist Prosperity Project\n\nKnown to locals as the founder and director of Ann Arbor’s Grekin School of Music\, composer\, songwriter\, and multi-instrumentalist Joshua Grekin takes the stage with his own unique blend of soulful\, jazzy\, feel-good music. Joined by an all-star band of Detroit-area veterans\, Grekin will perform music spanning four decades as a composer and performer\, including selections from his nine original musicals.\n\nGrekin’s belief that music has the power to heal and bring people together led him to found the nonprofit Musician & Artist Prosperity Project (MAPP). This concert doubles as a fundraiser for MAPP: there will be opportunities to donate at the performance\, and all profits from the evening will benefit the organization.
UID:145640-21897624@events.umich.edu
URL:https://events.umich.edu/event/145640
CLASS:PUBLIC
STATUS:CONFIRMED
CATEGORIES:Ark,Mutotix
LOCATION:ARK Reserved
CONTACT:
END:VEVENT
END:VCALENDAR