BEGIN:VCALENDAR
VERSION:2.0
PRODID:-//UM//UM*Events//EN
CALSCALE:GREGORIAN
BEGIN:VTIMEZONE
TZID:America/Detroit
TZURL:http://tzurl.org/zoneinfo/America/Detroit
X-LIC-LOCATION:America/Detroit
BEGIN:DAYLIGHT
TZOFFSETFROM:-0500
TZOFFSETTO:-0400
TZNAME:EDT
DTSTART:20070311T020000
RRULE:FREQ=YEARLY;BYMONTH=3;BYDAY=2SU
END:DAYLIGHT
BEGIN:STANDARD
TZOFFSETFROM:-0400
TZOFFSETTO:-0500
TZNAME:EST
DTSTART:20071104T020000
RRULE:FREQ=YEARLY;BYMONTH=11;BYDAY=1SU
END:STANDARD
END:VTIMEZONE
BEGIN:VEVENT
DTSTAMP:20260226T120939
DTSTART;TZID=America/Detroit:20260519T160000
DTEND;TZID=America/Detroit:20260519T170000
SUMMARY:Lecture / Discussion:CPOD Winter/Spring 2026 Seminar Series: \"Engineering next-generation intrabodies for monitoring the dynamics of proteins and their modifications in living cells\"
DESCRIPTION:Timothy Stasevich\, Ph.D.\nAssociate Professor\nBiochemistry & Molecular Biology\nColorado State University
UID:145985-21898226@events.umich.edu
URL:https://events.umich.edu/event/145985
CLASS:PUBLIC
STATUS:CONFIRMED
CATEGORIES:Basic Science,Biointerfaces,Biology,biomedical,biomedical engineering,Biosciences,Ecology,Education,Engineering,Free,Graduate School,Graduate Students,human genetics,In Person,Interdisciplinary,Lecture,Life Science,Medicine,Postdoctoral Research Fellows,Public Health,Rackham,Research,Science,seminar,Undergraduate Students
LOCATION:Taubman Biomedical Science Research Building - ABC Seminar Rooms
CONTACT:
END:VEVENT
END:VCALENDAR