BEGIN:VCALENDAR
VERSION:2.0
PRODID:-//UM//UM*Events//EN
CALSCALE:GREGORIAN
BEGIN:VTIMEZONE
TZID:America/Detroit
TZURL:http://tzurl.org/zoneinfo/America/Detroit
X-LIC-LOCATION:America/Detroit
BEGIN:DAYLIGHT
TZOFFSETFROM:-0500
TZOFFSETTO:-0400
TZNAME:EDT
DTSTART:20070311T020000
RRULE:FREQ=YEARLY;BYMONTH=3;BYDAY=2SU
END:DAYLIGHT
BEGIN:STANDARD
TZOFFSETFROM:-0400
TZOFFSETTO:-0500
TZNAME:EST
DTSTART:20071104T020000
RRULE:FREQ=YEARLY;BYMONTH=11;BYDAY=1SU
END:STANDARD
END:VTIMEZONE
BEGIN:VEVENT
DTSTAMP:20260303T130342
DTSTART;TZID=America/Detroit:20260613T200000
SUMMARY:Performance:Jason Carter Band
DESCRIPTION:The award winning fiddler from the Del McCoury Band takes the lead\n\nIn Lloyd\, Kentucky\, on U.S. 23\, there’s a sign on the Country Music Highway dedicated to renowned fiddler Jason Carter. It was placed there because of his other accomplishments—the Grammy awards\, the worldwide tours\, and the many other accolades he’s earned through his music. But for Carter\, joining the legendary names honored on that stretch of highway just might mean the most. \"There's a certain sound that's up there that you just don't hear anywhere else\,\" he says. \"I think that played a big part in how I sound today.\" \n\nTrue to those Kentucky roots\, Carter continues to pour all he has back into bluegrass. For thirty years\, he has been the fiddle player for the Del McCoury Band—the most awarded group in bluegrass history. He’s won three Grammy awards\, including 2018’s “Best Bluegrass Album” with the Travelin’ McCourys\, of which he is a founding member. And he’s taken home five IBMAs for “Fiddle Player of the Year\,” a staggering number that isn’t quite so crazy once you realize just how many bluegrass greats have turned to Carter for collaboration. \n\nAs a fiddler\, Carter has been featured on albums by Steve Earle\, Ricky Skaggs\, Dierks Bentley\, Charlie Daniels\, Vince Gill\, Asleep at the Wheel\, and many more\, all in addition to his tireless touring and recording with Del as well as the Travelin’ McCourys. On Carter’s forthcoming solo album\, Lowdown Hoedown\, listeners may recognize instrumental contributions from such legends as Jerry Douglas or Sam Bush alongside vocals from young trailblazers like Sarah Jarosz or Billy Strings. This time\, though\, Carter is singing lead. \n\nWith Lowdown Hoedown\, Carter shares the fruits of decades’ worth of on-the-road experience\, spectacular musical sensibility\, and genuine excitement for what bluegrass can be.
UID:146106-21898394@events.umich.edu
URL:https://events.umich.edu/event/146106
CLASS:PUBLIC
STATUS:CONFIRMED
CATEGORIES:Ark,Mutotix
LOCATION:ARK Reserved
CONTACT:
END:VEVENT
END:VCALENDAR