BEGIN:VCALENDAR
VERSION:2.0
PRODID:-//UM//UM*Events//EN
CALSCALE:GREGORIAN
BEGIN:VTIMEZONE
TZID:America/Detroit
TZURL:http://tzurl.org/zoneinfo/America/Detroit
X-LIC-LOCATION:America/Detroit
BEGIN:DAYLIGHT
TZOFFSETFROM:-0500
TZOFFSETTO:-0400
TZNAME:EDT
DTSTART:20070311T020000
RRULE:FREQ=YEARLY;BYMONTH=3;BYDAY=2SU
END:DAYLIGHT
BEGIN:STANDARD
TZOFFSETFROM:-0400
TZOFFSETTO:-0500
TZNAME:EST
DTSTART:20071104T020000
RRULE:FREQ=YEARLY;BYMONTH=11;BYDAY=1SU
END:STANDARD
END:VTIMEZONE
BEGIN:VEVENT
DTSTAMP:20260303T124930
DTSTART;TZID=America/Detroit:20260625T200000
SUMMARY:Performance:Handmade Moments
DESCRIPTION:“Glistening with insight and whimsy\, long-simmering with righteous compassion and beauty\, Handmade Moments are a fearless all-weather duo” –Matthew Souzis\, NPR Music Live Sessions\n\nHandmade Moments is a duo based in New Orleans\, LA. Anna Moss and Joel Ludford’s endearing personalities guide us through diverse musical flavors of American music. They serve up ornate instrumentation and simple yet sophisticated songcraft. Their live show offers a memorable mix of intoxicating vocals\, bass clarinet\, saxophone\, sousaphone\, guitar\, upright bass\, and tag team beatboxing.  \n\n\"Moss and Ludford are masters at sneaking heavy messages into lighthearted melodies and arrangements\, Moss’ bass clarinet functioning like a cheerful Trojan Horse to deliver a grim truth to the listener.\" - No Depression
UID:146107-21898395@events.umich.edu
URL:https://events.umich.edu/event/146107
CLASS:PUBLIC
STATUS:CONFIRMED
CATEGORIES:Ark,Mutotix
LOCATION:ARK Reserved
CONTACT:
END:VEVENT
END:VCALENDAR