BEGIN:VCALENDAR
VERSION:2.0
PRODID:-//UM//UM*Events//EN
CALSCALE:GREGORIAN
BEGIN:VTIMEZONE
TZID:America/Detroit
TZURL:http://tzurl.org/zoneinfo/America/Detroit
X-LIC-LOCATION:America/Detroit
BEGIN:DAYLIGHT
TZOFFSETFROM:-0500
TZOFFSETTO:-0400
TZNAME:EDT
DTSTART:20070311T020000
RRULE:FREQ=YEARLY;BYMONTH=3;BYDAY=2SU
END:DAYLIGHT
BEGIN:STANDARD
TZOFFSETFROM:-0400
TZOFFSETTO:-0500
TZNAME:EST
DTSTART:20071104T020000
RRULE:FREQ=YEARLY;BYMONTH=11;BYDAY=1SU
END:STANDARD
END:VTIMEZONE
BEGIN:VEVENT
DTSTAMP:20260303T131156
DTSTART;TZID=America/Detroit:20260815T200000
SUMMARY:Performance:George Bedard
DESCRIPTION:A Tribute to Carl Perkins\n\nIn the 14th annual installation of Bedard’s History of American Music series\, he will feature a tribute to rockabilly great Carl Perkins\, including his classic songs “Honey Don’t”\, “Blue Suede Shoes”\, and “Dixie Fried”.\n \nHe will also explore the year 1963\, from rock’n’roll and surf music to country and R&B. The band will perform music by artists of many genres\, including George Jones\, The Surfaris\, Otis Redding\, Little Johnny Taylor\, and Bob Dylan.
UID:146108-21898396@events.umich.edu
URL:https://events.umich.edu/event/146108
CLASS:PUBLIC
STATUS:CONFIRMED
CATEGORIES:Ark,Mutotix
LOCATION:ARK Reserved
CONTACT:
END:VEVENT
END:VCALENDAR