BEGIN:VCALENDAR
VERSION:2.0
PRODID:-//UM//UM*Events//EN
CALSCALE:GREGORIAN
BEGIN:VTIMEZONE
TZID:America/Detroit
TZURL:http://tzurl.org/zoneinfo/America/Detroit
X-LIC-LOCATION:America/Detroit
BEGIN:DAYLIGHT
TZOFFSETFROM:-0500
TZOFFSETTO:-0400
TZNAME:EDT
DTSTART:20070311T020000
RRULE:FREQ=YEARLY;BYMONTH=3;BYDAY=2SU
END:DAYLIGHT
BEGIN:STANDARD
TZOFFSETFROM:-0400
TZOFFSETTO:-0500
TZNAME:EST
DTSTART:20071104T020000
RRULE:FREQ=YEARLY;BYMONTH=11;BYDAY=1SU
END:STANDARD
END:VTIMEZONE
BEGIN:VEVENT
DTSTAMP:20260303T124712
DTSTART;TZID=America/Detroit:20261003T200000
SUMMARY:Performance:Susan Werner
DESCRIPTION:“Vulnerability has rarely been so witty or concise in modern song.” –Boston Herald\n\nOver the course of her twenty five year career\, Susan Werner has earned a reputation as “one of the most innovative songwriters working today” (Chicago Tribune). With formidable chops on guitar (she began playing at age 5) and piano (she was a guest on Marian McPartland’s Piano Jazz)\, along with a graduate degree in voice performance\, her shows are a one-woman master class in musicianship. Although best known as an acoustic songwriter that came up through coffeehouses and folk festivals\, the Chicago-based artist has written songs in the style of Gershwin and Cole Porter (I Can’t Be New\, 2004)\, gospel music (The Gospel Truth\, 2007)\, traditional Cuban “son” (An American In Havana\, 2016)\, and New Orleans junk piano (NOLA\, 2019). In 2014 she composed the music and lyrics to the musical theater score Bull Durham\, The Musical (MGM). Her songs have been recorded by Tom Jones\, Michael Feinstein\, and Shemekia Copeland\, and her latest recording of originals\, The Birds of Florida\, took flight in 2022.
UID:146112-21898400@events.umich.edu
URL:https://events.umich.edu/event/146112
CLASS:PUBLIC
STATUS:CONFIRMED
CATEGORIES:Ark,Mutotix
LOCATION:ARK Reserved + Gold Circle
CONTACT:
END:VEVENT
END:VCALENDAR