BEGIN:VCALENDAR
VERSION:2.0
PRODID:-//UM//UM*Events//EN
CALSCALE:GREGORIAN
BEGIN:VTIMEZONE
TZID:America/Detroit
TZURL:http://tzurl.org/zoneinfo/America/Detroit
X-LIC-LOCATION:America/Detroit
BEGIN:DAYLIGHT
TZOFFSETFROM:-0500
TZOFFSETTO:-0400
TZNAME:EDT
DTSTART:20070311T020000
RRULE:FREQ=YEARLY;BYMONTH=3;BYDAY=2SU
END:DAYLIGHT
BEGIN:STANDARD
TZOFFSETFROM:-0400
TZOFFSETTO:-0500
TZNAME:EST
DTSTART:20071104T020000
RRULE:FREQ=YEARLY;BYMONTH=11;BYDAY=1SU
END:STANDARD
END:VTIMEZONE
BEGIN:VEVENT
DTSTAMP:20260304T052854
DTSTART;TZID=America/Detroit:20260502T123000
DTEND;TZID=America/Detroit:20260502T150000
SUMMARY:Social / Informal Gathering:LSA 2026 Graduation Celebration
DESCRIPTION:Graduates and their guests are invited to this casual\, open-house celebration honoring the LSA Class of 2026 following the university-wide Spring Commencement Ceremony at Michigan Stadium. Join us for light refreshments\, photo stations\, swag\, and more! LSA Dean Rosie Ceballo will also be in attendance to congratulate and mingle with graduates.\n\nFor event information and to reserve your spot\, please visit: https://myumi.ch/qZdqd\nGraduates must register themselves and all guests. U-M login required.\n\nVisit the LSA Graduation Celebration webpage for more information.\nQuestions? lsa.uged.events@umich.edu\n\nNote: In addition\, many LSA Major/Minor departments and units host their own commencement activities. Please contact the respective departments and units for information on those activities.
UID:146160-21898606@events.umich.edu
URL:https://events.umich.edu/event/146160
CLASS:PUBLIC
STATUS:CONFIRMED
CATEGORIES:Celebration,Family,Food,Free,Games,Graduation,Picnic,Social,Undergraduate
LOCATION:LSA Building - Atrium
CONTACT:
END:VEVENT
END:VCALENDAR