BEGIN:VCALENDAR
VERSION:2.0
PRODID:-//UM//UM*Events//EN
CALSCALE:GREGORIAN
BEGIN:VTIMEZONE
TZID:America/Detroit
TZURL:http://tzurl.org/zoneinfo/America/Detroit
X-LIC-LOCATION:America/Detroit
BEGIN:DAYLIGHT
TZOFFSETFROM:-0500
TZOFFSETTO:-0400
TZNAME:EDT
DTSTART:20070311T020000
RRULE:FREQ=YEARLY;BYMONTH=3;BYDAY=2SU
END:DAYLIGHT
BEGIN:STANDARD
TZOFFSETFROM:-0400
TZOFFSETTO:-0500
TZNAME:EST
DTSTART:20071104T020000
RRULE:FREQ=YEARLY;BYMONTH=11;BYDAY=1SU
END:STANDARD
END:VTIMEZONE
BEGIN:VEVENT
DTSTAMP:20260306T132318
DTSTART;TZID=America/Detroit:20260622T200000
SUMMARY:Performance:Hot 8 Brass Band
DESCRIPTION:“Swells with swaggering jazz\, raucous funk\, second line strut and hip-hop attitude… irresistible” –MOJO\n\nDrawing on the traditional jazz heritage of their hometown of New Orleans\, the Hot 8 Brass Band are renowned for including elements of funk\, hip hop\, rap\, and its local variation\, “bounce” in their music. The collective earned a win in the 64th Annual Grammy Awards 2022 for their feature on John Batiste’s ‘Album of The Year'\, following the nomination of their ‘The Life & Times Of…’ LP for ‘Best Regional Roots Album’ in 2013.\n\nTranscending genres and trends\, Hot 8 have performed and collaborated with the likes of Jon Batiste\, Blind Boys of Alabama\, Basement Jaxx and Alice Russell\, and provided live support for Mos Def\, Lauryn Hill and Mary J Blige. Since forming they have established a decade-long affiliation with actor/BBC 6Music DJ Craig Charles\, among other tastemakers\, DJs and journalists worldwide. After a festive appearance Live at Maida Vale for Lauren Laverne (BBC 6 Music)\, the Hot 8 Brass Band performed for Jools Holland's annual Hootenanny on BBC Two to welcome in 2019. Later that year\, after taking to the stage at the BRIT awards in February\, Hot 8 Brass Band were invited on the European leg of George Ezra’s tour.
UID:146225-21898680@events.umich.edu
URL:https://events.umich.edu/event/146225
CLASS:PUBLIC
STATUS:CONFIRMED
CATEGORIES:Ark,Mutotix
LOCATION:ARK Reserved
CONTACT:
END:VEVENT
END:VCALENDAR