BEGIN:VCALENDAR
VERSION:2.0
PRODID:-//UM//UM*Events//EN
CALSCALE:GREGORIAN
BEGIN:VTIMEZONE
TZID:America/Detroit
TZURL:http://tzurl.org/zoneinfo/America/Detroit
X-LIC-LOCATION:America/Detroit
BEGIN:DAYLIGHT
TZOFFSETFROM:-0500
TZOFFSETTO:-0400
TZNAME:EDT
DTSTART:20070311T020000
RRULE:FREQ=YEARLY;BYMONTH=3;BYDAY=2SU
END:DAYLIGHT
BEGIN:STANDARD
TZOFFSETFROM:-0400
TZOFFSETTO:-0500
TZNAME:EST
DTSTART:20071104T020000
RRULE:FREQ=YEARLY;BYMONTH=11;BYDAY=1SU
END:STANDARD
END:VTIMEZONE
BEGIN:VEVENT
DTSTAMP:20260410T093853
DTSTART;TZID=America/Detroit:20260422T120000
DTEND;TZID=America/Detroit:20260422T140000
SUMMARY:Workshop / Seminar:University Career Center Clothes Closet 10th Birthday Party
DESCRIPTION:University Career Center (UCC) Clothes Closet Turns 10 Years Old - Let’s Celebrate in Style! ✨\n\nThe UCC Clothes Closet is celebrating a decade of helping students build their brand\, and we want you there.\n\nWe’re officially double digits! Join us for the Clothes Closet 10th Birthday Party & Open House - a two-hour celebration full of fashion\, fun\, and free treats.\n\nStop by our 10th Birthday Party Open House for:\n• 🧥 A chance to  donate an Item/bring Blazers to fill a Rack\n• 🎡 Spin-the-wheel Games & Clothes Closet Trivia\n• 🧵 DIY + Art Activities\n• 🎂 Birthday Cake & Sweet Savory treats\n• 🎁 Fun swag to remember the day\n• 🏠 Renovation reveal + a look back at 10 years of impact\n• 📸 Fashion photoshoot (yes\, you’re the star)\n\nBring a friend. Leave with photos\, snacks\, and a little extra confidence.
UID:146250-21898718@events.umich.edu
URL:https://events.umich.edu/event/146250
CLASS:PUBLIC
STATUS:CONFIRMED
CATEGORIES:Sessions
LOCATION:University Career Center
CONTACT:
END:VEVENT
END:VCALENDAR