BEGIN:VCALENDAR
VERSION:2.0
PRODID:-//UM//UM*Events//EN
CALSCALE:GREGORIAN
BEGIN:VTIMEZONE
TZID:America/Detroit
TZURL:http://tzurl.org/zoneinfo/America/Detroit
X-LIC-LOCATION:America/Detroit
BEGIN:DAYLIGHT
TZOFFSETFROM:-0500
TZOFFSETTO:-0400
TZNAME:EDT
DTSTART:20070311T020000
RRULE:FREQ=YEARLY;BYMONTH=3;BYDAY=2SU
END:DAYLIGHT
BEGIN:STANDARD
TZOFFSETFROM:-0400
TZOFFSETTO:-0500
TZNAME:EST
DTSTART:20071104T020000
RRULE:FREQ=YEARLY;BYMONTH=11;BYDAY=1SU
END:STANDARD
END:VTIMEZONE
BEGIN:VEVENT
DTSTAMP:20260306T121521
DTSTART;TZID=America/Detroit:20260424T160000
DTEND;TZID=America/Detroit:20260424T173000
SUMMARY:Film Screening:Screening: The 2026 IP Exhibition
DESCRIPTION:\n\nTangent: The 2026 IP Exhibition features work in a range of media by graduating Stamps Senior Integrative Project students at the University of Michigan Stamps School of Art & Design.\n\nJoin us for screenings of time-based student work in the Art & Architecture Auditorium:\n\nFriday\, April 24\, 4-5:30 p.m.\nFriday\, May 1\, 4-5:30 p.m.
UID:146260-21898730@events.umich.edu
URL:https://events.umich.edu/event/146260
CLASS:PUBLIC
STATUS:CONFIRMED
CATEGORIES:Art
LOCATION:Off Campus Location
CONTACT:
END:VEVENT
END:VCALENDAR